PDS_VERSION_ID = PDS3
/* FILE DATA ELEMENTS */
RECORD_TYPE = UNDEFINED
/* POINTERS TO DATA OBJECTS */
^IMAGE = ("H0010_0110_SR4.TIF")
/* IDENTIFICATION DATA ELEMENTS */
DATA_SET_ID = "MEX-M-HRSC-4-REFDR-MAPPROJECT-V4.0"
DATA_SET_NAME = "MARS EXPRESS HRSC MAP PROJECTED REFDR V4.0"
DETECTOR_ID = MEX_HRSC_SRC
EVENT_TYPE = "MARS-REGIONAL-MAPPING-Vo-Im-Tc"
INSTRUMENT_HOST_ID = MEX
INSTRUMENT_HOST_NAME = "MARS EXPRESS"
INSTRUMENT_ID = HRSC
INSTRUMENT_NAME = "HIGH RESOLUTION STEREO CAMERA"
MISSION_NAME = "MARS EXPRESS"
MISSION_PHASE_NAME = MC_Phase_0
PROCESSING_LEVEL_ID = 4
PRODUCT_CREATION_TIME = 2022-11-22T09:18:20.000Z
PRODUCT_ID = "H0010_0110_SR4.TIF"
RELEASE_ID = 0001
REVISION_ID = 0000
/* QUALITY DATA ELEMENTS */
DATA_QUALITY_ID = 1
DATA_QUALITY_DESC = "Data calculated based on original SPICE kernels"
/* TIME DATA ELEMENTS */
SPACECRAFT_CLOCK_START_COUNT = "1/0021823325.32303"
SPACECRAFT_CLOCK_STOP_COUNT = "1/0021823574.56834"
IMAGE_TIME = 2004-01-10T14:04:27.203Z
START_TIME = 2004-01-10T14:04:27.201Z
STOP_TIME = 2004-01-10T14:04:27.204Z
/* ORBITAL DATA ELEMENTS */
ASCENDING_NODE_LONGITUDE = 228.73
MAXIMUM_RESOLUTION = 0.002513
FOOTPRINT_POINT_LATITUDE = (0.0293264,0.0310218,0.0327595, 0.0347516,0.0369132,0.0382695,0.0402192 ,0.0418298,0.0442033,0.0470431, 0.0484842,0.0503491,0.0518326,0.0531465 ,0.0545028,0.0565797,0.0579784, 0.0600129,0.0622593,0.0638699,0.0670064 ,0.0692528,0.0719655,0.0720079, 0.0720079,0.0720083,0.0720088,0.0720092 ,0.0720096,0.07201,0.0720105,0.0720109, 0.0720113,0.0720118,0.0720122,0.0720126 ,0.072013,0.0720135,0.0720139,0.0720143 ,0.0720148,0.0720152,0.0720156, 0.0720161,0.0720165,0.0720169,0.0720174 ,0.0720178,0.0720186,0.0720187, 0.0720187,0.069305,0.0672274,0.0642593, 0.0629024,0.0612064,0.0594256,0.0573479 ,0.0556519,0.0533198,0.051751,0.0492069 ,0.0470869,0.0455605,0.0437796, 0.0414052,0.0384796,0.036614,0.0344939, 0.0326283,0.0306779,0.0293635,0.0293211 ,0.0293211,0.0293215,0.0293217, 0.0293219,0.0293221,0.0293223,0.0293225 ,0.0293227,0.0293229,0.0293232, 0.0293234,0.0293236,0.0293238,0.029324, 0.0293242,0.0293244,0.0293246,0.0293248 ,0.0293251,0.0293253,0.0293255, 0.0293257,0.0293259,0.0293261,0.0293263 ,0.0293264,0.0293264)
FOOTPRINT_POINT_LONGITUDE = (90.462,90.462,90.462,90.462,90.462, 90.462,90.462,90.462,90.462,90.462, 90.462,90.462,90.462,90.462,90.462, 90.462,90.462,90.462,90.462,90.462, 90.462,90.462,90.462,90.462,90.4621, 90.4638,90.4655,90.4672,90.4689,90.4706 ,90.4722,90.4739,90.4756,90.4773,90.479 ,90.4807,90.4824,90.4841,90.4858, 90.4875,90.4892,90.4909,90.4926,90.4943 ,90.496,90.4977,90.4994,90.5011,90.5041 ,90.5045,90.5048,90.5048,90.5048, 90.5048,90.5048,90.5048,90.5048,90.5048 ,90.5048,90.5048,90.5048,90.5048, 90.5048,90.5048,90.5048,90.5048,90.5048 ,90.5048,90.5048,90.5048,90.5048, 90.5048,90.5048,90.5047,90.5017,90.5, 90.4983,90.4966,90.4949,90.4932,90.4916 ,90.4899,90.4882,90.4865,90.4848, 90.4831,90.4814,90.4797,90.478,90.4763, 90.4746,90.4729,90.4712,90.4695,90.4678 ,90.4661,90.4644,90.4627,90.4623, 90.462)
ORBIT_NUMBER = 10
ORBITAL_ECCENTRICITY = 0.717
ORBITAL_INCLINATION = 86.63
ORBITAL_SEMIMAJOR_AXIS = 12956.1
PERIAPSIS_ALTITUDE = 274.15
PERIAPSIS_ARGUMENT_ANGLE = 357.88
PERIAPSIS_TIME = 2004-01-10T14:03:56.000Z
SPACECRAFT_ORIENTATION = (0.0,1.0,0.0)
^MEX_ORIENTATION_DESC = "MEX_ORIENTATION_DESC.TXT"
SPACECRAFT_POINTING_MODE = NADIR
^MEX_POINTING_DESC = "MEX_POINTING_DESC.TXT"
RIGHT_ASCENSION = -1e+32
DECLINATION = -1e+32
OFFSET_ANGLE = -1e+32
SPACECRAFT_SOLAR_DISTANCE = 2.22398e+08
TARGET_NAME = MARS
/* CAMERA DATA ELEMENTS */
BUFFER_MODE_ID = DIRECT
EXPOSURE_DURATION = 3.024
INST_CMPRS_NAME = "DISCRETE COSINE TRANSFORMATION (DCT)"
INST_CMPRS_RATIO = 14.7147
INST_CMPRS_QUALITY = 0
INST_CMPRS_QUANTZ_TBL_ID = 0
INSTRUMENT_TEMPERATURE = 17.2727
MISSING_FRAMES = 0
START_BIT = 0
/* RADIOMETRIC DATA ELEMENTS */
BANDWIDTH = 250.0
CENTER_FILTER_WAVELENGTH = 600.0
RADIANCE_OFFSET = -9.99e+31
RADIANCE_SCALING_FACTOR = -9.99e+31
REFLECTANCE_SCALING_FACTOR = -9.99e+31
MEX:REFLECTANCE_OFFSET = -9.99e+31
/* IMAGE OBJECT DEFINITIONS */
OBJECT = IMAGE
  INTERCHANGE_FORMAT = BINARY
  LINES = 1053
  LINE_SAMPLES = 1054
  SAMPLE_TYPE = UNSIGNED_INTEGER
  SAMPLE_BITS = 8
  BANDS = 1
  BAND_STORAGE_TYPE = BAND_SEQUENTIAL
  MAXIMUM = 236
  MEAN = 98.7035
  MINIMUM = 6
  STANDARD_DEVIATION = 14.2246
END_OBJECT = IMAGE
/* MAP OBJECT DEFINITIONS */
OBJECT = IMAGE_MAP_PROJECTION
  ^DATA_SET_MAP_PROJECTION_CATALOG= "DSMAP.CAT"
  A_AXIS_RADIUS = 3396.19
  B_AXIS_RADIUS = 3396.19
  C_AXIS_RADIUS = 3396.19
  CENTER_LATITUDE = 0.0
  CENTER_LONGITUDE = 90.0
  COORDINATE_SYSTEM_NAME = PLANETOGRAPHIC
  COORDINATE_SYSTEM_TYPE = "BODY-FIXED ROTATING"
  EASTERNMOST_LONGITUDE = 90.5048
  FIRST_STANDARD_PARALLEL = "N/A"
  LINE_FIRST_PIXEL = 1
  LINE_LAST_PIXEL = 1053
  LINE_PROJECTION_OFFSET = 1727.0
  MAP_PROJECTION_ROTATION = 0.0
  MAP_PROJECTION_TYPE = SINUSOIDAL
  MAP_RESOLUTION = 23709.8786048756
  MAP_SCALE = 0.0025
  MAXIMUM_LATITUDE = 0.072019
  MINIMUM_LATITUDE = 0.029321
  POSITIVE_LONGITUDE_DIRECTION = EAST
  REFERENCE_LATITUDE = "N/A"
  REFERENCE_LONGITUDE = "N/A"
  SAMPLE_FIRST_PIXEL = 1
  SAMPLE_LAST_PIXEL = 1054
  SAMPLE_PROJECTION_OFFSET = -10932.0
  SECOND_STANDARD_PARALLEL = "N/A"
  WESTERNMOST_LONGITUDE = 90.462
END_OBJECT = IMAGE_MAP_PROJECTION
END
