PDS_VERSION_ID = PDS3
/* FILE DATA ELEMENTS */
RECORD_TYPE = UNDEFINED
/* POINTERS TO DATA OBJECTS */
^IMAGE = ("H0010_0108_SR4.TIF")
/* IDENTIFICATION DATA ELEMENTS */
DATA_SET_ID = "MEX-M-HRSC-4-REFDR-MAPPROJECT-V4.0"
DATA_SET_NAME = "MARS EXPRESS HRSC MAP PROJECTED REFDR V4.0"
DETECTOR_ID = MEX_HRSC_SRC
EVENT_TYPE = "MARS-REGIONAL-MAPPING-Vo-Im-Tc"
INSTRUMENT_HOST_ID = MEX
INSTRUMENT_HOST_NAME = "MARS EXPRESS"
INSTRUMENT_ID = HRSC
INSTRUMENT_NAME = "HIGH RESOLUTION STEREO CAMERA"
MISSION_NAME = "MARS EXPRESS"
MISSION_PHASE_NAME = MC_Phase_0
PROCESSING_LEVEL_ID = 4
PRODUCT_CREATION_TIME = 2022-11-22T09:18:20.000Z
PRODUCT_ID = "H0010_0108_SR4.TIF"
RELEASE_ID = 0001
REVISION_ID = 0000
/* QUALITY DATA ELEMENTS */
DATA_QUALITY_ID = 1
DATA_QUALITY_DESC = "Data calculated based on original SPICE kernels"
/* TIME DATA ELEMENTS */
SPACECRAFT_CLOCK_START_COUNT = "1/0021823325.32303"
SPACECRAFT_CLOCK_STOP_COUNT = "1/0021823574.56834"
IMAGE_TIME = 2004-01-10T14:04:26.112Z
START_TIME = 2004-01-10T14:04:26.111Z
STOP_TIME = 2004-01-10T14:04:26.114Z
/* ORBITAL DATA ELEMENTS */
ASCENDING_NODE_LONGITUDE = 228.73
MAXIMUM_RESOLUTION = 0.002512
FOOTPRINT_POINT_LATITUDE = (-0.0467209,-0.0439667,-0.0411701, -0.0387124,-0.0371023,-0.0358311, -0.0334158,-0.0316785,-0.0294751, -0.0278226,-0.0257463,-0.0240514, -0.0215937,-0.0188395,-0.0168055, -0.0142631,-0.0123563,-0.0107885, -0.00909356,-0.00684776,-0.00409346, -0.00405109,-0.00405108,-0.00405065, -0.00405022,-0.00404979,-0.00404936, -0.00404893,-0.0040485,-0.00404807, -0.00404764,-0.0040472,-0.00404677, -0.00404634,-0.00404591,-0.00404547, -0.00404504,-0.00404461,-0.00404417, -0.00404374,-0.00404331,-0.00404287, -0.00404243,-0.004042,-0.00404156, -0.00404113,-0.00404069,-0.00404036, -0.00404025,-0.00404019,-0.00611729, -0.00781288,-0.00929652,-0.0117127, -0.0136203,-0.0163332,-0.0179864, -0.0204873,-0.0236665,-0.0258708, -0.0273544,-0.0297706,-0.0319748, -0.0335432,-0.0354931,-0.0368495, -0.0387994,-0.0413004,-0.0426992, -0.0439285,-0.0466837,-0.0467261, -0.0467261,-0.046726,-0.0467258, -0.0467255,-0.0467253,-0.0467251, -0.0467249,-0.0467247,-0.0467245, -0.0467243,-0.0467241,-0.0467239, -0.0467237,-0.0467235,-0.0467233, -0.046723,-0.0467228,-0.0467226, -0.0467224,-0.0467222,-0.046722, -0.0467218,-0.0467216,-0.0467214, -0.0467212,-0.046721,-0.0467209, -0.0467209)
FOOTPRINT_POINT_LONGITUDE = (90.462,90.462,90.462,90.462,90.462, 90.462,90.462,90.462,90.462,90.462, 90.462,90.462,90.462,90.462,90.462, 90.462,90.462,90.462,90.462,90.462, 90.462,90.462,90.462,90.4637,90.4654, 90.4671,90.4688,90.4705,90.4722,90.4739 ,90.4756,90.4773,90.479,90.4807,90.4824 ,90.4841,90.4858,90.4875,90.4892, 90.4909,90.4926,90.4943,90.496,90.4977, 90.4994,90.5011,90.5027,90.504,90.5044, 90.5047,90.5047,90.5047,90.5047,90.5047 ,90.5047,90.5047,90.5047,90.5047, 90.5047,90.5047,90.5047,90.5047,90.5047 ,90.5047,90.5047,90.5047,90.5047, 90.5047,90.5047,90.5047,90.5047,90.5047 ,90.5047,90.5034,90.5017,90.5,90.4983, 90.4966,90.4949,90.4932,90.4915,90.4898 ,90.4881,90.4864,90.4847,90.483,90.4813 ,90.4796,90.4779,90.4762,90.4745, 90.4728,90.4711,90.4694,90.4678,90.4661 ,90.4644,90.4627,90.4622,90.462)
ORBIT_NUMBER = 10
ORBITAL_ECCENTRICITY = 0.717
ORBITAL_INCLINATION = 86.63
ORBITAL_SEMIMAJOR_AXIS = 12956.1
PERIAPSIS_ALTITUDE = 274.15
PERIAPSIS_ARGUMENT_ANGLE = 357.88
PERIAPSIS_TIME = 2004-01-10T14:03:56.000Z
SPACECRAFT_ORIENTATION = (0.0,1.0,0.0)
^MEX_ORIENTATION_DESC = "MEX_ORIENTATION_DESC.TXT"
SPACECRAFT_POINTING_MODE = NADIR
^MEX_POINTING_DESC = "MEX_POINTING_DESC.TXT"
RIGHT_ASCENSION = -1e+32
DECLINATION = -1e+32
OFFSET_ANGLE = -1e+32
SPACECRAFT_SOLAR_DISTANCE = 2.22398e+08
TARGET_NAME = MARS
/* CAMERA DATA ELEMENTS */
BUFFER_MODE_ID = DIRECT
EXPOSURE_DURATION = 3.024
INST_CMPRS_NAME = "DISCRETE COSINE TRANSFORMATION (DCT)"
INST_CMPRS_RATIO = 14.7373
INST_CMPRS_QUALITY = 0
INST_CMPRS_QUANTZ_TBL_ID = 0
INSTRUMENT_TEMPERATURE = 17.2727
MISSING_FRAMES = 0
START_BIT = 0
/* RADIOMETRIC DATA ELEMENTS */
BANDWIDTH = 250.0
CENTER_FILTER_WAVELENGTH = 600.0
RADIANCE_OFFSET = -9.99e+31
RADIANCE_SCALING_FACTOR = -9.99e+31
REFLECTANCE_SCALING_FACTOR = -9.99e+31
MEX:REFLECTANCE_OFFSET = -9.99e+31
/* IMAGE OBJECT DEFINITIONS */
OBJECT = IMAGE
  INTERCHANGE_FORMAT = BINARY
  LINES = 1052
  LINE_SAMPLES = 1053
  SAMPLE_TYPE = UNSIGNED_INTEGER
  SAMPLE_BITS = 8
  BANDS = 1
  BAND_STORAGE_TYPE = BAND_SEQUENTIAL
  MAXIMUM = 239
  MEAN = 98.4874
  MINIMUM = 2
  STANDARD_DEVIATION = 22.0631
END_OBJECT = IMAGE
/* MAP OBJECT DEFINITIONS */
OBJECT = IMAGE_MAP_PROJECTION
  ^DATA_SET_MAP_PROJECTION_CATALOG= "DSMAP.CAT"
  A_AXIS_RADIUS = 3396.19
  B_AXIS_RADIUS = 3396.19
  C_AXIS_RADIUS = 3396.19
  CENTER_LATITUDE = 0.0
  CENTER_LONGITUDE = 90.0
  COORDINATE_SYSTEM_NAME = PLANETOGRAPHIC
  COORDINATE_SYSTEM_TYPE = "BODY-FIXED ROTATING"
  EASTERNMOST_LONGITUDE = 90.5047
  FIRST_STANDARD_PARALLEL = "N/A"
  LINE_FIRST_PIXEL = 1
  LINE_LAST_PIXEL = 1052
  LINE_PROJECTION_OFFSET = -77.0
  MAP_PROJECTION_ROTATION = 0.0
  MAP_PROJECTION_TYPE = SINUSOIDAL
  MAP_RESOLUTION = 23709.8786048756
  MAP_SCALE = 0.0025
  MAXIMUM_LATITUDE = -0.00404
  MINIMUM_LATITUDE = -0.046726
  POSITIVE_LONGITUDE_DIRECTION = EAST
  REFERENCE_LATITUDE = "N/A"
  REFERENCE_LONGITUDE = "N/A"
  SAMPLE_FIRST_PIXEL = 1
  SAMPLE_LAST_PIXEL = 1053
  SAMPLE_PROJECTION_OFFSET = -10931.0
  SECOND_STANDARD_PARALLEL = "N/A"
  WESTERNMOST_LONGITUDE = 90.462
END_OBJECT = IMAGE_MAP_PROJECTION
END
