PDS_VERSION_ID = PDS3
/* FILE DATA ELEMENTS */
RECORD_TYPE = UNDEFINED
/* POINTERS TO DATA OBJECTS */
^IMAGE = ("H0010_0098_SR4.TIF")
/* IDENTIFICATION DATA ELEMENTS */
DATA_SET_ID = "MEX-M-HRSC-4-REFDR-MAPPROJECT-V4.0"
DATA_SET_NAME = "MARS EXPRESS HRSC MAP PROJECTED REFDR V4.0"
DETECTOR_ID = MEX_HRSC_SRC
EVENT_TYPE = "MARS-REGIONAL-MAPPING-Vo-Im-Tc"
INSTRUMENT_HOST_ID = MEX
INSTRUMENT_HOST_NAME = "MARS EXPRESS"
INSTRUMENT_ID = HRSC
INSTRUMENT_NAME = "HIGH RESOLUTION STEREO CAMERA"
MISSION_NAME = "MARS EXPRESS"
MISSION_PHASE_NAME = MC_Phase_0
PROCESSING_LEVEL_ID = 4
PRODUCT_CREATION_TIME = 2022-11-22T09:18:20.000Z
PRODUCT_ID = "H0010_0098_SR4.TIF"
RELEASE_ID = 0001
REVISION_ID = 0000
/* QUALITY DATA ELEMENTS */
DATA_QUALITY_ID = 1
DATA_QUALITY_DESC = "Data calculated based on original SPICE kernels"
/* TIME DATA ELEMENTS */
SPACECRAFT_CLOCK_START_COUNT = "1/0021823325.32303"
SPACECRAFT_CLOCK_STOP_COUNT = "1/0021823574.56834"
IMAGE_TIME = 2004-01-10T14:03:55.591Z
START_TIME = 2004-01-10T14:03:55.590Z
STOP_TIME = 2004-01-10T14:03:55.593Z
/* ORBITAL DATA ELEMENTS */
ASCENDING_NODE_LONGITUDE = 228.73
MAXIMUM_RESOLUTION = 0.002499
FOOTPRINT_POINT_LATITUDE = (-2.17503,-2.17335,-2.17078,-2.16812, -2.16462,-2.16188,-2.1602,-2.1578, -2.15611,-2.15481,-2.15325,-2.1516, -2.14937,-2.14798,-2.14655,-2.14368, -2.1414,-2.1398,-2.13723,-2.13513, -2.13264,-2.1326,-2.1326,-2.1326, -2.1326,-2.1326,-2.1326,-2.1326,-2.1326 ,-2.13259,-2.13259,-2.13259,-2.13259, -2.13259,-2.13259,-2.13259,-2.13259, -2.13259,-2.13259,-2.13259,-2.13259, -2.13259,-2.13259,-2.13259,-2.13259, -2.13259,-2.13259,-2.13259,-2.13259, -2.13259,-2.13402,-2.13621,-2.13786, -2.13921,-2.14148,-2.14414,-2.1465, -2.1492,-2.15114,-2.15274,-2.154, -2.15603,-2.15893,-2.16058,-2.1629, -2.16463,-2.16694,-2.16842,-2.17145, -2.17356,-2.175,-2.17504,-2.17504, -2.17504,-2.17504,-2.17504,-2.17504, -2.17504,-2.17504,-2.17504,-2.17504, -2.17504,-2.17504,-2.17504,-2.17504, -2.17503,-2.17503,-2.17503,-2.17503, -2.17503,-2.17503,-2.17503,-2.17503, -2.17503,-2.17503,-2.17503,-2.17503, -2.17503,-2.17503,-2.17503)
FOOTPRINT_POINT_LONGITUDE = (90.4605,90.4605,90.4605,90.4605, 90.4605,90.4605,90.4605,90.4605,90.4605 ,90.4605,90.4605,90.4605,90.4605, 90.4605,90.4605,90.4605,90.4605,90.4605 ,90.4605,90.4605,90.4605,90.4605, 90.4605,90.4622,90.4639,90.4656,90.4673 ,90.469,90.4707,90.4724,90.474,90.4757, 90.4774,90.4791,90.4808,90.4825,90.4842 ,90.4859,90.4875,90.4892,90.4909, 90.4926,90.4943,90.496,90.4977,90.4994, 90.5011,90.5023,90.5027,90.503,90.503, 90.503,90.503,90.503,90.503,90.503, 90.503,90.503,90.503,90.503,90.503, 90.503,90.503,90.503,90.503,90.503, 90.503,90.503,90.503,90.503,90.503, 90.503,90.503,90.5017,90.5,90.4983, 90.4966,90.4949,90.4932,90.4916,90.4899 ,90.4882,90.4865,90.4848,90.4831, 90.4814,90.4797,90.478,90.4764,90.4747, 90.473,90.4713,90.4696,90.4679,90.4662, 90.4645,90.4629,90.4612,90.4607, 90.4605)
ORBIT_NUMBER = 10
ORBITAL_ECCENTRICITY = 0.717
ORBITAL_INCLINATION = 86.63
ORBITAL_SEMIMAJOR_AXIS = 12956.1
PERIAPSIS_ALTITUDE = 274.15
PERIAPSIS_ARGUMENT_ANGLE = 357.88
PERIAPSIS_TIME = 2004-01-10T14:03:56.000Z
SPACECRAFT_ORIENTATION = (0.0,1.0,0.0)
^MEX_ORIENTATION_DESC = "MEX_ORIENTATION_DESC.TXT"
SPACECRAFT_POINTING_MODE = NADIR
^MEX_POINTING_DESC = "MEX_POINTING_DESC.TXT"
RIGHT_ASCENSION = -1e+32
DECLINATION = -1e+32
OFFSET_ANGLE = -1e+32
SPACECRAFT_SOLAR_DISTANCE = 2.22398e+08
TARGET_NAME = MARS
/* CAMERA DATA ELEMENTS */
BUFFER_MODE_ID = DIRECT
EXPOSURE_DURATION = 3.024
INST_CMPRS_NAME = "DISCRETE COSINE TRANSFORMATION (DCT)"
INST_CMPRS_RATIO = 15.1211
INST_CMPRS_QUALITY = 0
INST_CMPRS_QUANTZ_TBL_ID = 0
INSTRUMENT_TEMPERATURE = 17.2727
MISSING_FRAMES = 0
START_BIT = 0
/* RADIOMETRIC DATA ELEMENTS */
BANDWIDTH = 250.0
CENTER_FILTER_WAVELENGTH = 600.0
RADIANCE_OFFSET = -9.99e+31
RADIANCE_SCALING_FACTOR = -9.99e+31
REFLECTANCE_SCALING_FACTOR = -9.99e+31
MEX:REFLECTANCE_OFFSET = -9.99e+31
/* IMAGE OBJECT DEFINITIONS */
OBJECT = IMAGE
  INTERCHANGE_FORMAT = BINARY
  LINES = 1047
  LINE_SAMPLES = 1048
  SAMPLE_TYPE = UNSIGNED_INTEGER
  SAMPLE_BITS = 8
  BANDS = 1
  BAND_STORAGE_TYPE = BAND_SEQUENTIAL
  MAXIMUM = 228
  MEAN = 95.7747
  MINIMUM = 7
  STANDARD_DEVIATION = 15.4881
END_OBJECT = IMAGE
/* MAP OBJECT DEFINITIONS */
OBJECT = IMAGE_MAP_PROJECTION
  ^DATA_SET_MAP_PROJECTION_CATALOG= "DSMAP.CAT"
  A_AXIS_RADIUS = 3396.19
  B_AXIS_RADIUS = 3396.19
  C_AXIS_RADIUS = 3396.19
  CENTER_LATITUDE = 0.0
  CENTER_LONGITUDE = 90.0
  COORDINATE_SYSTEM_NAME = PLANETOGRAPHIC
  COORDINATE_SYSTEM_TYPE = "BODY-FIXED ROTATING"
  EASTERNMOST_LONGITUDE = 90.503
  FIRST_STANDARD_PARALLEL = "N/A"
  LINE_FIRST_PIXEL = 1
  LINE_LAST_PIXEL = 1047
  LINE_PROJECTION_OFFSET = -50544.0
  MAP_PROJECTION_ROTATION = 0.0
  MAP_PROJECTION_TYPE = SINUSOIDAL
  MAP_RESOLUTION = 23709.8786048756
  MAP_SCALE = 0.0025
  MAXIMUM_LATITUDE = -2.13259
  MINIMUM_LATITUDE = -2.17504
  POSITIVE_LONGITUDE_DIRECTION = EAST
  REFERENCE_LATITUDE = "N/A"
  REFERENCE_LONGITUDE = "N/A"
  SAMPLE_FIRST_PIXEL = 1
  SAMPLE_LAST_PIXEL = 1048
  SAMPLE_PROJECTION_OFFSET = -10888.0
  SECOND_STANDARD_PARALLEL = "N/A"
  WESTERNMOST_LONGITUDE = 90.4605
END_OBJECT = IMAGE_MAP_PROJECTION
END
