PDS_VERSION_ID = PDS3
/* FILE DATA ELEMENTS */
RECORD_TYPE = UNDEFINED
/* POINTERS TO DATA OBJECTS */
^IMAGE = ("H0010_0076_SR4.TIF")
/* IDENTIFICATION DATA ELEMENTS */
DATA_SET_ID = "MEX-M-HRSC-4-REFDR-MAPPROJECT-V4.0"
DATA_SET_NAME = "MARS EXPRESS HRSC MAP PROJECTED REFDR V4.0"
DETECTOR_ID = MEX_HRSC_SRC
EVENT_TYPE = "MARS-REGIONAL-MAPPING-Vo-Im-Tc"
INSTRUMENT_HOST_ID = MEX
INSTRUMENT_HOST_NAME = "MARS EXPRESS"
INSTRUMENT_ID = HRSC
INSTRUMENT_NAME = "HIGH RESOLUTION STEREO CAMERA"
MISSION_NAME = "MARS EXPRESS"
MISSION_PHASE_NAME = MC_Phase_0
PROCESSING_LEVEL_ID = 4
PRODUCT_CREATION_TIME = 2022-11-22T09:18:20.000Z
PRODUCT_ID = "H0010_0076_SR4.TIF"
RELEASE_ID = 0001
REVISION_ID = 0000
/* QUALITY DATA ELEMENTS */
DATA_QUALITY_ID = 1
DATA_QUALITY_DESC = "Data calculated based on original SPICE kernels"
/* TIME DATA ELEMENTS */
SPACECRAFT_CLOCK_START_COUNT = "1/0021823325.32303"
SPACECRAFT_CLOCK_STOP_COUNT = "1/0021823574.56834"
IMAGE_TIME = 2004-01-10T14:03:43.601Z
START_TIME = 2004-01-10T14:03:43.599Z
STOP_TIME = 2004-01-10T14:03:43.602Z
/* ORBITAL DATA ELEMENTS */
ASCENDING_NODE_LONGITUDE = 228.73
MAXIMUM_RESOLUTION = 0.002507
FOOTPRINT_POINT_LATITUDE = (-3.01135,-3.00944,-3.00763,-3.00505, -3.00356,-3.00187,-2.99929,-2.99747, -2.99494,-2.99324,-2.99147,-2.98952, -2.98745,-2.98461,-2.98267,-2.98017, -2.97827,-2.97561,-2.97336,-2.97197, -2.9688,-2.96875,-2.96875,-2.96875, -2.96875,-2.96875,-2.96875,-2.96875, -2.96875,-2.96875,-2.96875,-2.96875, -2.96875,-2.96875,-2.96875,-2.96875, -2.96875,-2.96875,-2.96875,-2.96875, -2.96875,-2.96875,-2.96875,-2.96874, -2.96874,-2.96874,-2.96874,-2.96874, -2.96874,-2.96874,-2.9709,-2.9723, -2.97429,-2.97623,-2.97801,-2.97936, -2.98089,-2.98338,-2.98656,-2.98922, -2.99142,-2.99303,-2.99439,-2.99697, -2.99836,-3.00095,-3.00323,-3.00607, -3.00814,-3.00958,-3.01131,-3.01135, -3.01135,-3.01135,-3.01135,-3.01135, -3.01135,-3.01135,-3.01135,-3.01135, -3.01135,-3.01135,-3.01135,-3.01135, -3.01135,-3.01135,-3.01135,-3.01135, -3.01135,-3.01135,-3.01135,-3.01135, -3.01135,-3.01135,-3.01135,-3.01135, -3.01135,-3.01135,-3.01135,-3.01135)
FOOTPRINT_POINT_LONGITUDE = (90.4604,90.4604,90.4604,90.4604, 90.4604,90.4604,90.4604,90.4604,90.4604 ,90.4604,90.4604,90.4604,90.4604, 90.4604,90.4604,90.4604,90.4604,90.4604 ,90.4604,90.4604,90.4604,90.4604, 90.4605,90.4622,90.4639,90.4656,90.4673 ,90.4689,90.4706,90.4723,90.474,90.4757 ,90.4774,90.4791,90.4808,90.4825, 90.4842,90.4859,90.4876,90.4893,90.491, 90.4927,90.4944,90.4961,90.4978,90.4995 ,90.5012,90.5024,90.5029,90.5031, 90.5031,90.5031,90.5031,90.5031,90.5031 ,90.5031,90.5031,90.5031,90.5031, 90.5031,90.5031,90.5031,90.5031,90.5031 ,90.5031,90.5031,90.5031,90.5031, 90.5031,90.5031,90.5031,90.5031,90.5031 ,90.5018,90.5001,90.4984,90.4967,90.495 ,90.4933,90.4916,90.4899,90.4882, 90.4865,90.4848,90.4832,90.4815,90.4798 ,90.4781,90.4764,90.4747,90.473,90.4713 ,90.4696,90.4679,90.4662,90.4645, 90.4628,90.4611,90.4607,90.4604)
ORBIT_NUMBER = 10
ORBITAL_ECCENTRICITY = 0.717
ORBITAL_INCLINATION = 86.63
ORBITAL_SEMIMAJOR_AXIS = 12956.1
PERIAPSIS_ALTITUDE = 274.15
PERIAPSIS_ARGUMENT_ANGLE = 357.88
PERIAPSIS_TIME = 2004-01-10T14:03:56.000Z
SPACECRAFT_ORIENTATION = (0.0,1.0,0.0)
^MEX_ORIENTATION_DESC = "MEX_ORIENTATION_DESC.TXT"
SPACECRAFT_POINTING_MODE = NADIR
^MEX_POINTING_DESC = "MEX_POINTING_DESC.TXT"
RIGHT_ASCENSION = -1e+32
DECLINATION = -1e+32
OFFSET_ANGLE = -1e+32
SPACECRAFT_SOLAR_DISTANCE = 2.22398e+08
TARGET_NAME = MARS
/* CAMERA DATA ELEMENTS */
BUFFER_MODE_ID = DIRECT
EXPOSURE_DURATION = 3.024
INST_CMPRS_NAME = "DISCRETE COSINE TRANSFORMATION (DCT)"
INST_CMPRS_RATIO = 15.398
INST_CMPRS_QUALITY = 0
INST_CMPRS_QUANTZ_TBL_ID = 0
INSTRUMENT_TEMPERATURE = 17.2727
MISSING_FRAMES = 0
START_BIT = 0
/* RADIOMETRIC DATA ELEMENTS */
BANDWIDTH = 250.0
CENTER_FILTER_WAVELENGTH = 600.0
RADIANCE_OFFSET = -9.99e+31
RADIANCE_SCALING_FACTOR = -9.99e+31
REFLECTANCE_SCALING_FACTOR = -9.99e+31
MEX:REFLECTANCE_OFFSET = -9.99e+31
/* IMAGE OBJECT DEFINITIONS */
OBJECT = IMAGE
  INTERCHANGE_FORMAT = BINARY
  LINES = 1051
  LINE_SAMPLES = 1052
  SAMPLE_TYPE = UNSIGNED_INTEGER
  SAMPLE_BITS = 8
  BANDS = 1
  BAND_STORAGE_TYPE = BAND_SEQUENTIAL
  MAXIMUM = 245
  MEAN = 114.259
  MINIMUM = 2
  STANDARD_DEVIATION = 13.8495
END_OBJECT = IMAGE
/* MAP OBJECT DEFINITIONS */
OBJECT = IMAGE_MAP_PROJECTION
  ^DATA_SET_MAP_PROJECTION_CATALOG= "DSMAP.CAT"
  A_AXIS_RADIUS = 3396.19
  B_AXIS_RADIUS = 3396.19
  C_AXIS_RADIUS = 3396.19
  CENTER_LATITUDE = 0.0
  CENTER_LONGITUDE = 90.0
  COORDINATE_SYSTEM_NAME = PLANETOGRAPHIC
  COORDINATE_SYSTEM_TYPE = "BODY-FIXED ROTATING"
  EASTERNMOST_LONGITUDE = 90.5031
  FIRST_STANDARD_PARALLEL = "N/A"
  LINE_FIRST_PIXEL = 1
  LINE_LAST_PIXEL = 1051
  LINE_PROJECTION_OFFSET = -70369.0
  MAP_PROJECTION_ROTATION = 0.0
  MAP_PROJECTION_TYPE = SINUSOIDAL
  MAP_RESOLUTION = 23709.8786048756
  MAP_SCALE = 0.0025
  MAXIMUM_LATITUDE = -2.96874
  MINIMUM_LATITUDE = -3.01135
  POSITIVE_LONGITUDE_DIRECTION = EAST
  REFERENCE_LATITUDE = "N/A"
  REFERENCE_LONGITUDE = "N/A"
  SAMPLE_FIRST_PIXEL = 1
  SAMPLE_LAST_PIXEL = 1052
  SAMPLE_PROJECTION_OFFSET = -10880.0
  SECOND_STANDARD_PARALLEL = "N/A"
  WESTERNMOST_LONGITUDE = 90.46040000000001
END_OBJECT = IMAGE_MAP_PROJECTION
END
