PDS_VERSION_ID = PDS3
/* FILE DATA ELEMENTS */
RECORD_TYPE = UNDEFINED
/* POINTERS TO DATA OBJECTS */
^IMAGE = ("H0010_0071_SR4.TIF")
/* IDENTIFICATION DATA ELEMENTS */
DATA_SET_ID = "MEX-M-HRSC-4-REFDR-MAPPROJECT-V4.0"
DATA_SET_NAME = "MARS EXPRESS HRSC MAP PROJECTED REFDR V4.0"
DETECTOR_ID = MEX_HRSC_SRC
EVENT_TYPE = "MARS-REGIONAL-MAPPING-Vo-Im-Tc"
INSTRUMENT_HOST_ID = MEX
INSTRUMENT_HOST_NAME = "MARS EXPRESS"
INSTRUMENT_ID = HRSC
INSTRUMENT_NAME = "HIGH RESOLUTION STEREO CAMERA"
MISSION_NAME = "MARS EXPRESS"
MISSION_PHASE_NAME = MC_Phase_0
PROCESSING_LEVEL_ID = 4
PRODUCT_CREATION_TIME = 2022-11-22T09:18:20.000Z
PRODUCT_ID = "H0010_0071_SR4.TIF"
RELEASE_ID = 0001
REVISION_ID = 0000
/* QUALITY DATA ELEMENTS */
DATA_QUALITY_ID = 1
DATA_QUALITY_DESC = "Data calculated based on original SPICE kernels"
/* TIME DATA ELEMENTS */
SPACECRAFT_CLOCK_START_COUNT = "1/0021823325.32303"
SPACECRAFT_CLOCK_STOP_COUNT = "1/0021823574.56834"
IMAGE_TIME = 2004-01-10T14:03:40.876Z
START_TIME = 2004-01-10T14:03:40.874Z
STOP_TIME = 2004-01-10T14:03:40.877Z
/* ORBITAL DATA ELEMENTS */
ASCENDING_NODE_LONGITUDE = 228.73
MAXIMUM_RESOLUTION = 0.002513
FOOTPRINT_POINT_LATITUDE = (-3.20143,-3.19868,-3.19626,-3.1935, -3.19151,-3.1896,-3.18697,-3.18511, -3.18261,-3.1807,-3.17913,-3.17701, -3.17442,-3.17234,-3.1698,-3.16691, -3.16492,-3.16348,-3.16136,-3.15877, -3.15873,-3.15873,-3.15873,-3.15873, -3.15873,-3.15873,-3.15873,-3.15873, -3.15873,-3.15873,-3.15873,-3.15873, -3.15872,-3.15872,-3.15872,-3.15872, -3.15872,-3.15872,-3.15872,-3.15872, -3.15872,-3.15872,-3.15872,-3.15872, -3.15872,-3.15872,-3.15872,-3.15872, -3.15872,-3.16114,-3.16343,-3.16546, -3.16737,-3.16916,-3.17051,-3.17289, -3.1756,-3.17773,-3.17913,-3.18137, -3.1832,-3.18477,-3.1871,-3.18893, -3.19037,-3.19262,-3.19478,-3.19622, -3.19775,-3.19915,-3.2014,-3.20144, -3.20144,-3.20144,-3.20144,-3.20144, -3.20144,-3.20144,-3.20144,-3.20144, -3.20144,-3.20144,-3.20144,-3.20144, -3.20144,-3.20144,-3.20144,-3.20144, -3.20144,-3.20144,-3.20144,-3.20144, -3.20144,-3.20144,-3.20144,-3.20144, -3.20144,-3.20143,-3.20143,-3.20143)
FOOTPRINT_POINT_LONGITUDE = (90.4607,90.4607,90.4607,90.4607, 90.4607,90.4607,90.4607,90.4607,90.4607 ,90.4607,90.4607,90.4607,90.4607, 90.4607,90.4607,90.4607,90.4607,90.4607 ,90.4607,90.4607,90.4607,90.4607, 90.4624,90.4641,90.4658,90.4675,90.4692 ,90.4709,90.4726,90.4743,90.476,90.4777 ,90.4794,90.4811,90.4828,90.4845, 90.4862,90.4879,90.4896,90.4913,90.493, 90.4947,90.4964,90.4981,90.4998,90.5015 ,90.5028,90.5032,90.5035,90.5035, 90.5035,90.5035,90.5035,90.5035,90.5035 ,90.5035,90.5035,90.5035,90.5035, 90.5035,90.5035,90.5035,90.5035,90.5035 ,90.5035,90.5035,90.5035,90.5035, 90.5035,90.5035,90.5035,90.5035,90.5034 ,90.5022,90.5005,90.4987,90.497,90.4953 ,90.4936,90.4919,90.4902,90.4885, 90.4868,90.4851,90.4834,90.4817,90.48, 90.4783,90.4766,90.4749,90.4732,90.4715 ,90.4698,90.4681,90.4664,90.4647,90.463 ,90.4613,90.4609,90.4607)
ORBIT_NUMBER = 10
ORBITAL_ECCENTRICITY = 0.717
ORBITAL_INCLINATION = 86.63
ORBITAL_SEMIMAJOR_AXIS = 12956.1
PERIAPSIS_ALTITUDE = 274.15
PERIAPSIS_ARGUMENT_ANGLE = 357.88
PERIAPSIS_TIME = 2004-01-10T14:03:56.000Z
SPACECRAFT_ORIENTATION = (0.0,1.0,0.0)
^MEX_ORIENTATION_DESC = "MEX_ORIENTATION_DESC.TXT"
SPACECRAFT_POINTING_MODE = NADIR
^MEX_POINTING_DESC = "MEX_POINTING_DESC.TXT"
RIGHT_ASCENSION = -1e+32
DECLINATION = -1e+32
OFFSET_ANGLE = -1e+32
SPACECRAFT_SOLAR_DISTANCE = 2.22398e+08
TARGET_NAME = MARS
/* CAMERA DATA ELEMENTS */
BUFFER_MODE_ID = DIRECT
EXPOSURE_DURATION = 3.024
INST_CMPRS_NAME = "DISCRETE COSINE TRANSFORMATION (DCT)"
INST_CMPRS_RATIO = 17.2376
INST_CMPRS_QUALITY = 0
INST_CMPRS_QUANTZ_TBL_ID = 0
INSTRUMENT_TEMPERATURE = 17.2727
MISSING_FRAMES = 0
START_BIT = 0
/* RADIOMETRIC DATA ELEMENTS */
BANDWIDTH = 250.0
CENTER_FILTER_WAVELENGTH = 600.0
RADIANCE_OFFSET = -9.99e+31
RADIANCE_SCALING_FACTOR = -9.99e+31
REFLECTANCE_SCALING_FACTOR = -9.99e+31
MEX:REFLECTANCE_OFFSET = -9.99e+31
/* IMAGE OBJECT DEFINITIONS */
OBJECT = IMAGE
  INTERCHANGE_FORMAT = BINARY
  LINES = 1054
  LINE_SAMPLES = 1055
  SAMPLE_TYPE = UNSIGNED_INTEGER
  SAMPLE_BITS = 8
  BANDS = 1
  BAND_STORAGE_TYPE = BAND_SEQUENTIAL
  MAXIMUM = 233
  MEAN = 115.804
  MINIMUM = 1
  STANDARD_DEVIATION = 22.1801
END_OBJECT = IMAGE
/* MAP OBJECT DEFINITIONS */
OBJECT = IMAGE_MAP_PROJECTION
  ^DATA_SET_MAP_PROJECTION_CATALOG= "DSMAP.CAT"
  A_AXIS_RADIUS = 3396.19
  B_AXIS_RADIUS = 3396.19
  C_AXIS_RADIUS = 3396.19
  CENTER_LATITUDE = 0.0
  CENTER_LONGITUDE = 90.0
  COORDINATE_SYSTEM_NAME = PLANETOGRAPHIC
  COORDINATE_SYSTEM_TYPE = "BODY-FIXED ROTATING"
  EASTERNMOST_LONGITUDE = 90.5035
  FIRST_STANDARD_PARALLEL = "N/A"
  LINE_FIRST_PIXEL = 1
  LINE_LAST_PIXEL = 1054
  LINE_PROJECTION_OFFSET = -74873.0
  MAP_PROJECTION_ROTATION = 0.0
  MAP_PROJECTION_TYPE = SINUSOIDAL
  MAP_RESOLUTION = 23709.8786048756
  MAP_SCALE = 0.0025
  MAXIMUM_LATITUDE = -3.15872
  MINIMUM_LATITUDE = -3.20144
  POSITIVE_LONGITUDE_DIRECTION = EAST
  REFERENCE_LATITUDE = "N/A"
  REFERENCE_LONGITUDE = "N/A"
  SAMPLE_FIRST_PIXEL = 1
  SAMPLE_LAST_PIXEL = 1055
  SAMPLE_PROJECTION_OFFSET = -10883.0
  SECOND_STANDARD_PARALLEL = "N/A"
  WESTERNMOST_LONGITUDE = 90.4607
END_OBJECT = IMAGE_MAP_PROJECTION
END
