PDS_VERSION_ID = PDS3
/* FILE DATA ELEMENTS */
RECORD_TYPE = UNDEFINED
/* POINTERS TO DATA OBJECTS */
^IMAGE = ("H0010_0066_SR4.TIF")
/* IDENTIFICATION DATA ELEMENTS */
DATA_SET_ID = "MEX-M-HRSC-4-REFDR-MAPPROJECT-V4.0"
DATA_SET_NAME = "MARS EXPRESS HRSC MAP PROJECTED REFDR V4.0"
DETECTOR_ID = MEX_HRSC_SRC
EVENT_TYPE = "MARS-REGIONAL-MAPPING-Vo-Im-Tc"
INSTRUMENT_HOST_ID = MEX
INSTRUMENT_HOST_NAME = "MARS EXPRESS"
INSTRUMENT_ID = HRSC
INSTRUMENT_NAME = "HIGH RESOLUTION STEREO CAMERA"
MISSION_NAME = "MARS EXPRESS"
MISSION_PHASE_NAME = MC_Phase_0
PROCESSING_LEVEL_ID = 4
PRODUCT_CREATION_TIME = 2022-11-22T09:18:20.000Z
PRODUCT_ID = "H0010_0066_SR4.TIF"
RELEASE_ID = 0001
REVISION_ID = 0000
/* QUALITY DATA ELEMENTS */
DATA_QUALITY_ID = 1
DATA_QUALITY_DESC = "Data calculated based on original SPICE kernels"
/* TIME DATA ELEMENTS */
SPACECRAFT_CLOCK_START_COUNT = "1/0021823325.32303"
SPACECRAFT_CLOCK_STOP_COUNT = "1/0021823574.56834"
IMAGE_TIME = 2004-01-10T14:03:38.151Z
START_TIME = 2004-01-10T14:03:38.149Z
STOP_TIME = 2004-01-10T14:03:38.152Z
/* ORBITAL DATA ELEMENTS */
ASCENDING_NODE_LONGITUDE = 228.73
MAXIMUM_RESOLUTION = 0.002514
FOOTPRINT_POINT_LATITUDE = (-3.39147,-3.38863,-3.38647,-3.38324, -3.38065,-3.37908,-3.37713,-3.3756, -3.37425,-3.37268,-3.37098,-3.36818, -3.36589,-3.36411,-3.36279,-3.36059, -3.35897,-3.35592,-3.35342,-3.35108, -3.34879,-3.34875,-3.34875,-3.34875, -3.34875,-3.34875,-3.34875,-3.34875, -3.34875,-3.34875,-3.34875,-3.34875, -3.34875,-3.34875,-3.34875,-3.34874, -3.34874,-3.34874,-3.34874,-3.34874, -3.34874,-3.34874,-3.34874,-3.34874, -3.34874,-3.34874,-3.34874,-3.34874, -3.34874,-3.34874,-3.35069,-3.35214, -3.35417,-3.35583,-3.35837,-3.36024, -3.36156,-3.36423,-3.36576,-3.36852, -3.37047,-3.37183,-3.37353,-3.37569, -3.37743,-3.37879,-3.38036,-3.38265, -3.38418,-3.38745,-3.38987,-3.39144, -3.39148,-3.39148,-3.39148,-3.39148, -3.39148,-3.39148,-3.39148,-3.39148, -3.39148,-3.39148,-3.39148,-3.39148, -3.39148,-3.39148,-3.39148,-3.39147, -3.39147,-3.39147,-3.39147,-3.39147, -3.39147,-3.39147,-3.39147,-3.39147, -3.39147,-3.39147,-3.39147,-3.39147)
FOOTPRINT_POINT_LONGITUDE = (90.4605,90.4605,90.4605,90.4605, 90.4605,90.4605,90.4605,90.4605,90.4605 ,90.4605,90.4605,90.4605,90.4605, 90.4605,90.4605,90.4605,90.4605,90.4605 ,90.4605,90.4605,90.4605,90.4605, 90.4606,90.4623,90.464,90.4657,90.4674, 90.4691,90.4708,90.4725,90.4742,90.4759 ,90.4776,90.4793,90.481,90.4827,90.4844 ,90.4861,90.4878,90.4895,90.4912, 90.4929,90.4946,90.4963,90.498,90.4997, 90.5014,90.5027,90.5031,90.5034,90.5034 ,90.5034,90.5034,90.5034,90.5034, 90.5034,90.5034,90.5034,90.5034,90.5034 ,90.5034,90.5034,90.5034,90.5034, 90.5034,90.5034,90.5034,90.5034,90.5034 ,90.5034,90.5034,90.5034,90.5034, 90.5033,90.5003,90.4986,90.4969,90.4952 ,90.4935,90.4918,90.4901,90.4884, 90.4867,90.485,90.4833,90.4816,90.4799, 90.4782,90.4765,90.4748,90.4731,90.4714 ,90.4697,90.468,90.4663,90.4646,90.4629 ,90.4612,90.4608,90.4605)
ORBIT_NUMBER = 10
ORBITAL_ECCENTRICITY = 0.717
ORBITAL_INCLINATION = 86.63
ORBITAL_SEMIMAJOR_AXIS = 12956.1
PERIAPSIS_ALTITUDE = 274.15
PERIAPSIS_ARGUMENT_ANGLE = 357.88
PERIAPSIS_TIME = 2004-01-10T14:03:56.000Z
SPACECRAFT_ORIENTATION = (0.0,1.0,0.0)
^MEX_ORIENTATION_DESC = "MEX_ORIENTATION_DESC.TXT"
SPACECRAFT_POINTING_MODE = NADIR
^MEX_POINTING_DESC = "MEX_POINTING_DESC.TXT"
RIGHT_ASCENSION = -1e+32
DECLINATION = -1e+32
OFFSET_ANGLE = -1e+32
SPACECRAFT_SOLAR_DISTANCE = 2.22398e+08
TARGET_NAME = MARS
/* CAMERA DATA ELEMENTS */
BUFFER_MODE_ID = DIRECT
EXPOSURE_DURATION = 3.024
INST_CMPRS_NAME = "DISCRETE COSINE TRANSFORMATION (DCT)"
INST_CMPRS_RATIO = 15.4229
INST_CMPRS_QUALITY = 0
INST_CMPRS_QUANTZ_TBL_ID = 0
INSTRUMENT_TEMPERATURE = 17.2727
MISSING_FRAMES = 0
START_BIT = 0
/* RADIOMETRIC DATA ELEMENTS */
BANDWIDTH = 250.0
CENTER_FILTER_WAVELENGTH = 600.0
RADIANCE_OFFSET = -9.99e+31
RADIANCE_SCALING_FACTOR = -9.99e+31
REFLECTANCE_SCALING_FACTOR = -9.99e+31
MEX:REFLECTANCE_OFFSET = -9.99e+31
/* IMAGE OBJECT DEFINITIONS */
OBJECT = IMAGE
  INTERCHANGE_FORMAT = BINARY
  LINES = 1054
  LINE_SAMPLES = 1055
  SAMPLE_TYPE = UNSIGNED_INTEGER
  SAMPLE_BITS = 8
  BANDS = 1
  BAND_STORAGE_TYPE = BAND_SEQUENTIAL
  MAXIMUM = 241
  MEAN = 95.5822
  MINIMUM = 3
  STANDARD_DEVIATION = 22.6568
END_OBJECT = IMAGE
/* MAP OBJECT DEFINITIONS */
OBJECT = IMAGE_MAP_PROJECTION
  ^DATA_SET_MAP_PROJECTION_CATALOG= "DSMAP.CAT"
  A_AXIS_RADIUS = 3396.19
  B_AXIS_RADIUS = 3396.19
  C_AXIS_RADIUS = 3396.19
  CENTER_LATITUDE = 0.0
  CENTER_LONGITUDE = 90.0
  COORDINATE_SYSTEM_NAME = PLANETOGRAPHIC
  COORDINATE_SYSTEM_TYPE = "BODY-FIXED ROTATING"
  EASTERNMOST_LONGITUDE = 90.5034
  FIRST_STANDARD_PARALLEL = "N/A"
  LINE_FIRST_PIXEL = 1
  LINE_LAST_PIXEL = 1054
  LINE_PROJECTION_OFFSET = -79378.0
  MAP_PROJECTION_ROTATION = 0.0
  MAP_PROJECTION_TYPE = SINUSOIDAL
  MAP_RESOLUTION = 23709.8786048756
  MAP_SCALE = 0.0025
  MAXIMUM_LATITUDE = -3.34874
  MINIMUM_LATITUDE = -3.39148
  POSITIVE_LONGITUDE_DIRECTION = EAST
  REFERENCE_LATITUDE = "N/A"
  REFERENCE_LONGITUDE = "N/A"
  SAMPLE_FIRST_PIXEL = 1
  SAMPLE_LAST_PIXEL = 1055
  SAMPLE_PROJECTION_OFFSET = -10878.0
  SECOND_STANDARD_PARALLEL = "N/A"
  WESTERNMOST_LONGITUDE = 90.4605
END_OBJECT = IMAGE_MAP_PROJECTION
END
