PDS_VERSION_ID = PDS3
/* FILE DATA ELEMENTS */
RECORD_TYPE = UNDEFINED
/* POINTERS TO DATA OBJECTS */
^IMAGE = ("H0010_0053_SR4.TIF")
/* IDENTIFICATION DATA ELEMENTS */
DATA_SET_ID = "MEX-M-HRSC-4-REFDR-MAPPROJECT-V4.0"
DATA_SET_NAME = "MARS EXPRESS HRSC MAP PROJECTED REFDR V4.0"
DETECTOR_ID = MEX_HRSC_SRC
EVENT_TYPE = "MARS-REGIONAL-MAPPING-Vo-Im-Tc"
INSTRUMENT_HOST_ID = MEX
INSTRUMENT_HOST_NAME = "MARS EXPRESS"
INSTRUMENT_ID = HRSC
INSTRUMENT_NAME = "HIGH RESOLUTION STEREO CAMERA"
MISSION_NAME = "MARS EXPRESS"
MISSION_PHASE_NAME = MC_Phase_0
PROCESSING_LEVEL_ID = 4
PRODUCT_CREATION_TIME = 2022-11-22T09:18:20.000Z
PRODUCT_ID = "H0010_0053_SR4.TIF"
RELEASE_ID = 0001
REVISION_ID = 0000
/* QUALITY DATA ELEMENTS */
DATA_QUALITY_ID = 1
DATA_QUALITY_DESC = "Data calculated based on original SPICE kernels"
/* TIME DATA ELEMENTS */
SPACECRAFT_CLOCK_START_COUNT = "1/0021823325.32303"
SPACECRAFT_CLOCK_STOP_COUNT = "1/0021823574.56834"
IMAGE_TIME = 2004-01-10T14:03:31.065Z
START_TIME = 2004-01-10T14:03:31.064Z
STOP_TIME = 2004-01-10T14:03:31.067Z
/* ORBITAL DATA ELEMENTS */
ASCENDING_NODE_LONGITUDE = 228.73
MAXIMUM_RESOLUTION = 0.002503
FOOTPRINT_POINT_LATITUDE = (-3.88546,-3.88314,-3.87985,-3.87808, -3.8755,-3.87398,-3.87166,-3.86917, -3.86562,-3.86305,-3.86069,-3.85891, -3.85609,-3.85398,-3.85267,-3.84971, -3.84781,-3.84655,-3.84452,-3.843, -3.84296,-3.84296,-3.84296,-3.84296, -3.84296,-3.84296,-3.84296,-3.84296, -3.84296,-3.84296,-3.84296,-3.84296, -3.84296,-3.84296,-3.84296,-3.84295, -3.84295,-3.84295,-3.84295,-3.84295, -3.84295,-3.84295,-3.84295,-3.84295, -3.84295,-3.84295,-3.84295,-3.84295, -3.84295,-3.84489,-3.84641,-3.84806, -3.84967,-3.85254,-3.8549,-3.85701, -3.85866,-3.86077,-3.8633,-3.86499, -3.86723,-3.86968,-3.87145,-3.87276, -3.87462,-3.87614,-3.87905,-3.88083, -3.88205,-3.88382,-3.88543,-3.88547, -3.88547,-3.88547,-3.88547,-3.88547, -3.88547,-3.88547,-3.88547,-3.88547, -3.88547,-3.88547,-3.88547,-3.88547, -3.88547,-3.88547,-3.88547,-3.88547, -3.88547,-3.88547,-3.88547,-3.88546, -3.88546,-3.88546,-3.88546,-3.88546, -3.88546,-3.88546,-3.88546,-3.88546)
FOOTPRINT_POINT_LONGITUDE = (90.4592,90.4592,90.4592,90.4592, 90.4592,90.4592,90.4592,90.4592,90.4592 ,90.4592,90.4592,90.4592,90.4592, 90.4592,90.4592,90.4592,90.4592,90.4592 ,90.4592,90.4592,90.4592,90.4592, 90.4609,90.4626,90.4643,90.466,90.4677, 90.4694,90.4711,90.4728,90.4744,90.4761 ,90.4778,90.4795,90.4812,90.4829, 90.4846,90.4863,90.488,90.4897,90.4914, 90.4931,90.4948,90.4965,90.4982,90.4999 ,90.5011,90.5016,90.5018,90.5018, 90.5018,90.5018,90.5018,90.5018,90.5018 ,90.5018,90.5018,90.5018,90.5018, 90.5018,90.5018,90.5018,90.5018,90.5018 ,90.5018,90.5018,90.5018,90.5018, 90.5018,90.5018,90.5018,90.5018,90.5018 ,90.5005,90.4988,90.4971,90.4954, 90.4937,90.492,90.4903,90.4886,90.4869, 90.4852,90.4836,90.4819,90.4802,90.4785 ,90.4768,90.4751,90.4734,90.4717,90.47, 90.4683,90.4666,90.4649,90.4632,90.4615 ,90.4598,90.4594,90.4592)
ORBIT_NUMBER = 10
ORBITAL_ECCENTRICITY = 0.717
ORBITAL_INCLINATION = 86.63
ORBITAL_SEMIMAJOR_AXIS = 12956.1
PERIAPSIS_ALTITUDE = 274.15
PERIAPSIS_ARGUMENT_ANGLE = 357.88
PERIAPSIS_TIME = 2004-01-10T14:03:56.000Z
SPACECRAFT_ORIENTATION = (0.0,1.0,0.0)
^MEX_ORIENTATION_DESC = "MEX_ORIENTATION_DESC.TXT"
SPACECRAFT_POINTING_MODE = NADIR
^MEX_POINTING_DESC = "MEX_POINTING_DESC.TXT"
RIGHT_ASCENSION = -1e+32
DECLINATION = -1e+32
OFFSET_ANGLE = -1e+32
SPACECRAFT_SOLAR_DISTANCE = 2.22398e+08
TARGET_NAME = MARS
/* CAMERA DATA ELEMENTS */
BUFFER_MODE_ID = DIRECT
EXPOSURE_DURATION = 3.024
INST_CMPRS_NAME = "DISCRETE COSINE TRANSFORMATION (DCT)"
INST_CMPRS_RATIO = 15.6607
INST_CMPRS_QUALITY = 0
INST_CMPRS_QUANTZ_TBL_ID = 0
INSTRUMENT_TEMPERATURE = 17.2727
MISSING_FRAMES = 0
START_BIT = 0
/* RADIOMETRIC DATA ELEMENTS */
BANDWIDTH = 250.0
CENTER_FILTER_WAVELENGTH = 600.0
RADIANCE_OFFSET = -9.99e+31
RADIANCE_SCALING_FACTOR = -9.99e+31
REFLECTANCE_SCALING_FACTOR = -9.99e+31
MEX:REFLECTANCE_OFFSET = -9.99e+31
/* IMAGE OBJECT DEFINITIONS */
OBJECT = IMAGE
  INTERCHANGE_FORMAT = BINARY
  LINES = 1049
  LINE_SAMPLES = 1050
  SAMPLE_TYPE = UNSIGNED_INTEGER
  SAMPLE_BITS = 8
  BANDS = 1
  BAND_STORAGE_TYPE = BAND_SEQUENTIAL
  MAXIMUM = 243
  MEAN = 123.316
  MINIMUM = 1
  STANDARD_DEVIATION = 18.9113
END_OBJECT = IMAGE
/* MAP OBJECT DEFINITIONS */
OBJECT = IMAGE_MAP_PROJECTION
  ^DATA_SET_MAP_PROJECTION_CATALOG= "DSMAP.CAT"
  A_AXIS_RADIUS = 3396.19
  B_AXIS_RADIUS = 3396.19
  C_AXIS_RADIUS = 3396.19
  CENTER_LATITUDE = 0.0
  CENTER_LONGITUDE = 90.0
  COORDINATE_SYSTEM_NAME = PLANETOGRAPHIC
  COORDINATE_SYSTEM_TYPE = "BODY-FIXED ROTATING"
  EASTERNMOST_LONGITUDE = 90.5018
  FIRST_STANDARD_PARALLEL = "N/A"
  LINE_FIRST_PIXEL = 1
  LINE_LAST_PIXEL = 1049
  LINE_PROJECTION_OFFSET = -91096.0
  MAP_PROJECTION_ROTATION = 0.0
  MAP_PROJECTION_TYPE = SINUSOIDAL
  MAP_RESOLUTION = 23709.8786048756
  MAP_SCALE = 0.0025
  MAXIMUM_LATITUDE = -3.84295
  MINIMUM_LATITUDE = -3.88547
  POSITIVE_LONGITUDE_DIRECTION = EAST
  REFERENCE_LATITUDE = "N/A"
  REFERENCE_LONGITUDE = "N/A"
  SAMPLE_FIRST_PIXEL = 1
  SAMPLE_LAST_PIXEL = 1050
  SAMPLE_PROJECTION_OFFSET = -10840.0
  SECOND_STANDARD_PARALLEL = "N/A"
  WESTERNMOST_LONGITUDE = 90.4592
END_OBJECT = IMAGE_MAP_PROJECTION
END
