PDS_VERSION_ID = PDS3
/* FILE DATA ELEMENTS */
RECORD_TYPE = UNDEFINED
/* POINTERS TO DATA OBJECTS */
^IMAGE = ("H0010_0048_SR4.TIF")
/* IDENTIFICATION DATA ELEMENTS */
DATA_SET_ID = "MEX-M-HRSC-4-REFDR-MAPPROJECT-V4.0"
DATA_SET_NAME = "MARS EXPRESS HRSC MAP PROJECTED REFDR V4.0"
DETECTOR_ID = MEX_HRSC_SRC
EVENT_TYPE = "MARS-REGIONAL-MAPPING-Vo-Im-Tc"
INSTRUMENT_HOST_ID = MEX
INSTRUMENT_HOST_NAME = "MARS EXPRESS"
INSTRUMENT_ID = HRSC
INSTRUMENT_NAME = "HIGH RESOLUTION STEREO CAMERA"
MISSION_NAME = "MARS EXPRESS"
MISSION_PHASE_NAME = MC_Phase_0
PROCESSING_LEVEL_ID = 4
PRODUCT_CREATION_TIME = 2022-11-22T09:18:20.000Z
PRODUCT_ID = "H0010_0048_SR4.TIF"
RELEASE_ID = 0001
REVISION_ID = 0000
/* QUALITY DATA ELEMENTS */
DATA_QUALITY_ID = 1
DATA_QUALITY_DESC = "Data calculated based on original SPICE kernels"
/* TIME DATA ELEMENTS */
SPACECRAFT_CLOCK_START_COUNT = "1/0021823325.32303"
SPACECRAFT_CLOCK_STOP_COUNT = "1/0021823574.56834"
IMAGE_TIME = 2004-01-10T14:03:28.340Z
START_TIME = 2004-01-10T14:03:28.339Z
STOP_TIME = 2004-01-10T14:03:28.342Z
/* ORBITAL DATA ELEMENTS */
ASCENDING_NODE_LONGITUDE = 228.73
MAXIMUM_RESOLUTION = 0.002504
FOOTPRINT_POINT_LATITUDE = (-4.07545,-4.0741,-4.07233,-4.07, -4.06836,-4.06624,-4.06396,-4.06261, -4.06113,-4.05911,-4.05708,-4.05552, -4.05357,-4.05201,-4.04994,-4.04724, -4.04563,-4.04357,-4.04175,-4.03888, -4.0374,-4.03537,-4.03296,-4.03292, -4.03292,-4.03292,-4.03292,-4.03292, -4.03292,-4.03292,-4.03292,-4.03292, -4.03292,-4.03292,-4.03292,-4.03292, -4.03292,-4.03292,-4.03292,-4.03292, -4.03292,-4.03292,-4.03292,-4.03292, -4.03292,-4.03292,-4.03292,-4.03292, -4.03292,-4.03292,-4.03292,-4.03435, -4.03613,-4.03799,-4.03963,-4.0417, -4.04318,-4.04534,-4.04829,-4.05096, -4.05235,-4.05463,-4.057,-4.05835, -4.06042,-4.06342,-4.06481,-4.06714, -4.06925,-4.07098,-4.07356,-4.07542, -4.07546,-4.07546,-4.07546,-4.07546, -4.07546,-4.07546,-4.07546,-4.07546, -4.07546,-4.07546,-4.07546,-4.07546, -4.07546,-4.07546,-4.07546,-4.07546, -4.07545,-4.07545,-4.07545,-4.07545, -4.07545,-4.07545,-4.07545,-4.07545, -4.07545,-4.07545,-4.07545,-4.07545)
FOOTPRINT_POINT_LONGITUDE = (90.459,90.459,90.459,90.459,90.459, 90.459,90.459,90.459,90.459,90.459, 90.459,90.459,90.459,90.459,90.459, 90.459,90.459,90.459,90.459,90.459, 90.459,90.459,90.459,90.459,90.4591, 90.4608,90.4625,90.4641,90.4658,90.4675 ,90.4692,90.4709,90.4726,90.4743,90.476 ,90.4777,90.4794,90.4811,90.4828, 90.4845,90.4862,90.4879,90.4896,90.4913 ,90.493,90.4947,90.4964,90.4981,90.501, 90.5014,90.5017,90.5017,90.5017,90.5017 ,90.5017,90.5017,90.5017,90.5017, 90.5017,90.5017,90.5017,90.5017,90.5017 ,90.5017,90.5017,90.5017,90.5017, 90.5017,90.5017,90.5017,90.5017,90.5017 ,90.5017,90.5017,90.4987,90.497,90.4953 ,90.4936,90.4919,90.4902,90.4885, 90.4868,90.4851,90.4834,90.4817,90.48, 90.4783,90.4766,90.475,90.4733,90.4716, 90.4699,90.4682,90.4665,90.4648,90.4631 ,90.4614,90.4597,90.4593,90.459)
ORBIT_NUMBER = 10
ORBITAL_ECCENTRICITY = 0.717
ORBITAL_INCLINATION = 86.63
ORBITAL_SEMIMAJOR_AXIS = 12956.1
PERIAPSIS_ALTITUDE = 274.15
PERIAPSIS_ARGUMENT_ANGLE = 357.88
PERIAPSIS_TIME = 2004-01-10T14:03:56.000Z
SPACECRAFT_ORIENTATION = (0.0,1.0,0.0)
^MEX_ORIENTATION_DESC = "MEX_ORIENTATION_DESC.TXT"
SPACECRAFT_POINTING_MODE = NADIR
^MEX_POINTING_DESC = "MEX_POINTING_DESC.TXT"
RIGHT_ASCENSION = -1e+32
DECLINATION = -1e+32
OFFSET_ANGLE = -1e+32
SPACECRAFT_SOLAR_DISTANCE = 2.22398e+08
TARGET_NAME = MARS
/* CAMERA DATA ELEMENTS */
BUFFER_MODE_ID = DIRECT
EXPOSURE_DURATION = 3.024
INST_CMPRS_NAME = "DISCRETE COSINE TRANSFORMATION (DCT)"
INST_CMPRS_RATIO = 16.5725
INST_CMPRS_QUALITY = 0
INST_CMPRS_QUANTZ_TBL_ID = 0
INSTRUMENT_TEMPERATURE = 17.2727
MISSING_FRAMES = 0
START_BIT = 0
/* RADIOMETRIC DATA ELEMENTS */
BANDWIDTH = 250.0
CENTER_FILTER_WAVELENGTH = 600.0
RADIANCE_OFFSET = -9.99e+31
RADIANCE_SCALING_FACTOR = -9.99e+31
REFLECTANCE_SCALING_FACTOR = -9.99e+31
MEX:REFLECTANCE_OFFSET = -9.99e+31
/* IMAGE OBJECT DEFINITIONS */
OBJECT = IMAGE
  INTERCHANGE_FORMAT = BINARY
  LINES = 1050
  LINE_SAMPLES = 1050
  SAMPLE_TYPE = UNSIGNED_INTEGER
  SAMPLE_BITS = 8
  BANDS = 1
  BAND_STORAGE_TYPE = BAND_SEQUENTIAL
  MAXIMUM = 234
  MEAN = 102.085
  MINIMUM = 1
  STANDARD_DEVIATION = 15.6795
END_OBJECT = IMAGE
/* MAP OBJECT DEFINITIONS */
OBJECT = IMAGE_MAP_PROJECTION
  ^DATA_SET_MAP_PROJECTION_CATALOG= "DSMAP.CAT"
  A_AXIS_RADIUS = 3396.19
  B_AXIS_RADIUS = 3396.19
  C_AXIS_RADIUS = 3396.19
  CENTER_LATITUDE = 0.0
  CENTER_LONGITUDE = 90.0
  COORDINATE_SYSTEM_NAME = PLANETOGRAPHIC
  COORDINATE_SYSTEM_TYPE = "BODY-FIXED ROTATING"
  EASTERNMOST_LONGITUDE = 90.5017
  FIRST_STANDARD_PARALLEL = "N/A"
  LINE_FIRST_PIXEL = 1
  LINE_LAST_PIXEL = 1050
  LINE_PROJECTION_OFFSET = -95600.0
  MAP_PROJECTION_ROTATION = 0.0
  MAP_PROJECTION_TYPE = SINUSOIDAL
  MAP_RESOLUTION = 23709.8786048756
  MAP_SCALE = 0.0025
  MAXIMUM_LATITUDE = -4.03292
  MINIMUM_LATITUDE = -4.07546
  POSITIVE_LONGITUDE_DIRECTION = EAST
  REFERENCE_LATITUDE = "N/A"
  REFERENCE_LONGITUDE = "N/A"
  SAMPLE_FIRST_PIXEL = 1
  SAMPLE_LAST_PIXEL = 1050
  SAMPLE_PROJECTION_OFFSET = -10835.0
  SECOND_STANDARD_PARALLEL = "N/A"
  WESTERNMOST_LONGITUDE = 90.459
END_OBJECT = IMAGE_MAP_PROJECTION
END
