PDS_VERSION_ID = PDS3
/* FILE DATA ELEMENTS */
RECORD_TYPE = UNDEFINED
/* POINTERS TO DATA OBJECTS */
^IMAGE = ("H0010_0045_SR4.TIF")
/* IDENTIFICATION DATA ELEMENTS */
DATA_SET_ID = "MEX-M-HRSC-4-REFDR-MAPPROJECT-V4.0"
DATA_SET_NAME = "MARS EXPRESS HRSC MAP PROJECTED REFDR V4.0"
DETECTOR_ID = MEX_HRSC_SRC
EVENT_TYPE = "MARS-REGIONAL-MAPPING-Vo-Im-Tc"
INSTRUMENT_HOST_ID = MEX
INSTRUMENT_HOST_NAME = "MARS EXPRESS"
INSTRUMENT_ID = HRSC
INSTRUMENT_NAME = "HIGH RESOLUTION STEREO CAMERA"
MISSION_NAME = "MARS EXPRESS"
MISSION_PHASE_NAME = MC_Phase_0
PROCESSING_LEVEL_ID = 4
PRODUCT_CREATION_TIME = 2022-11-22T09:18:20.000Z
PRODUCT_ID = "H0010_0045_SR4.TIF"
RELEASE_ID = 0001
REVISION_ID = 0000
/* QUALITY DATA ELEMENTS */
DATA_QUALITY_ID = 1
DATA_QUALITY_DESC = "Data calculated based on original SPICE kernels"
/* TIME DATA ELEMENTS */
SPACECRAFT_CLOCK_START_COUNT = "1/0021823325.32303"
SPACECRAFT_CLOCK_STOP_COUNT = "1/0021823574.56834"
IMAGE_TIME = 2004-01-10T14:03:26.705Z
START_TIME = 2004-01-10T14:03:26.704Z
STOP_TIME = 2004-01-10T14:03:26.707Z
/* ORBITAL DATA ELEMENTS */
ASCENDING_NODE_LONGITUDE = 228.73
MAXIMUM_RESOLUTION = 0.002506 <m/pixel>
FOOTPRINT_POINT_LATITUDE = (-4.18944,-4.18796,-4.18581,-4.18306, -4.18154,-4.17938,-4.17807,-4.17583, -4.17351,-4.17144,-4.16907,-4.16759, -4.16544,-4.16345,-4.16108,-4.15787, -4.15525,-4.15348,-4.15077,-4.14946, -4.14693,-4.14688,-4.14688,-4.14688, -4.14688,-4.14688,-4.14688,-4.14688, -4.14688,-4.14688,-4.14688,-4.14688, -4.14688,-4.14688,-4.14688,-4.14688, -4.14688,-4.14688,-4.14688,-4.14688, -4.14688,-4.14688,-4.14688,-4.14688, -4.14688,-4.14688,-4.14688,-4.14688, -4.14688,-4.14688,-4.14992,-4.15191, -4.15478,-4.15715,-4.1591,-4.16058, -4.16248,-4.16383,-4.16603,-4.16827, -4.16962,-4.17114,-4.17271,-4.1741, -4.17673,-4.17884,-4.18019,-4.18201, -4.18467,-4.1878,-4.18941,-4.18945, -4.18945,-4.18945,-4.18945,-4.18945, -4.18945,-4.18945,-4.18945,-4.18945, -4.18945,-4.18945,-4.18945,-4.18945, -4.18945,-4.18945,-4.18945,-4.18945, -4.18945,-4.18945,-4.18945,-4.18945, -4.18944,-4.18944,-4.18944,-4.18944, -4.18944,-4.18944,-4.18944,-4.18944)
FOOTPRINT_POINT_LONGITUDE = (90.459,90.459,90.459,90.459,90.459, 90.459,90.459,90.459,90.459,90.459, 90.459,90.459,90.459,90.459,90.459, 90.459,90.459,90.459,90.459,90.459, 90.459,90.459,90.459,90.4607,90.4624, 90.4641,90.4658,90.4675,90.4692,90.4709 ,90.4726,90.4743,90.476,90.4777,90.4794 ,90.4811,90.4828,90.4845,90.4862, 90.4879,90.4896,90.4913,90.493,90.4947, 90.4964,90.498,90.4997,90.501,90.5014, 90.5017,90.5017,90.5017,90.5017,90.5017 ,90.5017,90.5017,90.5017,90.5017, 90.5017,90.5017,90.5017,90.5017,90.5017 ,90.5017,90.5017,90.5017,90.5017, 90.5017,90.5017,90.5017,90.5017,90.5017 ,90.5016,90.5004,90.4987,90.497,90.4953 ,90.4936,90.4919,90.4902,90.4885, 90.4868,90.4851,90.4834,90.4817,90.48, 90.4783,90.4766,90.4749,90.4732,90.4715 ,90.4698,90.4681,90.4664,90.4647, 90.4631,90.4613,90.4597,90.4592,90.459)
ORBIT_NUMBER = 10
ORBITAL_ECCENTRICITY = 0.717
ORBITAL_INCLINATION = 86.63
ORBITAL_SEMIMAJOR_AXIS = 12956.1
PERIAPSIS_ALTITUDE = 274.15
PERIAPSIS_ARGUMENT_ANGLE = 357.88
PERIAPSIS_TIME = 2004-01-10T14:03:56.000Z
SPACECRAFT_ORIENTATION = (0.0,1.0,0.0)
^MEX_ORIENTATION_DESC = "MEX_ORIENTATION_DESC.TXT"
SPACECRAFT_POINTING_MODE = NADIR
^MEX_POINTING_DESC = "MEX_POINTING_DESC.TXT"
RIGHT_ASCENSION = -1e+32
DECLINATION = -1e+32
OFFSET_ANGLE = -1e+32
SPACECRAFT_SOLAR_DISTANCE = 2.22398e+08
TARGET_NAME = MARS
/* CAMERA DATA ELEMENTS */
BUFFER_MODE_ID = DIRECT
EXPOSURE_DURATION = 3.024 <ms>
INST_CMPRS_NAME = "DISCRETE COSINE TRANSFORMATION (DCT)"
INST_CMPRS_RATIO = 17.0224
INST_CMPRS_QUALITY = 0
INST_CMPRS_QUANTZ_TBL_ID = 0
INSTRUMENT_TEMPERATURE = 17.2727 <degC>
MISSING_FRAMES = 0
START_BIT = 0
/* RADIOMETRIC DATA ELEMENTS */
BANDWIDTH = 250.0 <nm>
CENTER_FILTER_WAVELENGTH = 600.0 <nm>
RADIANCE_OFFSET = -9.99e+31 <W*m**-2*sr**-1>
RADIANCE_SCALING_FACTOR = -9.99e+31 <W*m**-2*sr**-1>
REFLECTANCE_SCALING_FACTOR = -9.99e+31
MEX:REFLECTANCE_OFFSET = -9.99e+31
/* IMAGE OBJECT DEFINITIONS */
OBJECT = IMAGE
  INTERCHANGE_FORMAT = BINARY
  LINES = 1050
  LINE_SAMPLES = 1052
  SAMPLE_TYPE = UNSIGNED_INTEGER
  SAMPLE_BITS = 8
  BANDS = 1
  BAND_STORAGE_TYPE = BAND_SEQUENTIAL
  MAXIMUM = 241
  MEAN = 114.638
  MINIMUM = 6
  STANDARD_DEVIATION = 15.3175
END_OBJECT = IMAGE
/* MAP OBJECT DEFINITIONS */
OBJECT = IMAGE_MAP_PROJECTION
  ^DATA_SET_MAP_PROJECTION_CATALOG= "DSMAP.CAT"
  A_AXIS_RADIUS = 3396.19 <km>
  B_AXIS_RADIUS = 3396.19 <km>
  C_AXIS_RADIUS = 3396.19 <km>
  CENTER_LATITUDE = 0.0
  CENTER_LONGITUDE = 90.0
  COORDINATE_SYSTEM_NAME = PLANETOGRAPHIC
  COORDINATE_SYSTEM_TYPE = "BODY-FIXED ROTATING"
  EASTERNMOST_LONGITUDE = 90.5017
  FIRST_STANDARD_PARALLEL = "N/A"
  LINE_FIRST_PIXEL = 1
  LINE_LAST_PIXEL = 1050
  LINE_PROJECTION_OFFSET = -98302.0
  MAP_PROJECTION_ROTATION = 0.0
  MAP_PROJECTION_TYPE = SINUSOIDAL
  MAP_RESOLUTION = 23709.8786048756 <pixel/degree>
  MAP_SCALE = 0.0025 <km/pixel>
  MAXIMUM_LATITUDE = -4.14688
  MINIMUM_LATITUDE = -4.18945
  POSITIVE_LONGITUDE_DIRECTION = EAST
  REFERENCE_LATITUDE = "N/A"
  REFERENCE_LONGITUDE = "N/A"
  SAMPLE_FIRST_PIXEL = 1
  SAMPLE_LAST_PIXEL = 1052
  SAMPLE_PROJECTION_OFFSET = -10832.0
  SECOND_STANDARD_PARALLEL = "N/A"
  WESTERNMOST_LONGITUDE = 90.459
END_OBJECT = IMAGE_MAP_PROJECTION
END
