PDS_VERSION_ID = PDS3
/* FILE DATA ELEMENTS */
RECORD_TYPE = UNDEFINED
/* POINTERS TO DATA OBJECTS */
^IMAGE = ("H0010_0031_SR4.TIF")
/* IDENTIFICATION DATA ELEMENTS */
DATA_SET_ID = "MEX-M-HRSC-4-REFDR-MAPPROJECT-V4.0"
DATA_SET_NAME = "MARS EXPRESS HRSC MAP PROJECTED REFDR V4.0"
DETECTOR_ID = MEX_HRSC_SRC
EVENT_TYPE = "MARS-REGIONAL-MAPPING-Vo-Im-Tc"
INSTRUMENT_HOST_ID = MEX
INSTRUMENT_HOST_NAME = "MARS EXPRESS"
INSTRUMENT_ID = HRSC
INSTRUMENT_NAME = "HIGH RESOLUTION STEREO CAMERA"
MISSION_NAME = "MARS EXPRESS"
MISSION_PHASE_NAME = MC_Phase_0
PROCESSING_LEVEL_ID = 4
PRODUCT_CREATION_TIME = 2022-11-22T09:18:20.000Z
PRODUCT_ID = "H0010_0031_SR4.TIF"
RELEASE_ID = 0001
REVISION_ID = 0000
/* QUALITY DATA ELEMENTS */
DATA_QUALITY_ID = 1
DATA_QUALITY_DESC = "Data calculated based on original SPICE kernels"
/* TIME DATA ELEMENTS */
SPACECRAFT_CLOCK_START_COUNT = "1/0021823325.32303"
SPACECRAFT_CLOCK_STOP_COUNT = "1/0021823574.56834"
IMAGE_TIME = 2004-01-10T14:03:19.075Z
START_TIME = 2004-01-10T14:03:19.073Z
STOP_TIME = 2004-01-10T14:03:19.076Z
/* ORBITAL DATA ELEMENTS */
ASCENDING_NODE_LONGITUDE = 228.73
MAXIMUM_RESOLUTION = 0.002511 <m/pixel>
FOOTPRINT_POINT_LATITUDE = (-4.72127,-4.7195,-4.71713,-4.71552, -4.71357,-4.71221,-4.71052,-4.70828, -4.70523,-4.70341,-4.70074,-4.69824, -4.69659,-4.69401,-4.69164,-4.68973, -4.68829,-4.68685,-4.68495,-4.68342, -4.68122,-4.67868,-4.67864,-4.67864, -4.67864,-4.67864,-4.67864,-4.67864, -4.67864,-4.67864,-4.67864,-4.67864, -4.67864,-4.67864,-4.67864,-4.67864, -4.67864,-4.67864,-4.67864,-4.67864, -4.67864,-4.67864,-4.67864,-4.67864, -4.67864,-4.67863,-4.67863,-4.67863, -4.67863,-4.67863,-4.68029,-4.68198, -4.68351,-4.68503,-4.68727,-4.68931, -4.69168,-4.69329,-4.69494,-4.69765, -4.70028,-4.70176,-4.70371,-4.706, -4.70794,-4.70989,-4.71252,-4.71383, -4.71612,-4.71781,-4.71925,-4.72124, -4.72129,-4.72129,-4.72129,-4.72128, -4.72128,-4.72128,-4.72128,-4.72128, -4.72128,-4.72128,-4.72128,-4.72128, -4.72128,-4.72128,-4.72128,-4.72128, -4.72128,-4.72128,-4.72128,-4.72128, -4.72128,-4.72128,-4.72128,-4.72128, -4.72128,-4.72128,-4.72127,-4.72127)
FOOTPRINT_POINT_LONGITUDE = (90.4585,90.4585,90.4585,90.4585, 90.4585,90.4585,90.4585,90.4585,90.4585 ,90.4585,90.4585,90.4585,90.4585, 90.4585,90.4585,90.4585,90.4585,90.4585 ,90.4585,90.4585,90.4585,90.4585, 90.4585,90.4585,90.4602,90.4619,90.4636 ,90.4653,90.467,90.4688,90.4705,90.4722 ,90.4739,90.4755,90.4772,90.479,90.4807 ,90.4824,90.4841,90.4858,90.4875, 90.4892,90.4909,90.4926,90.4943,90.496, 90.4977,90.5006,90.5011,90.5013,90.5013 ,90.5013,90.5013,90.5013,90.5013, 90.5013,90.5013,90.5013,90.5013,90.5013 ,90.5013,90.5013,90.5013,90.5013, 90.5013,90.5013,90.5013,90.5013,90.5013 ,90.5013,90.5013,90.5013,90.5013, 90.5013,90.4983,90.4966,90.4949,90.4932 ,90.4915,90.4898,90.4881,90.4864, 90.4847,90.483,90.4813,90.4796,90.4779, 90.4762,90.4745,90.4728,90.4711,90.4694 ,90.4677,90.466,90.4643,90.4626,90.4609 ,90.4592,90.4587,90.4585)
ORBIT_NUMBER = 10
ORBITAL_ECCENTRICITY = 0.717
ORBITAL_INCLINATION = 86.63
ORBITAL_SEMIMAJOR_AXIS = 12956.1
PERIAPSIS_ALTITUDE = 274.15
PERIAPSIS_ARGUMENT_ANGLE = 357.88
PERIAPSIS_TIME = 2004-01-10T14:03:56.000Z
SPACECRAFT_ORIENTATION = (0.0,1.0,0.0)
^MEX_ORIENTATION_DESC = "MEX_ORIENTATION_DESC.TXT"
SPACECRAFT_POINTING_MODE = NADIR
^MEX_POINTING_DESC = "MEX_POINTING_DESC.TXT"
RIGHT_ASCENSION = -1e+32
DECLINATION = -1e+32
OFFSET_ANGLE = -1e+32
SPACECRAFT_SOLAR_DISTANCE = 2.22398e+08
TARGET_NAME = MARS
/* CAMERA DATA ELEMENTS */
BUFFER_MODE_ID = DIRECT
EXPOSURE_DURATION = 3.024 <ms>
INST_CMPRS_NAME = "DISCRETE COSINE TRANSFORMATION (DCT)"
INST_CMPRS_RATIO = 18.0116
INST_CMPRS_QUALITY = 0
INST_CMPRS_QUANTZ_TBL_ID = 0
INSTRUMENT_TEMPERATURE = 17.2727 <degC>
MISSING_FRAMES = 0
START_BIT = 0
/* RADIOMETRIC DATA ELEMENTS */
BANDWIDTH = 250.0 <nm>
CENTER_FILTER_WAVELENGTH = 600.0 <nm>
RADIANCE_OFFSET = -9.99e+31 <W*m**-2*sr**-1>
RADIANCE_SCALING_FACTOR = -9.99e+31 <W*m**-2*sr**-1>
REFLECTANCE_SCALING_FACTOR = -9.99e+31
MEX:REFLECTANCE_OFFSET = -9.99e+31
/* IMAGE OBJECT DEFINITIONS */
OBJECT = IMAGE
  INTERCHANGE_FORMAT = BINARY
  LINES = 1052
  LINE_SAMPLES = 1054
  SAMPLE_TYPE = UNSIGNED_INTEGER
  SAMPLE_BITS = 8
  BANDS = 1
  BAND_STORAGE_TYPE = BAND_SEQUENTIAL
  MAXIMUM = 251
  MEAN = 108.829
  MINIMUM = 5
  STANDARD_DEVIATION = 14.737
END_OBJECT = IMAGE
/* MAP OBJECT DEFINITIONS */
OBJECT = IMAGE_MAP_PROJECTION
  ^DATA_SET_MAP_PROJECTION_CATALOG= "DSMAP.CAT"
  A_AXIS_RADIUS = 3396.19 <km>
  B_AXIS_RADIUS = 3396.19 <km>
  C_AXIS_RADIUS = 3396.19 <km>
  CENTER_LATITUDE = 0.0
  CENTER_LONGITUDE = 90.0
  COORDINATE_SYSTEM_NAME = PLANETOGRAPHIC
  COORDINATE_SYSTEM_TYPE = "BODY-FIXED ROTATING"
  EASTERNMOST_LONGITUDE = 90.5013
  FIRST_STANDARD_PARALLEL = "N/A"
  LINE_FIRST_PIXEL = 1
  LINE_LAST_PIXEL = 1052
  LINE_PROJECTION_OFFSET = -110910.0
  MAP_PROJECTION_ROTATION = 0.0
  MAP_PROJECTION_TYPE = SINUSOIDAL
  MAP_RESOLUTION = 23709.8786048756 <pixel/degree>
  MAP_SCALE = 0.0025 <km/pixel>
  MAXIMUM_LATITUDE = -4.67863
  MINIMUM_LATITUDE = -4.72129
  POSITIVE_LONGITUDE_DIRECTION = EAST
  REFERENCE_LATITUDE = "N/A"
  REFERENCE_LONGITUDE = "N/A"
  SAMPLE_FIRST_PIXEL = 1
  SAMPLE_LAST_PIXEL = 1054
  SAMPLE_PROJECTION_OFFSET = -10813.0
  SECOND_STANDARD_PARALLEL = "N/A"
  WESTERNMOST_LONGITUDE = 90.4585
END_OBJECT = IMAGE_MAP_PROJECTION
END
