PDS_VERSION_ID = PDS3
/* FILE DATA ELEMENTS */
RECORD_TYPE = UNDEFINED
/* POINTERS TO DATA OBJECTS */
^IMAGE = ("HQ400_0000_S14.TIF")
/* IDENTIFICATION DATA ELEMENTS */
DATA_SET_ID = "MEX-M-HRSC-4-REFDR-MAPPROJECT-EXT9-V4.0"
DATA_SET_NAME = "MARS EXPRESS HRSC MAP PROJECTED REFDR EXTENSION9 V4.0"
DETECTOR_ID = MEX_HRSC_S1
EVENT_TYPE = "MARS-REGIONAL-MAPPING-Pf-La"
INSTRUMENT_HOST_ID = MEX
INSTRUMENT_HOST_NAME = "MARS EXPRESS"
INSTRUMENT_ID = HRSC
INSTRUMENT_NAME = "HIGH RESOLUTION STEREO CAMERA"
MISSION_NAME = "MARS EXPRESS"
MISSION_PHASE_NAME = ME_Phase_50
PROCESSING_LEVEL_ID = 4
PRODUCT_CREATION_TIME = 2025-01-29T14:56:39.000Z
PRODUCT_ID = "HQ400_0000_S14.TIF"
RELEASE_ID = 0021
REVISION_ID = 0000
/* QUALITY DATA ELEMENTS */
DATA_QUALITY_ID = 1
DATA_QUALITY_DESC = "Data calculated based on original SPICE kernels"
/* TIME DATA ELEMENTS */
SPACECRAFT_CLOCK_START_COUNT = "1/0681038098.65115"
SPACECRAFT_CLOCK_STOP_COUNT = "1/0681038380.23649"
START_TIME = 2024-11-30T09:15:51.333Z
STOP_TIME = 2024-11-30T09:19:22.404Z
/* ORBITAL DATA ELEMENTS */
ASCENDING_NODE_LONGITUDE = 85.59
MAXIMUM_RESOLUTION = 0.0355
FOOTPRINT_POINT_LATITUDE = (70.2553,70.2144,70.1467,70.0346, 70.0319,69.9532,69.6438,69.3336,69.0231 ,68.56,68.2563,67.9523,67.648,67.3435, 67.0393,66.5818,66.2838,65.9853,65.6864 ,65.3872,65.0884,64.7889,64.4894, 64.1889,63.8893,63.5961,63.1557,62.8618 ,62.4203,62.1258,61.8309,61.5353, 61.2401,60.9437,60.499,60.202,59.7562, 59.4586,59.1606,58.862,58.4171,57.8339, 57.3951,56.8096,56.5113,56.2176,55.7757 ,55.481,55.1851,55.0333,55.0274,55.0713 ,55.1148,55.1721,55.1731,55.1741,55.623 ,55.9187,56.3605,56.6553,57.1014, 57.3948,57.9811,58.5664,58.8632,59.1624 ,59.6114,59.9103,60.2089,60.5072, 60.8058,61.2516,61.5488,61.8457,62.1424 ,62.4388,62.7348,63.0308,63.3263, 63.6216,63.9166,64.3657,64.6679,64.9698 ,65.4224,65.724,66.0252,66.3257,66.6265 ,67.0837,67.3918,67.8527,68.1599,68.467 ,68.7739,69.2424,69.5565,70.0271, 70.1838,70.2553)
FOOTPRINT_POINT_LONGITUDE = (205.529,204.592,203.254,201.4,201.359, 201.256,201.413,201.564,201.71,201.919, 202.051,202.178,202.302,202.421,202.538 ,202.704,202.809,202.91,203.009,203.105 ,203.199,203.289,203.378,203.463, 203.546,203.625,203.74,203.814,203.921, 203.99,204.057,204.123,204.187,204.249, 204.339,204.397,204.482,204.537,204.59, 204.642,204.717,204.811,204.878,204.964 ,205.006,205.046,205.105,205.143,205.18 ,205.199,205.2,205.865,206.608,207.812, 207.838,207.847,207.811,207.787,207.751 ,207.726,207.687,207.661,207.607, 207.551,207.522,207.492,207.445,207.413 ,207.381,207.348,207.313,207.261, 207.226,207.189,207.151,207.113,207.074 ,207.034,206.993,206.951,206.908,206.84 ,206.793,206.745,206.67,206.618,206.565 ,206.512,206.456,206.367,206.306, 206.211,206.145,206.077,206.006,205.894 ,205.816,205.695,205.653,205.529)
ORBIT_NUMBER = 26400
ORBITAL_ECCENTRICITY = 0.568
ORBITAL_INCLINATION = 87.13
ORBITAL_SEMIMAJOR_AXIS = 8776.14
PERIAPSIS_ALTITUDE = 413.85
PERIAPSIS_ARGUMENT_ANGLE = 120.0
PERIAPSIS_TIME = 2024-11-30T09:18:55.000Z
SPACECRAFT_ORIENTATION = (0.0,-1.0,0.0)
^MEX_ORIENTATION_DESC = "MEX_ORIENTATION_DESC.TXT"
SPACECRAFT_POINTING_MODE = INERT
^MEX_POINTING_DESC = "MEX_POINTING_DESC.TXT"
RIGHT_ASCENSION = 133.55
DECLINATION = -26.072
OFFSET_ANGLE = -1e+32
SPACECRAFT_SOLAR_DISTANCE = 2.36206e+08
TARGET_NAME = MARS
/* CAMERA DATA ELEMENTS */
DETECTOR_TEMPERATURE = 16.9432
FOCAL_PLANE_TEMPERATURE = 8.5833
INST_CMPRS_NAME = "DISCRETE COSINE TRANSFORMATION (DCT)"
INST_CMPRS_RATIO = 13.2138
INST_CMPRS_QUALITY = 0
INST_CMPRS_QUANTZ_TBL_ID = 0
INSTRUMENT_TEMPERATURE = 10.8262
LENS_TEMPERATURE = 8.3794
MACROPIXEL_SIZE = 2
MISSING_FRAMES = 1
PIXEL_SUBSAMPLING_FLAG = N
SIGNAL_CHAIN_ID = 1
/* RADIOMETRIC DATA ELEMENTS */
BANDWIDTH = 180.0
CENTER_FILTER_WAVELENGTH = 677.0
RADIANCE_OFFSET = 4.13323
RADIANCE_SCALING_FACTOR = 0.0166279
REFLECTANCE_SCALING_FACTOR = 0.000484017
MEX:REFLECTANCE_OFFSET = 0.120313
/* IMAGE OBJECT DEFINITIONS */
OBJECT = IMAGE
  INTERCHANGE_FORMAT = BINARY
  LINES = 35813
  LINE_SAMPLES = 6815
  SAMPLE_TYPE = UNSIGNED_INTEGER
  SAMPLE_BITS = 8
  BANDS = 1
  BAND_STORAGE_TYPE = BAND_SEQUENTIAL
  MAXIMUM = 255
  MEAN = 133.334
  MINIMUM = 1
  STANDARD_DEVIATION = 66.7523
END_OBJECT = IMAGE
/* MAP OBJECT DEFINITIONS */
OBJECT = IMAGE_MAP_PROJECTION
  ^DATA_SET_MAP_PROJECTION_CATALOG= "DSMAP.CAT"
  A_AXIS_RADIUS = 3396.0
  B_AXIS_RADIUS = 3396.0
  C_AXIS_RADIUS = 3396.0
  CENTER_LATITUDE = 0.0
  CENTER_LONGITUDE = 205.0
  COORDINATE_SYSTEM_NAME = PLANETOGRAPHIC
  COORDINATE_SYSTEM_TYPE = "BODY-FIXED ROTATING"
  EASTERNMOST_LONGITUDE = 207.847
  FIRST_STANDARD_PARALLEL = "N/A"
  LINE_FIRST_PIXEL = 1
  LINE_LAST_PIXEL = 35813
  LINE_PROJECTION_OFFSET = 166398.75
  MAP_PROJECTION_ROTATION = 0.0
  MAP_PROJECTION_TYPE = SINUSOIDAL
  MAP_RESOLUTION = 2370.85521546667
  MAP_SCALE = 0.025
  MAXIMUM_LATITUDE = 70.25530000000001
  MINIMUM_LATITUDE = 55.0274
  POSITIVE_LONGITUDE_DIRECTION = EAST
  REFERENCE_LATITUDE = "N/A"
  REFERENCE_LONGITUDE = "N/A"
  SAMPLE_FIRST_PIXEL = 1
  SAMPLE_LAST_PIXEL = 6815
  SAMPLE_PROJECTION_OFFSET = 3194.75
  SECOND_STANDARD_PARALLEL = "N/A"
  WESTERNMOST_LONGITUDE = 201.256
END_OBJECT = IMAGE_MAP_PROJECTION
END
