PDS_VERSION_ID = PDS3
/* FILE DATA ELEMENTS */
RECORD_TYPE = UNDEFINED
/* POINTERS TO DATA OBJECTS */
^IMAGE = ("HQ399_0000_GR4.TIF")
/* IDENTIFICATION DATA ELEMENTS */
DATA_SET_ID = "MEX-M-HRSC-4-REFDR-MAPPROJECT-EXT9-V4.0"
DATA_SET_NAME = "MARS EXPRESS HRSC MAP PROJECTED REFDR EXTENSION9 V4.0"
DETECTOR_ID = MEX_HRSC_GREEN
EVENT_TYPE = "MARS-REGIONAL-MAPPING-Im-Pf-La"
INSTRUMENT_HOST_ID = MEX
INSTRUMENT_HOST_NAME = "MARS EXPRESS"
INSTRUMENT_ID = HRSC
INSTRUMENT_NAME = "HIGH RESOLUTION STEREO CAMERA"
MISSION_NAME = "MARS EXPRESS"
MISSION_PHASE_NAME = ME_Phase_50
PROCESSING_LEVEL_ID = 4
PRODUCT_CREATION_TIME = 2025-01-29T14:56:39.000Z
PRODUCT_ID = "HQ399_0000_GR4.TIF"
RELEASE_ID = 0021
REVISION_ID = 0000
/* QUALITY DATA ELEMENTS */
DATA_QUALITY_ID = 1
DATA_QUALITY_DESC = "Data calculated based on original SPICE kernels"
/* TIME DATA ELEMENTS */
SPACECRAFT_CLOCK_START_COUNT = "1/0681013019.64168"
SPACECRAFT_CLOCK_STOP_COUNT = "1/0681013281.38636"
START_TIME = 2024-11-30T02:18:20.268Z
STOP_TIME = 2024-11-30T02:21:32.261Z
/* ORBITAL DATA ELEMENTS */
ASCENDING_NODE_LONGITUDE = 85.62
MAXIMUM_RESOLUTION = 0.0669
FOOTPRINT_POINT_LATITUDE = (66.1626,66.0965,66.0397,65.9931, 65.9911,66.005,65.7256,65.4461,65.1705, 64.8982,64.6258,64.3533,64.0809,63.8084 ,63.5358,63.2632,62.9906,62.718,62.4452 ,62.1725,61.8997,61.4904,61.2175, 60.8081,60.535,60.2619,59.992,59.4599, 58.9277,58.2618,57.729,57.1957,56.6623, 56.3926,56.1184,55.8442,55.4326,55.0208 ,54.6088,54.334,53.9217,53.5093,53.0967 ,52.8212,52.5456,52.4079,52.3963, 52.4228,52.4522,52.4919,52.5148,52.5156 ,52.5171,52.9313,53.2072,53.483,53.7587 ,54.0343,54.4477,54.7232,54.9986, 55.4117,55.6869,55.962,56.2371,56.5121, 56.7829,57.0505,57.3181,57.5857,57.8532 ,58.1207,58.3881,58.6555,59.1902, 59.7247,60.2592,60.5336,60.808,61.0823, 61.3567,61.631,61.9054,62.1797,62.454, 62.7284,63.0027,63.277,63.5514,63.8257, 64.1001,64.3745,64.6489,64.9234,65.1978 ,65.4723,65.7534,66.0351,66.176, 66.1626)
FOOTPRINT_POINT_LONGITUDE = (308.713,307.188,306.092,305.287, 305.255,305.144,305.236,305.326,305.411 ,305.494,305.574,305.652,305.728, 305.802,305.874,305.945,306.013,306.08, 306.145,306.209,306.271,306.361,306.419 ,306.504,306.559,306.612,306.664, 306.762,306.855,306.966,307.05,307.131, 307.207,307.245,307.282,307.318,307.371 ,307.422,307.471,307.503,307.55,307.595 ,307.638,307.666,307.693,307.707, 307.708,308.162,308.708,309.552,310.124 ,310.147,310.155,310.13,310.113,310.096 ,310.079,310.062,310.035,310.016, 309.998,309.969,309.949,309.929,309.909 ,309.888,309.867,309.846,309.825, 309.804,309.781,309.759,309.736,309.713 ,309.664,309.614,309.562,309.535, 309.507,309.478,309.448,309.419,309.388 ,309.357,309.324,309.292,309.258, 309.224,309.189,309.153,309.116,309.079 ,309.04,309.001,308.96,308.919,308.875, 308.831,308.808,308.713)
ORBIT_NUMBER = 26399
ORBITAL_ECCENTRICITY = 0.568
ORBITAL_INCLINATION = 87.13
ORBITAL_SEMIMAJOR_AXIS = 8777.26
PERIAPSIS_ALTITUDE = 414.26
PERIAPSIS_ARGUMENT_ANGLE = 120.19
PERIAPSIS_TIME = 2024-11-30T02:19:55.000Z
SPACECRAFT_ORIENTATION = (0.0,-1.0,0.0)
^MEX_ORIENTATION_DESC = "MEX_ORIENTATION_DESC.TXT"
SPACECRAFT_POINTING_MODE = INERT
^MEX_POINTING_DESC = "MEX_POINTING_DESC.TXT"
RIGHT_ASCENSION = 132.583
DECLINATION = -22.617
OFFSET_ANGLE = -1e+32
SPACECRAFT_SOLAR_DISTANCE = 2.36156e+08
TARGET_NAME = MARS
/* CAMERA DATA ELEMENTS */
DETECTOR_TEMPERATURE = 17.7588
FOCAL_PLANE_TEMPERATURE = 8.5833
INST_CMPRS_NAME = "DISCRETE COSINE TRANSFORMATION (DCT)"
INST_CMPRS_RATIO = 21.6867
INST_CMPRS_QUALITY = 0
INST_CMPRS_QUANTZ_TBL_ID = 0
INSTRUMENT_TEMPERATURE = 11.0301
LENS_TEMPERATURE = 9.3989
MACROPIXEL_SIZE = 4
MISSING_FRAMES = 0
PIXEL_SUBSAMPLING_FLAG = N
SIGNAL_CHAIN_ID = 2
/* RADIOMETRIC DATA ELEMENTS */
BANDWIDTH = 88.0
CENTER_FILTER_WAVELENGTH = 538.0
RADIANCE_OFFSET = 1.34435
RADIANCE_SCALING_FACTOR = 0.00322707
REFLECTANCE_SCALING_FACTOR = 0.000154951
MEX:REFLECTANCE_OFFSET = 0.06455
/* IMAGE OBJECT DEFINITIONS */
OBJECT = IMAGE
  INTERCHANGE_FORMAT = BINARY
  LINES = 16312
  LINE_SAMPLES = 2925
  SAMPLE_TYPE = UNSIGNED_INTEGER
  SAMPLE_BITS = 8
  BANDS = 1
  BAND_STORAGE_TYPE = BAND_SEQUENTIAL
  MAXIMUM = 255
  MEAN = 201.971
  MINIMUM = 1
  STANDARD_DEVIATION = 73.203
END_OBJECT = IMAGE
/* MAP OBJECT DEFINITIONS */
OBJECT = IMAGE_MAP_PROJECTION
  ^DATA_SET_MAP_PROJECTION_CATALOG= "DSMAP.CAT"
  A_AXIS_RADIUS = 3396.0
  B_AXIS_RADIUS = 3396.0
  C_AXIS_RADIUS = 3396.0
  CENTER_LATITUDE = 0.0
  CENTER_LONGITUDE = 308.0
  COORDINATE_SYSTEM_NAME = PLANETOGRAPHIC
  COORDINATE_SYSTEM_TYPE = "BODY-FIXED ROTATING"
  EASTERNMOST_LONGITUDE = 310.155
  FIRST_STANDARD_PARALLEL = "N/A"
  LINE_FIRST_PIXEL = 1
  LINE_LAST_PIXEL = 16312
  LINE_PROJECTION_OFFSET = 78420.875
  MAP_PROJECTION_ROTATION = 0.0
  MAP_PROJECTION_TYPE = SINUSOIDAL
  MAP_RESOLUTION = 1185.42760773333
  MAP_SCALE = 0.05
  MAXIMUM_LATITUDE = 66.176
  MINIMUM_LATITUDE = 52.3963
  POSITIVE_LONGITUDE_DIRECTION = EAST
  REFERENCE_LATITUDE = "N/A"
  REFERENCE_LONGITUDE = "N/A"
  SAMPLE_FIRST_PIXEL = 1
  SAMPLE_LAST_PIXEL = 2925
  SAMPLE_PROJECTION_OFFSET = 1384.125
  SECOND_STANDARD_PARALLEL = "N/A"
  WESTERNMOST_LONGITUDE = 305.144
END_OBJECT = IMAGE_MAP_PROJECTION
END
