PDS_VERSION_ID = PDS3
/* FILE DATA ELEMENTS */
RECORD_TYPE = UNDEFINED
/* POINTERS TO DATA OBJECTS */
^IMAGE = ("HQ398_0000_S24.TIF")
/* IDENTIFICATION DATA ELEMENTS */
DATA_SET_ID = "MEX-M-HRSC-4-REFDR-MAPPROJECT-EXT9-V4.0"
DATA_SET_NAME = "MARS EXPRESS HRSC MAP PROJECTED REFDR EXTENSION9 V4.0"
DETECTOR_ID = MEX_HRSC_S2
EVENT_TYPE = "MARS-REGIONAL-MAPPING-Pf-La"
INSTRUMENT_HOST_ID = MEX
INSTRUMENT_HOST_NAME = "MARS EXPRESS"
INSTRUMENT_ID = HRSC
INSTRUMENT_NAME = "HIGH RESOLUTION STEREO CAMERA"
MISSION_NAME = "MARS EXPRESS"
MISSION_PHASE_NAME = ME_Phase_50
PROCESSING_LEVEL_ID = 4
PRODUCT_CREATION_TIME = 2025-01-29T14:56:39.000Z
PRODUCT_ID = "HQ398_0000_S24.TIF"
RELEASE_ID = 0021
REVISION_ID = 0000
/* QUALITY DATA ELEMENTS */
DATA_QUALITY_ID = 1
DATA_QUALITY_DESC = "Data calculated based on original SPICE kernels"
/* TIME DATA ELEMENTS */
SPACECRAFT_CLOCK_START_COUNT = "1/0680987722.65177"
SPACECRAFT_CLOCK_STOP_COUNT = "1/0680988035.37827"
START_TIME = 2024-11-29T19:17:32.153Z
STOP_TIME = 2024-11-29T19:21:25.902Z
/* ORBITAL DATA ELEMENTS */
ASCENDING_NODE_LONGITUDE = 85.63
MAXIMUM_RESOLUTION = 0.0339
FOOTPRINT_POINT_LATITUDE = (75.233,75.1337,75.0505,74.9325,74.9289 ,75.095,74.5535,74.1927,73.8319,73.4768 ,73.125,72.7733,72.4218,72.0707,71.7197 ,71.3689,71.0269,70.6852,70.3438, 70.0026,69.6617,69.3209,68.9804,68.64, 68.3001,67.9683,67.6374,67.3068,66.8109 ,66.4809,66.1509,65.821,65.4915,65.1622 ,64.8331,64.5042,64.1755,63.847,63.3543 ,63.0264,62.5348,62.2074,61.5526, 60.8987,60.4088,59.7558,59.1035,58.4519 ,58.2891,58.2742,58.3149,58.3521, 58.4055,58.4065,58.4075,59.2255,59.8807 ,60.5366,61.1934,61.5221,61.851,62.1802 ,62.5095,62.8393,63.3343,63.6644, 63.9947,64.3258,64.6568,64.9884,65.3203 ,65.6522,65.9847,66.3173,66.6503, 66.9836,67.4841,67.8179,68.1526,68.4881 ,68.8321,69.1764,69.5211,69.8662,70.385 ,70.731,71.0779,71.4252,71.7769,72.134, 72.4915,72.8495,73.2078,73.5669,73.9264 ,74.2939,74.6637,75.2193,75.4047, 75.233)
FOOTPRINT_POINT_LONGITUDE = (48.205,45.9042,44.2722,42.254,42.1967, 41.8378,42.3601,42.6862,42.9961,43.2864 ,43.5607,43.8224,44.0726,44.311,44.5393 ,44.7577,44.9619,45.1578,45.3456, 45.5262,45.6994,45.8662,46.0266,46.1811 ,46.3295,46.4691,46.6038,46.7336, 46.9204,47.0393,47.1544,47.2657,47.3732 ,47.4772,47.5779,47.6751,47.7695, 47.8607,47.9925,48.0767,48.198,48.2759, 48.4249,48.5649,48.6644,48.7906,48.9096 ,49.0215,49.0485,49.0509,49.7704,50.491 ,51.6789,51.7048,51.7141,51.6427,51.582 ,51.5181,51.4508,51.4157,51.3796, 51.3426,51.3045,51.2654,51.2046,51.1625 ,51.119,51.0746,51.0287,50.9815,50.9329 ,50.8826,50.8308,50.7773,50.7222, 50.6652,50.576,50.5139,50.45,50.3837, 50.3133,50.2402,50.1644,50.0857,49.9622 ,49.8755,49.7856,49.692,49.5933,49.489, 49.3799,49.266,49.1467,49.0219,48.891, 48.7507,48.6027,48.3658,48.2825,48.205)
ORBIT_NUMBER = 26398
ORBITAL_ECCENTRICITY = 0.568
ORBITAL_INCLINATION = 87.13
ORBITAL_SEMIMAJOR_AXIS = 8782.02
PERIAPSIS_ALTITUDE = 413.93
PERIAPSIS_ARGUMENT_ANGLE = 120.35
PERIAPSIS_TIME = 2024-11-29T19:20:49.000Z
SPACECRAFT_ORIENTATION = (0.0,-1.0,0.0)
^MEX_ORIENTATION_DESC = "MEX_ORIENTATION_DESC.TXT"
SPACECRAFT_POINTING_MODE = INERT
^MEX_POINTING_DESC = "MEX_POINTING_DESC.TXT"
RIGHT_ASCENSION = 132.648
DECLINATION = -30.408
OFFSET_ANGLE = -1e+32
SPACECRAFT_SOLAR_DISTANCE = 2.36105e+08
TARGET_NAME = MARS
/* CAMERA DATA ELEMENTS */
DETECTOR_TEMPERATURE = 18.1666
FOCAL_PLANE_TEMPERATURE = 8.3794
INST_CMPRS_NAME = "DISCRETE COSINE TRANSFORMATION (DCT)"
INST_CMPRS_RATIO = 12.4214
INST_CMPRS_QUALITY = 0
INST_CMPRS_QUANTZ_TBL_ID = 0
INSTRUMENT_TEMPERATURE = 11.0301
LENS_TEMPERATURE = 8.7872
MACROPIXEL_SIZE = 2
MISSING_FRAMES = 0
PIXEL_SUBSAMPLING_FLAG = N
SIGNAL_CHAIN_ID = 1
/* RADIOMETRIC DATA ELEMENTS */
BANDWIDTH = 178.0
CENTER_FILTER_WAVELENGTH = 679.0
RADIANCE_OFFSET = 3.59787
RADIANCE_SCALING_FACTOR = 0.0200122
REFLECTANCE_SCALING_FACTOR = 0.000590788
MEX:REFLECTANCE_OFFSET = 0.106214
/* IMAGE OBJECT DEFINITIONS */
OBJECT = IMAGE
  INTERCHANGE_FORMAT = BINARY
  LINES = 40620
  LINE_SAMPLES = 7856
  SAMPLE_TYPE = UNSIGNED_INTEGER
  SAMPLE_BITS = 8
  BANDS = 1
  BAND_STORAGE_TYPE = BAND_SEQUENTIAL
  MAXIMUM = 255
  MEAN = 137.013
  MINIMUM = 1
  STANDARD_DEVIATION = 55.4519
END_OBJECT = IMAGE
/* MAP OBJECT DEFINITIONS */
OBJECT = IMAGE_MAP_PROJECTION
  ^DATA_SET_MAP_PROJECTION_CATALOG= "DSMAP.CAT"
  A_AXIS_RADIUS = 3396.0
  B_AXIS_RADIUS = 3396.0
  C_AXIS_RADIUS = 3396.0
  CENTER_LATITUDE = 0.0
  CENTER_LONGITUDE = 49.0
  COORDINATE_SYSTEM_NAME = PLANETOGRAPHIC
  COORDINATE_SYSTEM_TYPE = "BODY-FIXED ROTATING"
  EASTERNMOST_LONGITUDE = 51.7141
  FIRST_STANDARD_PARALLEL = "N/A"
  LINE_FIRST_PIXEL = 1
  LINE_LAST_PIXEL = 40620
  LINE_PROJECTION_OFFSET = 178697.25
  MAP_PROJECTION_ROTATION = 0.0
  MAP_PROJECTION_TYPE = SINUSOIDAL
  MAP_RESOLUTION = 2370.85521546667
  MAP_SCALE = 0.025
  MAXIMUM_LATITUDE = 75.40470000000001
  MINIMUM_LATITUDE = 58.2742
  POSITIVE_LONGITUDE_DIRECTION = EAST
  REFERENCE_LATITUDE = "N/A"
  REFERENCE_LONGITUDE = "N/A"
  SAMPLE_FIRST_PIXEL = 1
  SAMPLE_LAST_PIXEL = 7856
  SAMPLE_PROJECTION_OFFSET = 4225.75
  SECOND_STANDARD_PARALLEL = "N/A"
  WESTERNMOST_LONGITUDE = 41.8378
END_OBJECT = IMAGE_MAP_PROJECTION
END
