PDS_VERSION_ID = PDS3
/* FILE DATA ELEMENTS */
RECORD_TYPE = UNDEFINED
/* POINTERS TO DATA OBJECTS */
^IMAGE = ("HQ390_0000_IR4.TIF")
/* IDENTIFICATION DATA ELEMENTS */
DATA_SET_ID = "MEX-M-HRSC-4-REFDR-MAPPROJECT-EXT9-V4.0"
DATA_SET_NAME = "MARS EXPRESS HRSC MAP PROJECTED REFDR EXTENSION9 V4.0"
DETECTOR_ID = MEX_HRSC_IR
EVENT_TYPE = "MARS-REGIONAL-MAPPING-Im-Pf-La"
INSTRUMENT_HOST_ID = MEX
INSTRUMENT_HOST_NAME = "MARS EXPRESS"
INSTRUMENT_ID = HRSC
INSTRUMENT_NAME = "HIGH RESOLUTION STEREO CAMERA"
MISSION_NAME = "MARS EXPRESS"
MISSION_PHASE_NAME = ME_Phase_50
PROCESSING_LEVEL_ID = 4
PRODUCT_CREATION_TIME = 2025-01-29T14:56:39.000Z
PRODUCT_ID = "HQ390_0000_IR4.TIF"
RELEASE_ID = 0021
REVISION_ID = 0000
/* QUALITY DATA ELEMENTS */
DATA_QUALITY_ID = 1
DATA_QUALITY_DESC = "Data calculated based on original SPICE kernels"
/* TIME DATA ELEMENTS */
SPACECRAFT_CLOCK_START_COUNT = "1/0680786662.65117"
SPACECRAFT_CLOCK_STOP_COUNT = "1/0680786967.38166"
START_TIME = 2024-11-27T11:25:20.948Z
STOP_TIME = 2024-11-27T11:29:14.776Z
/* ORBITAL DATA ELEMENTS */
ASCENDING_NODE_LONGITUDE = 85.77
MAXIMUM_RESOLUTION = 0.0696
FOOTPRINT_POINT_LATITUDE = (67.9333,67.8288,67.7139,67.7114, 67.6567,67.3125,66.8033,66.4678,65.9617 ,65.6235,65.2858,64.7851,64.4552, 63.9504,63.6197,63.2887,62.9574,62.6258 ,62.2944,61.8088,61.4847,61.1604, 60.8357,60.5105,60.1852,59.8596,59.5338 ,59.2075,58.8808,58.5539,58.2268, 57.8991,57.5713,57.2431,56.7527,56.1115 ,55.4688,54.9854,54.3404,54.0172, 53.6902,53.3572,53.0242,52.6907,52.357, 51.8547,51.3513,51.1837,51.0725,51.1432 ,51.1886,51.2232,51.2243,51.2258, 51.5622,51.898,52.2333,52.5683,52.9028, 53.2371,53.5706,53.904,54.2303,54.5545, 55.2008,55.846,56.3291,56.8117,57.1361, 57.4656,57.795,58.124,58.4528,58.7812, 59.1094,59.6011,59.9288,60.4197,60.9098 ,61.2363,61.5625,62.0516,62.3772, 62.7079,63.0418,63.3753,63.7088,64.0419 ,64.5507,64.8833,65.2157,65.5558, 65.8964,66.2369,66.5772,66.9172,67.257, 67.6033,67.7773,67.9333)
FOOTPRINT_POINT_LONGITUDE = (147.036,145.078,143.331,143.296, 143.172,143.319,143.527,143.66,143.847, 143.966,144.083,144.249,144.354,144.508 ,144.605,144.699,144.79,144.879,144.965 ,145.086,145.163,145.239,145.312, 145.383,145.452,145.52,145.585,145.649, 145.71,145.77,145.829,145.885,145.94, 145.994,146.071,146.167,146.258,146.322 ,146.405,146.445,146.483,146.521, 146.559,146.595,146.63,146.681,146.73, 146.745,146.756,147.754,148.501,149.155 ,149.177,149.185,149.163,149.141, 149.119,149.096,149.073,149.049,149.025 ,149.0,148.975,148.95,148.898,148.844, 148.802,148.758,148.728,148.697,148.665 ,148.632,148.598,148.563,148.528, 148.473,148.436,148.377,148.317,148.275 ,148.233,148.167,148.121,148.073, 148.024,147.973,147.921,147.867,147.782 ,147.724,147.665,147.602,147.537,147.47 ,147.4,147.329,147.255,147.177,147.137, 147.036)
ORBIT_NUMBER = 26390
ORBITAL_ECCENTRICITY = 0.568
ORBITAL_INCLINATION = 87.12
ORBITAL_SEMIMAJOR_AXIS = 8781.37
PERIAPSIS_ALTITUDE = 414.09
PERIAPSIS_ARGUMENT_ANGLE = 121.72
PERIAPSIS_TIME = 2024-11-27T11:28:08.000Z
SPACECRAFT_ORIENTATION = (0.0,-1.0,0.0)
^MEX_ORIENTATION_DESC = "MEX_ORIENTATION_DESC.TXT"
SPACECRAFT_POINTING_MODE = INERT
^MEX_POINTING_DESC = "MEX_POINTING_DESC.TXT"
RIGHT_ASCENSION = 135.144
DECLINATION = -22.896
OFFSET_ANGLE = -1e+32
SPACECRAFT_SOLAR_DISTANCE = 2.35699e+08
TARGET_NAME = MARS
/* CAMERA DATA ELEMENTS */
DETECTOR_TEMPERATURE = 17.351
FOCAL_PLANE_TEMPERATURE = 8.9911
INST_CMPRS_NAME = "DISCRETE COSINE TRANSFORMATION (DCT)"
INST_CMPRS_RATIO = 9.94215
INST_CMPRS_QUALITY = 0
INST_CMPRS_QUANTZ_TBL_ID = 0
INSTRUMENT_TEMPERATURE = 11.4379
LENS_TEMPERATURE = 9.8067
MACROPIXEL_SIZE = 4
MISSING_FRAMES = 1
PIXEL_SUBSAMPLING_FLAG = N
SIGNAL_CHAIN_ID = 2
/* RADIOMETRIC DATA ELEMENTS */
BANDWIDTH = 81.0
CENTER_FILTER_WAVELENGTH = 955.5
RADIANCE_OFFSET = 0.792075
RADIANCE_SCALING_FACTOR = 0.00617538
REFLECTANCE_SCALING_FACTOR = 0.000740124
MEX:REFLECTANCE_OFFSET = 0.0949309
/* IMAGE OBJECT DEFINITIONS */
OBJECT = IMAGE
  INTERCHANGE_FORMAT = BINARY
  LINES = 19867
  LINE_SAMPLES = 3326
  SAMPLE_TYPE = UNSIGNED_INTEGER
  SAMPLE_BITS = 8
  BANDS = 1
  BAND_STORAGE_TYPE = BAND_SEQUENTIAL
  MAXIMUM = 255
  MEAN = 102.657
  MINIMUM = 1
  STANDARD_DEVIATION = 60.5409
END_OBJECT = IMAGE
/* MAP OBJECT DEFINITIONS */
OBJECT = IMAGE_MAP_PROJECTION
  ^DATA_SET_MAP_PROJECTION_CATALOG= "DSMAP.CAT"
  A_AXIS_RADIUS = 3396.0
  B_AXIS_RADIUS = 3396.0
  C_AXIS_RADIUS = 3396.0
  CENTER_LATITUDE = 0.0
  CENTER_LONGITUDE = 147.0
  COORDINATE_SYSTEM_NAME = PLANETOGRAPHIC
  COORDINATE_SYSTEM_TYPE = "BODY-FIXED ROTATING"
  EASTERNMOST_LONGITUDE = 149.185
  FIRST_STANDARD_PARALLEL = "N/A"
  LINE_FIRST_PIXEL = 1
  LINE_LAST_PIXEL = 19867
  LINE_PROJECTION_OFFSET = 80455.875
  MAP_PROJECTION_ROTATION = 0.0
  MAP_PROJECTION_TYPE = SINUSOIDAL
  MAP_RESOLUTION = 1185.42760773333
  MAP_SCALE = 0.05
  MAXIMUM_LATITUDE = 67.9333
  MINIMUM_LATITUDE = 51.0725
  POSITIVE_LONGITUDE_DIRECTION = EAST
  REFERENCE_LATITUDE = "N/A"
  REFERENCE_LONGITUDE = "N/A"
  SAMPLE_FIRST_PIXEL = 1
  SAMPLE_LAST_PIXEL = 3326
  SAMPLE_PROJECTION_OFFSET = 1804.625
  SECOND_STANDARD_PARALLEL = "N/A"
  WESTERNMOST_LONGITUDE = 143.172
END_OBJECT = IMAGE_MAP_PROJECTION
END
