PDS_VERSION_ID = PDS3
/* FILE DATA ELEMENTS */
RECORD_TYPE = UNDEFINED
/* POINTERS TO DATA OBJECTS */
^IMAGE = ("HQ387_0000_P24.TIF")
/* IDENTIFICATION DATA ELEMENTS */
DATA_SET_ID = "MEX-M-HRSC-4-REFDR-MAPPROJECT-EXT9-V4.0"
DATA_SET_NAME = "MARS EXPRESS HRSC MAP PROJECTED REFDR EXTENSION9 V4.0"
DETECTOR_ID = MEX_HRSC_P2
EVENT_TYPE = "MARS-REGIONAL-MAPPING-Te-Pf-La"
INSTRUMENT_HOST_ID = MEX
INSTRUMENT_HOST_NAME = "MARS EXPRESS"
INSTRUMENT_ID = HRSC
INSTRUMENT_NAME = "HIGH RESOLUTION STEREO CAMERA"
MISSION_NAME = "MARS EXPRESS"
MISSION_PHASE_NAME = ME_Phase_50
PROCESSING_LEVEL_ID = 4
PRODUCT_CREATION_TIME = 2025-01-29T14:56:39.000Z
PRODUCT_ID = "HQ387_0000_P24.TIF"
RELEASE_ID = 0021
REVISION_ID = 0000
/* QUALITY DATA ELEMENTS */
DATA_QUALITY_ID = 1
DATA_QUALITY_DESC = "Data calculated based on original SPICE kernels"
/* TIME DATA ELEMENTS */
SPACECRAFT_CLOCK_START_COUNT = "1/0680711265.00372"
SPACECRAFT_CLOCK_STOP_COUNT = "1/0680711575.01191"
START_TIME = 2024-11-26T14:29:34.756Z
STOP_TIME = 2024-11-26T14:33:33.884Z
/* ORBITAL DATA ELEMENTS */
ASCENDING_NODE_LONGITUDE = 85.82
MAXIMUM_RESOLUTION = 0.0341
FOOTPRINT_POINT_LATITUDE = (64.9372,64.883,64.8331,64.7681,64.7661 ,64.8806,64.3594,64.0126,63.6659, 63.3194,62.9735,62.6276,62.2821,61.9369 ,61.599,61.2636,60.928,60.593,60.2583, 59.9239,59.5891,59.255,58.9212,58.5877, 58.0877,57.7546,57.4218,57.0893,56.4245 ,55.4288,54.7659,54.2567,53.9169,53.577 ,53.2374,52.898,52.5587,52.2196,51.8806 ,51.5418,51.203,50.6951,50.3492,50.0019 ,49.6548,49.3076,48.9606,48.6138, 48.0934,47.9156,47.8592,47.8919,47.9262 ,47.9689,47.9698,47.9708,48.324,48.6714 ,49.1924,49.5399,49.8878,50.4096, 50.7575,51.2665,51.606,52.1155,52.4554, 52.7954,53.1356,53.6463,53.987,54.3279, 54.669,55.0062,55.6714,56.5041,57.1713, 57.5054,57.8395,58.1739,58.5087,58.8436 ,59.1788,59.5145,60.0183,60.3545, 60.6911,61.0282,61.5343,61.8721,62.2149 ,62.5631,62.9113,63.2595,63.6085, 63.9577,64.4825,64.8325,65.0078, 64.9372)
FOOTPRINT_POINT_LONGITUDE = (94.6217,93.3919,92.399,91.2441,91.2111 ,91.0715,91.23,91.3309,91.4287,91.5233, 91.6146,91.7031,91.7886,91.8714,91.9499 ,92.0254,92.0989,92.1698,92.2385, 92.3051,92.3703,92.4331,92.494,92.5529, 92.6381,92.693,92.746,92.7975,92.8963, 93.0339,93.1191,93.1813,93.2212,93.2602 ,93.2978,93.3343,93.3697,93.4041, 93.4374,93.4697,93.5011,93.5463,93.576, 93.605,93.633,93.6602,93.6866,93.712, 93.7485,93.7606,93.7644,94.3425,95.0071 ,95.9528,95.9743,95.9821,95.9677, 95.9534,95.9312,95.916,95.9008,95.8769, 95.8605,95.8361,95.8193,95.7934,95.7756 ,95.7574,95.7387,95.71,95.6903,95.6701, 95.6494,95.6285,95.5857,95.5292,95.4814 ,95.4567,95.4313,95.4052,95.3785,95.351 ,95.3227,95.294,95.2491,95.2181,95.1863 ,95.1538,95.1032,95.0683,95.0316, 94.9938,94.9548,94.9143,94.8728,94.8298 ,94.763,94.7165,94.6927,94.6217)
ORBIT_NUMBER = 26387
ORBITAL_ECCENTRICITY = 0.568
ORBITAL_INCLINATION = 87.13
ORBITAL_SEMIMAJOR_AXIS = 8786.04
PERIAPSIS_ALTITUDE = 412.24
PERIAPSIS_ARGUMENT_ANGLE = 122.2
PERIAPSIS_TIME = 2024-11-26T14:30:51.000Z
SPACECRAFT_ORIENTATION = (0.0,-1.0,0.0)
^MEX_ORIENTATION_DESC = "MEX_ORIENTATION_DESC.TXT"
SPACECRAFT_POINTING_MODE = INERT
^MEX_POINTING_DESC = "MEX_POINTING_DESC.TXT"
RIGHT_ASCENSION = 132.679
DECLINATION = -19.593
OFFSET_ANGLE = -1e+32
SPACECRAFT_SOLAR_DISTANCE = 2.35545e+08
TARGET_NAME = MARS
/* CAMERA DATA ELEMENTS */
DETECTOR_TEMPERATURE = 17.7588
FOCAL_PLANE_TEMPERATURE = 8.5833
INST_CMPRS_NAME = "DISCRETE COSINE TRANSFORMATION (DCT)"
INST_CMPRS_RATIO = 7.38651
INST_CMPRS_QUALITY = 0
INST_CMPRS_QUANTZ_TBL_ID = 0
INSTRUMENT_TEMPERATURE = 10.8262
LENS_TEMPERATURE = 9.195
MACROPIXEL_SIZE = 2
MISSING_FRAMES = 0
PIXEL_SUBSAMPLING_FLAG = N
SIGNAL_CHAIN_ID = 3
/* RADIOMETRIC DATA ELEMENTS */
BANDWIDTH = 177.0
CENTER_FILTER_WAVELENGTH = 676.5
RADIANCE_OFFSET = 2.6995
RADIANCE_SCALING_FACTOR = 0.019469
REFLECTANCE_SCALING_FACTOR = 0.000572728
MEX:REFLECTANCE_OFFSET = 0.0794124
/* IMAGE OBJECT DEFINITIONS */
OBJECT = IMAGE
  INTERCHANGE_FORMAT = BINARY
  LINES = 40778
  LINE_SAMPLES = 6154
  SAMPLE_TYPE = UNSIGNED_INTEGER
  SAMPLE_BITS = 8
  BANDS = 1
  BAND_STORAGE_TYPE = BAND_SEQUENTIAL
  MAXIMUM = 255
  MEAN = 95.4882
  MINIMUM = 1
  STANDARD_DEVIATION = 70.6989
END_OBJECT = IMAGE
/* MAP OBJECT DEFINITIONS */
OBJECT = IMAGE_MAP_PROJECTION
  ^DATA_SET_MAP_PROJECTION_CATALOG= "DSMAP.CAT"
  A_AXIS_RADIUS = 3396.0
  B_AXIS_RADIUS = 3396.0
  C_AXIS_RADIUS = 3396.0
  CENTER_LATITUDE = 0.0
  CENTER_LONGITUDE = 94.0
  COORDINATE_SYSTEM_NAME = PLANETOGRAPHIC
  COORDINATE_SYSTEM_TYPE = "BODY-FIXED ROTATING"
  EASTERNMOST_LONGITUDE = 95.9821
  FIRST_STANDARD_PARALLEL = "N/A"
  LINE_FIRST_PIXEL = 1
  LINE_LAST_PIXEL = 40778
  LINE_PROJECTION_OFFSET = 154239.25
  MAP_PROJECTION_ROTATION = 0.0
  MAP_PROJECTION_TYPE = SINUSOIDAL
  MAP_RESOLUTION = 2370.85521546667
  MAP_SCALE = 0.025
  MAXIMUM_LATITUDE = 65.0078
  MINIMUM_LATITUDE = 47.8592
  POSITIVE_LONGITUDE_DIRECTION = EAST
  REFERENCE_LATITUDE = "N/A"
  REFERENCE_LONGITUDE = "N/A"
  SAMPLE_FIRST_PIXEL = 1
  SAMPLE_LAST_PIXEL = 6154
  SAMPLE_PROJECTION_OFFSET = 2806.75
  SECOND_STANDARD_PARALLEL = "N/A"
  WESTERNMOST_LONGITUDE = 91.0715
END_OBJECT = IMAGE_MAP_PROJECTION
END
