PDS_VERSION_ID = PDS3
/* FILE DATA ELEMENTS */
RECORD_TYPE = UNDEFINED
/* POINTERS TO DATA OBJECTS */
^IMAGE = ("HQ387_0000_IR4.TIF")
/* IDENTIFICATION DATA ELEMENTS */
DATA_SET_ID = "MEX-M-HRSC-4-REFDR-MAPPROJECT-EXT9-V4.0"
DATA_SET_NAME = "MARS EXPRESS HRSC MAP PROJECTED REFDR EXTENSION9 V4.0"
DETECTOR_ID = MEX_HRSC_IR
EVENT_TYPE = "MARS-REGIONAL-MAPPING-Te-Pf-La"
INSTRUMENT_HOST_ID = MEX
INSTRUMENT_HOST_NAME = "MARS EXPRESS"
INSTRUMENT_ID = HRSC
INSTRUMENT_NAME = "HIGH RESOLUTION STEREO CAMERA"
MISSION_NAME = "MARS EXPRESS"
MISSION_PHASE_NAME = ME_Phase_50
PROCESSING_LEVEL_ID = 4
PRODUCT_CREATION_TIME = 2025-01-29T14:56:39.000Z
PRODUCT_ID = "HQ387_0000_IR4.TIF"
RELEASE_ID = 0021
REVISION_ID = 0000
/* QUALITY DATA ELEMENTS */
DATA_QUALITY_ID = 1
DATA_QUALITY_DESC = "Data calculated based on original SPICE kernels"
/* TIME DATA ELEMENTS */
SPACECRAFT_CLOCK_START_COUNT = "1/0680711265.00372"
SPACECRAFT_CLOCK_STOP_COUNT = "1/0680711575.01191"
START_TIME = 2024-11-26T14:28:42.798Z
STOP_TIME = 2024-11-26T14:32:41.224Z
/* ORBITAL DATA ELEMENTS */
ASCENDING_NODE_LONGITUDE = 85.82
MAXIMUM_RESOLUTION = 0.0684
FOOTPRINT_POINT_LATITUDE = (65.0777,65.0272,64.9701,64.9174, 64.9155,64.871,64.5261,64.181,63.8356, 63.4901,63.1443,62.7982,62.2806,61.9428 ,61.4357,61.0975,60.7589,60.42,60.0808, 59.5719,59.232,58.8919,58.5515,58.2122, 57.548,56.8826,56.5495,56.2162,55.8823, 55.5484,55.2141,54.8793,54.5444,54.2092 ,53.8734,53.3694,53.0329,52.5272, 52.1899,51.852,51.5136,51.1747,50.8291, 50.3057,49.9566,49.6068,49.257,48.9063, 48.555,48.0268,47.8506,47.8338,47.8888, 47.9453,47.946,47.9475,48.4759,48.8281, 49.3553,49.8812,50.231,50.5805,50.9298, 51.2764,51.6162,51.9547,52.4623,52.8003 ,53.1379,53.4751,53.812,54.1486,54.4849 ,54.821,55.1566,55.492,55.827,56.1619, 56.83,57.4986,57.999,58.6723,59.0137, 59.5261,59.8675,60.2083,60.7193,61.0597 ,61.3998,61.7398,62.0797,62.4193, 62.7653,63.1136,63.4616,63.8095,64.3312 ,64.8523,65.026,65.0777)
FOOTPRINT_POINT_LONGITUDE = (94.7188,93.527,92.4012,91.4915,91.4612 ,91.3862,91.4865,91.5836,91.6776, 91.7687,91.8568,91.9422,92.065,92.1419, 92.2532,92.3246,92.3939,92.4611,92.5264 ,92.6209,92.6814,92.7402,92.7974, 92.8526,92.9562,93.0541,93.101,93.1467, 93.191,93.2341,93.2761,93.3168,93.3565, 93.3951,93.4325,93.4869,93.5218,93.5723 ,93.6049,93.6365,93.6672,93.697,93.7267 ,93.7697,93.7974,93.8242,93.8504, 93.8756,93.9001,93.9353,93.9467,93.9478 ,94.9061,96.211,96.2325,96.2396,96.2142 ,96.1968,96.1702,96.143,96.1247,96.106, 96.0869,96.0677,96.0482,96.0288,95.9987 ,95.9782,95.9574,95.9362,95.9146, 95.8926,95.8701,95.8471,95.8237,95.7998 ,95.7755,95.7505,95.6998,95.6454, 95.6033,95.5446,95.514,95.4659,95.4327, 95.3993,95.3471,95.3113,95.2746,95.237, 95.198,95.1583,95.1169,95.0737,95.0295, 94.9838,94.9125,94.8384,94.8129, 94.7188)
ORBIT_NUMBER = 26387
ORBITAL_ECCENTRICITY = 0.568
ORBITAL_INCLINATION = 87.13
ORBITAL_SEMIMAJOR_AXIS = 8786.04
PERIAPSIS_ALTITUDE = 412.24
PERIAPSIS_ARGUMENT_ANGLE = 122.2
PERIAPSIS_TIME = 2024-11-26T14:30:51.000Z
SPACECRAFT_ORIENTATION = (0.0,-1.0,0.0)
^MEX_ORIENTATION_DESC = "MEX_ORIENTATION_DESC.TXT"
SPACECRAFT_POINTING_MODE = INERT
^MEX_POINTING_DESC = "MEX_POINTING_DESC.TXT"
RIGHT_ASCENSION = 132.679
DECLINATION = -19.593
OFFSET_ANGLE = -1e+32
SPACECRAFT_SOLAR_DISTANCE = 2.35545e+08
TARGET_NAME = MARS
/* CAMERA DATA ELEMENTS */
DETECTOR_TEMPERATURE = 17.1471
FOCAL_PLANE_TEMPERATURE = 8.5833
INST_CMPRS_NAME = "DISCRETE COSINE TRANSFORMATION (DCT)"
INST_CMPRS_RATIO = 11.4412
INST_CMPRS_QUALITY = 0
INST_CMPRS_QUANTZ_TBL_ID = 0
INSTRUMENT_TEMPERATURE = 10.8262
LENS_TEMPERATURE = 9.195
MACROPIXEL_SIZE = 4
MISSING_FRAMES = 0
PIXEL_SUBSAMPLING_FLAG = N
SIGNAL_CHAIN_ID = 2
/* RADIOMETRIC DATA ELEMENTS */
BANDWIDTH = 81.0
CENTER_FILTER_WAVELENGTH = 955.5
RADIANCE_OFFSET = 0.604692
RADIANCE_SCALING_FACTOR = 0.0054813
REFLECTANCE_SCALING_FACTOR = 0.000656081
MEX:REFLECTANCE_OFFSET = 0.0723783
/* IMAGE OBJECT DEFINITIONS */
OBJECT = IMAGE
  INTERCHANGE_FORMAT = BINARY
  LINES = 20389
  LINE_SAMPLES = 3077
  SAMPLE_TYPE = UNSIGNED_INTEGER
  SAMPLE_BITS = 8
  BANDS = 1
  BAND_STORAGE_TYPE = BAND_SEQUENTIAL
  MAXIMUM = 255
  MEAN = 85.1909
  MINIMUM = 1
  STANDARD_DEVIATION = 68.4081
END_OBJECT = IMAGE
/* MAP OBJECT DEFINITIONS */
OBJECT = IMAGE_MAP_PROJECTION
  ^DATA_SET_MAP_PROJECTION_CATALOG= "DSMAP.CAT"
  A_AXIS_RADIUS = 3396.0
  B_AXIS_RADIUS = 3396.0
  C_AXIS_RADIUS = 3396.0
  CENTER_LATITUDE = 0.0
  CENTER_LONGITUDE = 94.0
  COORDINATE_SYSTEM_NAME = PLANETOGRAPHIC
  COORDINATE_SYSTEM_TYPE = "BODY-FIXED ROTATING"
  EASTERNMOST_LONGITUDE = 96.2396
  FIRST_STANDARD_PARALLEL = "N/A"
  LINE_FIRST_PIXEL = 1
  LINE_LAST_PIXEL = 20389
  LINE_PROJECTION_OFFSET = 77119.375
  MAP_PROJECTION_ROTATION = 0.0
  MAP_PROJECTION_TYPE = SINUSOIDAL
  MAP_RESOLUTION = 1185.42760773333
  MAP_SCALE = 0.05
  MAXIMUM_LATITUDE = 65.07769999999999
  MINIMUM_LATITUDE = 47.8338
  POSITIVE_LONGITUDE_DIRECTION = EAST
  REFERENCE_LATITUDE = "N/A"
  REFERENCE_LONGITUDE = "N/A"
  SAMPLE_FIRST_PIXEL = 1
  SAMPLE_LAST_PIXEL = 3077
  SAMPLE_PROJECTION_OFFSET = 1403.125
  SECOND_STANDARD_PARALLEL = "N/A"
  WESTERNMOST_LONGITUDE = 91.3862
END_OBJECT = IMAGE_MAP_PROJECTION
END
