PDS_VERSION_ID = PDS3
/* FILE DATA ELEMENTS */
RECORD_TYPE = UNDEFINED
/* POINTERS TO DATA OBJECTS */
^IMAGE = ("HQ387_0000_GR4.TIF")
/* IDENTIFICATION DATA ELEMENTS */
DATA_SET_ID = "MEX-M-HRSC-4-REFDR-MAPPROJECT-EXT9-V4.0"
DATA_SET_NAME = "MARS EXPRESS HRSC MAP PROJECTED REFDR EXTENSION9 V4.0"
DETECTOR_ID = MEX_HRSC_GREEN
EVENT_TYPE = "MARS-REGIONAL-MAPPING-Te-Pf-La"
INSTRUMENT_HOST_ID = MEX
INSTRUMENT_HOST_NAME = "MARS EXPRESS"
INSTRUMENT_ID = HRSC
INSTRUMENT_NAME = "HIGH RESOLUTION STEREO CAMERA"
MISSION_NAME = "MARS EXPRESS"
MISSION_PHASE_NAME = ME_Phase_50
PROCESSING_LEVEL_ID = 4
PRODUCT_CREATION_TIME = 2025-01-29T14:56:39.000Z
PRODUCT_ID = "HQ387_0000_GR4.TIF"
RELEASE_ID = 0021
REVISION_ID = 0000
/* QUALITY DATA ELEMENTS */
DATA_QUALITY_ID = 1
DATA_QUALITY_DESC = "Data calculated based on original SPICE kernels"
/* TIME DATA ELEMENTS */
SPACECRAFT_CLOCK_START_COUNT = "1/0680711265.00372"
SPACECRAFT_CLOCK_STOP_COUNT = "1/0680711575.01191"
START_TIME = 2024-11-26T14:29:05.029Z
STOP_TIME = 2024-11-26T14:33:05.105Z
/* ORBITAL DATA ELEMENTS */
ASCENDING_NODE_LONGITUDE = 85.82
MAXIMUM_RESOLUTION = 0.0663
FOOTPRINT_POINT_LATITUDE = (65.0308,64.9671,64.868,64.8661,64.8889 ,64.5382,64.1876,63.839,63.4972,63.1555 ,62.8138,62.472,62.1302,61.7884,61.4465 ,61.1047,60.7627,60.4208,60.0788, 59.4062,58.7399,58.24,57.5733,56.9063, 56.0723,55.5714,54.9034,54.235,53.9006, 53.5663,53.2316,52.8969,52.5574,52.2134 ,51.8691,51.3525,51.008,50.663,50.318, 49.973,49.6277,49.2823,48.9367,48.5904, 48.0573,47.8795,47.8389,47.8915,47.9251 ,47.9482,47.949,47.9504,48.3064,48.662, 49.0101,49.3561,49.7022,50.0478,50.5663 ,51.0845,51.4298,51.7749,52.1199, 52.4648,52.8095,53.1462,53.4816,53.817, 54.1522,54.4875,54.8226,55.1577,55.4927 ,55.8276,56.1625,56.4973,56.8321, 57.1669,57.6689,58.0036,58.6728,59.1748 ,59.5094,59.844,60.1842,60.5279,60.8716 ,61.2153,61.731,62.0747,62.4186,62.7626 ,63.1066,63.4506,63.7947,64.1403, 64.4936,64.847,65.0237,65.0308)
FOOTPRINT_POINT_LONGITUDE = (94.6797,93.2145,91.3866,91.3557, 91.2549,91.3592,91.4599,91.5568,91.6489 ,91.7377,91.8238,91.9073,91.9881, 92.0665,92.1424,92.2161,92.2876,92.3567 ,92.4237,92.5501,92.6677,92.7515, 92.8577,92.9579,93.0757,93.1419,93.2262 ,93.3058,93.3439,93.3811,93.4171,93.452 ,93.4864,93.5202,93.553,93.6005,93.631, 93.6605,93.6891,93.717,93.744,93.7703, 93.7957,93.8203,93.8565,93.8682,93.8708 ,94.8144,95.5297,96.0987,96.1198, 96.1268,96.1109,96.095,96.0787,96.0627, 96.0461,96.0295,96.0037,95.977,95.9589, 95.9403,95.9215,95.9021,95.8824,95.8628 ,95.8428,95.8224,95.8016,95.7803, 95.7585,95.7363,95.7136,95.6904,95.6666 ,95.6422,95.6171,95.5917,95.5526, 95.5255,95.4695,95.4255,95.3955,95.3644 ,95.3323,95.2987,95.2645,95.2292, 95.1746,95.1366,95.098,95.0583,95.0173, 94.9751,94.9315,94.8866,94.8392,94.7902 ,94.7651,94.6797)
ORBIT_NUMBER = 26387
ORBITAL_ECCENTRICITY = 0.568
ORBITAL_INCLINATION = 87.13
ORBITAL_SEMIMAJOR_AXIS = 8786.04
PERIAPSIS_ALTITUDE = 412.24
PERIAPSIS_ARGUMENT_ANGLE = 122.2
PERIAPSIS_TIME = 2024-11-26T14:30:51.000Z
SPACECRAFT_ORIENTATION = (0.0,-1.0,0.0)
^MEX_ORIENTATION_DESC = "MEX_ORIENTATION_DESC.TXT"
SPACECRAFT_POINTING_MODE = INERT
^MEX_POINTING_DESC = "MEX_POINTING_DESC.TXT"
RIGHT_ASCENSION = 132.679
DECLINATION = -19.593
OFFSET_ANGLE = -1e+32
SPACECRAFT_SOLAR_DISTANCE = 2.35545e+08
TARGET_NAME = MARS
/* CAMERA DATA ELEMENTS */
DETECTOR_TEMPERATURE = 17.5549
FOCAL_PLANE_TEMPERATURE = 8.5833
INST_CMPRS_NAME = "DISCRETE COSINE TRANSFORMATION (DCT)"
INST_CMPRS_RATIO = 14.3302
INST_CMPRS_QUALITY = 0
INST_CMPRS_QUANTZ_TBL_ID = 0
INSTRUMENT_TEMPERATURE = 10.8262
LENS_TEMPERATURE = 9.195
MACROPIXEL_SIZE = 4
MISSING_FRAMES = 0
PIXEL_SUBSAMPLING_FLAG = N
SIGNAL_CHAIN_ID = 2
/* RADIOMETRIC DATA ELEMENTS */
BANDWIDTH = 88.0
CENTER_FILTER_WAVELENGTH = 538.0
RADIANCE_OFFSET = 1.12552
RADIANCE_SCALING_FACTOR = 0.00709849
REFLECTANCE_SCALING_FACTOR = 0.00033908
MEX:REFLECTANCE_OFFSET = 0.0537637
/* IMAGE OBJECT DEFINITIONS */
OBJECT = IMAGE
  INTERCHANGE_FORMAT = BINARY
  LINES = 20389
  LINE_SAMPLES = 3077
  SAMPLE_TYPE = UNSIGNED_INTEGER
  SAMPLE_BITS = 8
  BANDS = 1
  BAND_STORAGE_TYPE = BAND_SEQUENTIAL
  MAXIMUM = 255
  MEAN = 102.746
  MINIMUM = 1
  STANDARD_DEVIATION = 75.9749
END_OBJECT = IMAGE
/* MAP OBJECT DEFINITIONS */
OBJECT = IMAGE_MAP_PROJECTION
  ^DATA_SET_MAP_PROJECTION_CATALOG= "DSMAP.CAT"
  A_AXIS_RADIUS = 3396.0
  B_AXIS_RADIUS = 3396.0
  C_AXIS_RADIUS = 3396.0
  CENTER_LATITUDE = 0.0
  CENTER_LONGITUDE = 94.0
  COORDINATE_SYSTEM_NAME = PLANETOGRAPHIC
  COORDINATE_SYSTEM_TYPE = "BODY-FIXED ROTATING"
  EASTERNMOST_LONGITUDE = 96.1268
  FIRST_STANDARD_PARALLEL = "N/A"
  LINE_FIRST_PIXEL = 1
  LINE_LAST_PIXEL = 20389
  LINE_PROJECTION_OFFSET = 77119.375
  MAP_PROJECTION_ROTATION = 0.0
  MAP_PROJECTION_TYPE = SINUSOIDAL
  MAP_RESOLUTION = 1185.42760773333
  MAP_SCALE = 0.05
  MAXIMUM_LATITUDE = 65.0308
  MINIMUM_LATITUDE = 47.8389
  POSITIVE_LONGITUDE_DIRECTION = EAST
  REFERENCE_LATITUDE = "N/A"
  REFERENCE_LONGITUDE = "N/A"
  SAMPLE_FIRST_PIXEL = 1
  SAMPLE_LAST_PIXEL = 3077
  SAMPLE_PROJECTION_OFFSET = 1403.125
  SECOND_STANDARD_PARALLEL = "N/A"
  WESTERNMOST_LONGITUDE = 91.25490000000001
END_OBJECT = IMAGE_MAP_PROJECTION
END
