PDS_VERSION_ID = PDS3
/* FILE DATA ELEMENTS */
RECORD_TYPE = UNDEFINED
/* POINTERS TO DATA OBJECTS */
^IMAGE = ("HQ383_0000_RE4.TIF")
/* IDENTIFICATION DATA ELEMENTS */
DATA_SET_ID = "MEX-M-HRSC-4-REFDR-MAPPROJECT-EXT9-V4.0"
DATA_SET_NAME = "MARS EXPRESS HRSC MAP PROJECTED REFDR EXTENSION9 V4.0"
DETECTOR_ID = MEX_HRSC_RED
EVENT_TYPE = "MARS-REGIONAL-MAPPING-Pf-La"
INSTRUMENT_HOST_ID = MEX
INSTRUMENT_HOST_NAME = "MARS EXPRESS"
INSTRUMENT_ID = HRSC
INSTRUMENT_NAME = "HIGH RESOLUTION STEREO CAMERA"
MISSION_NAME = "MARS EXPRESS"
MISSION_PHASE_NAME = ME_Phase_50
PROCESSING_LEVEL_ID = 4
PRODUCT_CREATION_TIME = 2025-01-29T14:56:39.000Z
PRODUCT_ID = "HQ383_0000_RE4.TIF"
RELEASE_ID = 0021
REVISION_ID = 0000
/* QUALITY DATA ELEMENTS */
DATA_QUALITY_ID = 1
DATA_QUALITY_DESC = "Data calculated based on original SPICE kernels"
/* TIME DATA ELEMENTS */
SPACECRAFT_CLOCK_START_COUNT = "1/0680610625.00347"
SPACECRAFT_CLOCK_STOP_COUNT = "1/0680610932.32337"
START_TIME = 2024-11-25T10:32:23.242Z
STOP_TIME = 2024-11-25T10:36:17.276Z
/* ORBITAL DATA ELEMENTS */
ASCENDING_NODE_LONGITUDE = 85.89
MAXIMUM_RESOLUTION = 0.0681
FOOTPRINT_POINT_LATITUDE = (67.8443,67.8017,67.7354,67.6491, 67.6469,67.7877,67.435,67.0828,66.7309, 66.3793,66.0281,65.6812,65.3394,64.9983 ,64.6575,64.1467,63.8066,63.4667, 63.1271,62.7879,62.449,62.1102,61.7717, 61.4335,61.0956,60.7635,60.4352,59.943, 59.6152,58.9602,57.9792,57.3262,56.8367 ,56.348,55.6895,55.3553,55.0214,54.6877 ,54.3541,54.0208,53.6877,53.3544, 53.0215,52.6887,52.3561,52.0236,51.6912 ,51.1913,51.0209,51.0185,51.0521, 51.1033,51.1314,51.1322,51.1337,51.6392 ,51.9723,52.3055,52.8056,53.1391,53.473 ,53.9743,54.3086,54.6431,54.9778, 55.3126,55.6475,56.1495,56.8035,57.4583 ,58.1142,58.771,59.0997,59.4287,59.758, 60.0876,60.4175,60.7477,61.0781,61.4166 ,61.757,62.0977,62.4386,62.7796,63.1213 ,63.4632,63.8054,64.1481,64.4912, 64.8345,65.1781,65.523,65.8673,66.2172, 66.75,67.1057,67.4619,67.8185,67.997, 67.8443)
FOOTPRINT_POINT_LONGITUDE = (142.704,141.709,140.352,138.82,138.784 ,138.603,138.749,138.889,139.024, 139.155,139.28,139.4,139.514,139.624, 139.73,139.883,139.98,140.075,140.166, 140.255,140.34,140.423,140.503,140.581, 140.657,140.729,140.798,140.897,140.961 ,141.083,141.254,141.359,141.435, 141.507,141.599,141.644,141.688,141.73, 141.771,141.811,141.85,141.888,141.924, 141.96,141.994,142.028,142.06,142.107, 142.123,142.123,142.716,143.736,144.375 ,144.396,144.403,144.378,144.361, 144.344,144.317,144.299,144.28,144.251, 144.231,144.211,144.19,144.169,144.147, 144.113,144.067,144.019,143.969,143.915 ,143.888,143.859,143.83,143.801,143.77, 143.738,143.706,143.672,143.637,143.601 ,143.564,143.525,143.486,143.446, 143.404,143.36,143.316,143.27,143.222, 143.174,143.123,143.07,142.986,142.928, 142.868,142.805,142.773,142.704)
ORBIT_NUMBER = 26383
ORBITAL_ECCENTRICITY = 0.568
ORBITAL_INCLINATION = 87.11
ORBITAL_SEMIMAJOR_AXIS = 8783.75
PERIAPSIS_ALTITUDE = 413.33
PERIAPSIS_ARGUMENT_ANGLE = 122.91
PERIAPSIS_TIME = 2024-11-25T10:34:30.000Z
SPACECRAFT_ORIENTATION = (0.0,-1.0,0.0)
^MEX_ORIENTATION_DESC = "MEX_ORIENTATION_DESC.TXT"
SPACECRAFT_POINTING_MODE = INERT
^MEX_POINTING_DESC = "MEX_POINTING_DESC.TXT"
RIGHT_ASCENSION = 132.721
DECLINATION = -22.806
OFFSET_ANGLE = -1e+32
SPACECRAFT_SOLAR_DISTANCE = 2.3534e+08
TARGET_NAME = MARS
/* CAMERA DATA ELEMENTS */
DETECTOR_TEMPERATURE = 17.9627
FOCAL_PLANE_TEMPERATURE = 8.3794
INST_CMPRS_NAME = "DISCRETE COSINE TRANSFORMATION (DCT)"
INST_CMPRS_RATIO = 16.4532
INST_CMPRS_QUALITY = 0
INST_CMPRS_QUANTZ_TBL_ID = 0
INSTRUMENT_TEMPERATURE = 10.4184
LENS_TEMPERATURE = 8.7872
MACROPIXEL_SIZE = 4
MISSING_FRAMES = 0
PIXEL_SUBSAMPLING_FLAG = N
SIGNAL_CHAIN_ID = 2
/* RADIOMETRIC DATA ELEMENTS */
BANDWIDTH = 48.0
CENTER_FILTER_WAVELENGTH = 748.0
RADIANCE_OFFSET = 0.916656
RADIANCE_SCALING_FACTOR = 0.00442657
REFLECTANCE_SCALING_FACTOR = 0.000559479
MEX:REFLECTANCE_OFFSET = 0.115857
/* IMAGE OBJECT DEFINITIONS */
OBJECT = IMAGE
  INTERCHANGE_FORMAT = BINARY
  LINES = 20127
  LINE_SAMPLES = 3063
  SAMPLE_TYPE = UNSIGNED_INTEGER
  SAMPLE_BITS = 8
  BANDS = 1
  BAND_STORAGE_TYPE = BAND_SEQUENTIAL
  MAXIMUM = 255
  MEAN = 142.461
  MINIMUM = 1
  STANDARD_DEVIATION = 68.9716
END_OBJECT = IMAGE
/* MAP OBJECT DEFINITIONS */
OBJECT = IMAGE_MAP_PROJECTION
  ^DATA_SET_MAP_PROJECTION_CATALOG= "DSMAP.CAT"
  A_AXIS_RADIUS = 3396.0
  B_AXIS_RADIUS = 3396.0
  C_AXIS_RADIUS = 3396.0
  CENTER_LATITUDE = 0.0
  CENTER_LONGITUDE = 143.0
  COORDINATE_SYSTEM_NAME = PLANETOGRAPHIC
  COORDINATE_SYSTEM_TYPE = "BODY-FIXED ROTATING"
  EASTERNMOST_LONGITUDE = 144.403
  FIRST_STANDARD_PARALLEL = "N/A"
  LINE_FIRST_PIXEL = 1
  LINE_LAST_PIXEL = 20127
  LINE_PROJECTION_OFFSET = 80569.125
  MAP_PROJECTION_ROTATION = 0.0
  MAP_PROJECTION_TYPE = SINUSOIDAL
  MAP_RESOLUTION = 1185.42760773333
  MAP_SCALE = 0.05
  MAXIMUM_LATITUDE = 67.997
  MINIMUM_LATITUDE = 51.0185
  POSITIVE_LONGITUDE_DIRECTION = EAST
  REFERENCE_LATITUDE = "N/A"
  REFERENCE_LONGITUDE = "N/A"
  SAMPLE_FIRST_PIXEL = 1
  SAMPLE_LAST_PIXEL = 3063
  SAMPLE_PROJECTION_OFFSET = 1897.125
  SECOND_STANDARD_PARALLEL = "N/A"
  WESTERNMOST_LONGITUDE = 138.603
END_OBJECT = IMAGE_MAP_PROJECTION
END
