PDS_VERSION_ID = PDS3
/* FILE DATA ELEMENTS */
RECORD_TYPE = UNDEFINED
/* POINTERS TO DATA OBJECTS */
^IMAGE = ("HQ383_0000_GR4.TIF")
/* IDENTIFICATION DATA ELEMENTS */
DATA_SET_ID = "MEX-M-HRSC-4-REFDR-MAPPROJECT-EXT9-V4.0"
DATA_SET_NAME = "MARS EXPRESS HRSC MAP PROJECTED REFDR EXTENSION9 V4.0"
DETECTOR_ID = MEX_HRSC_GREEN
EVENT_TYPE = "MARS-REGIONAL-MAPPING-Pf-La"
INSTRUMENT_HOST_ID = MEX
INSTRUMENT_HOST_NAME = "MARS EXPRESS"
INSTRUMENT_ID = HRSC
INSTRUMENT_NAME = "HIGH RESOLUTION STEREO CAMERA"
MISSION_NAME = "MARS EXPRESS"
MISSION_PHASE_NAME = ME_Phase_50
PROCESSING_LEVEL_ID = 4
PRODUCT_CREATION_TIME = 2025-01-29T14:56:39.000Z
PRODUCT_ID = "HQ383_0000_GR4.TIF"
RELEASE_ID = 0021
REVISION_ID = 0000
/* QUALITY DATA ELEMENTS */
DATA_QUALITY_ID = 1
DATA_QUALITY_DESC = "Data calculated based on original SPICE kernels"
/* TIME DATA ELEMENTS */
SPACECRAFT_CLOCK_START_COUNT = "1/0680610625.00347"
SPACECRAFT_CLOCK_STOP_COUNT = "1/0680610932.32337"
START_TIME = 2024-11-25T10:31:46.384Z
STOP_TIME = 2024-11-25T10:35:43.595Z
/* ORBITAL DATA ELEMENTS */
ASCENDING_NODE_LONGITUDE = 85.89
MAXIMUM_RESOLUTION = 0.0669
FOOTPRINT_POINT_LATITUDE = (67.9557,67.8817,67.8179,67.7652,67.763 ,67.7851,67.4346,67.084,66.7333,66.3826 ,66.0317,65.6879,65.3457,65.0035, 64.6613,64.1477,63.8053,63.4628,63.1248 ,62.7909,62.4569,62.1229,61.7888, 61.4547,61.1205,60.6189,60.2845,59.9499 ,59.4478,59.113,58.7781,58.4459,57.7932 ,57.3034,56.65,55.8322,55.1776,54.6861, 54.1943,53.8662,53.5367,53.1994,52.862, 52.5244,52.0175,51.6794,51.1717,51.0024 ,50.9955,51.0312,51.0726,51.111,51.1118 ,51.1132,51.4523,51.7913,52.1301, 52.4686,52.9764,53.315,53.6527,53.9831, 54.3121,54.6409,54.9695,55.2983,55.6267 ,55.9549,56.4472,56.7753,57.2672, 57.9228,58.4145,58.9117,59.2481,59.5844 ,59.9207,60.2569,60.7612,61.2655, 61.6016,61.9377,62.2738,62.6099,62.946, 63.2821,63.6222,63.9672,64.3122,64.6572 ,65.0021,65.3473,65.6924,66.0374, 66.3885,66.9199,67.2741,67.8056,67.9828 ,67.9557)
FOOTPRINT_POINT_LONGITUDE = (142.79,141.087,139.863,138.966,138.931 ,138.808,138.949,139.084,139.215, 139.341,139.463,139.578,139.689,139.796 ,139.9,140.049,140.144,140.237,140.325, 140.41,140.491,140.571,140.648,140.723, 140.796,140.9,140.968,141.033,141.127, 141.188,141.247,141.304,141.411,141.487 ,141.584,141.698,141.783,141.844, 141.902,141.94,141.977,142.013,142.049, 142.083,142.133,142.165,142.212,142.227 ,142.227,142.841,143.654,144.558,144.58 ,144.587,144.569,144.551,144.533, 144.514,144.484,144.464,144.444,144.423 ,144.402,144.381,144.36,144.337,144.315 ,144.292,144.256,144.232,144.194, 144.142,144.101,144.059,144.029,143.998 ,143.967,143.935,143.885,143.833, 143.798,143.761,143.724,143.685,143.645 ,143.605,143.562,143.518,143.472, 143.425,143.376,143.326,143.275,143.221 ,143.165,143.077,143.016,142.92,142.887 ,142.79)
ORBIT_NUMBER = 26383
ORBITAL_ECCENTRICITY = 0.568
ORBITAL_INCLINATION = 87.11
ORBITAL_SEMIMAJOR_AXIS = 8783.75
PERIAPSIS_ALTITUDE = 413.33
PERIAPSIS_ARGUMENT_ANGLE = 122.91
PERIAPSIS_TIME = 2024-11-25T10:34:30.000Z
SPACECRAFT_ORIENTATION = (0.0,-1.0,0.0)
^MEX_ORIENTATION_DESC = "MEX_ORIENTATION_DESC.TXT"
SPACECRAFT_POINTING_MODE = INERT
^MEX_POINTING_DESC = "MEX_POINTING_DESC.TXT"
RIGHT_ASCENSION = 132.721
DECLINATION = -22.806
OFFSET_ANGLE = -1e+32
SPACECRAFT_SOLAR_DISTANCE = 2.3534e+08
TARGET_NAME = MARS
/* CAMERA DATA ELEMENTS */
DETECTOR_TEMPERATURE = 17.5549
FOCAL_PLANE_TEMPERATURE = 8.3794
INST_CMPRS_NAME = "DISCRETE COSINE TRANSFORMATION (DCT)"
INST_CMPRS_RATIO = 21.4312
INST_CMPRS_QUALITY = 0
INST_CMPRS_QUANTZ_TBL_ID = 0
INSTRUMENT_TEMPERATURE = 10.4184
LENS_TEMPERATURE = 8.7872
MACROPIXEL_SIZE = 4
MISSING_FRAMES = 0
PIXEL_SUBSAMPLING_FLAG = N
SIGNAL_CHAIN_ID = 2
/* RADIOMETRIC DATA ELEMENTS */
BANDWIDTH = 88.0
CENTER_FILTER_WAVELENGTH = 538.0
RADIANCE_OFFSET = 1.24719
RADIANCE_SCALING_FACTOR = 0.00358254
REFLECTANCE_SCALING_FACTOR = 0.000170832
MEX:REFLECTANCE_OFFSET = 0.0594719
/* IMAGE OBJECT DEFINITIONS */
OBJECT = IMAGE
  INTERCHANGE_FORMAT = BINARY
  LINES = 20127
  LINE_SAMPLES = 3063
  SAMPLE_TYPE = UNSIGNED_INTEGER
  SAMPLE_BITS = 8
  BANDS = 1
  BAND_STORAGE_TYPE = BAND_SEQUENTIAL
  MAXIMUM = 255
  MEAN = 194.129
  MINIMUM = 1
  STANDARD_DEVIATION = 71.8197
END_OBJECT = IMAGE
/* MAP OBJECT DEFINITIONS */
OBJECT = IMAGE_MAP_PROJECTION
  ^DATA_SET_MAP_PROJECTION_CATALOG= "DSMAP.CAT"
  A_AXIS_RADIUS = 3396.0
  B_AXIS_RADIUS = 3396.0
  C_AXIS_RADIUS = 3396.0
  CENTER_LATITUDE = 0.0
  CENTER_LONGITUDE = 143.0
  COORDINATE_SYSTEM_NAME = PLANETOGRAPHIC
  COORDINATE_SYSTEM_TYPE = "BODY-FIXED ROTATING"
  EASTERNMOST_LONGITUDE = 144.587
  FIRST_STANDARD_PARALLEL = "N/A"
  LINE_FIRST_PIXEL = 1
  LINE_LAST_PIXEL = 20127
  LINE_PROJECTION_OFFSET = 80569.125
  MAP_PROJECTION_ROTATION = 0.0
  MAP_PROJECTION_TYPE = SINUSOIDAL
  MAP_RESOLUTION = 1185.42760773333
  MAP_SCALE = 0.05
  MAXIMUM_LATITUDE = 67.9828
  MINIMUM_LATITUDE = 50.9955
  POSITIVE_LONGITUDE_DIRECTION = EAST
  REFERENCE_LATITUDE = "N/A"
  REFERENCE_LONGITUDE = "N/A"
  SAMPLE_FIRST_PIXEL = 1
  SAMPLE_LAST_PIXEL = 3063
  SAMPLE_PROJECTION_OFFSET = 1897.125
  SECOND_STANDARD_PARALLEL = "N/A"
  WESTERNMOST_LONGITUDE = 138.808
END_OBJECT = IMAGE_MAP_PROJECTION
END
