PDS_VERSION_ID = PDS3
/* FILE DATA ELEMENTS */
RECORD_TYPE = UNDEFINED
/* POINTERS TO DATA OBJECTS */
^IMAGE = ("HQ373_0000_ND4.TIF")
/* IDENTIFICATION DATA ELEMENTS */
DATA_SET_ID = "MEX-M-HRSC-4-REFDR-MAPPROJECT-EXT9-V4.0"
DATA_SET_NAME = "MARS EXPRESS HRSC MAP PROJECTED REFDR EXTENSION9 V4.0"
DETECTOR_ID = MEX_HRSC_NADIR
EVENT_TYPE = "MARS-REGIONAL-MAPPING-Im-Pf-Eo"
INSTRUMENT_HOST_ID = MEX
INSTRUMENT_HOST_NAME = "MARS EXPRESS"
INSTRUMENT_ID = HRSC
INSTRUMENT_NAME = "HIGH RESOLUTION STEREO CAMERA"
MISSION_NAME = "MARS EXPRESS"
MISSION_PHASE_NAME = ME_Phase_50
PROCESSING_LEVEL_ID = 4
PRODUCT_CREATION_TIME = 2025-01-29T14:56:39.000Z
PRODUCT_ID = "HQ373_0000_ND4.TIF"
RELEASE_ID = 0021
REVISION_ID = 0000
/* QUALITY DATA ELEMENTS */
DATA_QUALITY_ID = 1
DATA_QUALITY_DESC = "Data calculated based on original SPICE kernels"
/* TIME DATA ELEMENTS */
SPACECRAFT_CLOCK_START_COUNT = "1/0680359161.00342"
SPACECRAFT_CLOCK_STOP_COUNT = "1/0680359464.40997"
START_TIME = 2024-11-22T12:40:55.201Z
STOP_TIME = 2024-11-22T12:44:36.201Z
/* ORBITAL DATA ELEMENTS */
ASCENDING_NODE_LONGITUDE = 86.06
MAXIMUM_RESOLUTION = 0.0168
FOOTPRINT_POINT_LATITUDE = (65.6103,65.1522,64.6872,64.1548, 64.1399,64.0624,63.5739,63.0943,62.7744 ,62.4544,62.134,61.6528,61.3319,61.0104 ,60.6935,60.3802,60.0658,59.5945, 59.2797,58.8069,58.3337,57.8597,57.3851 ,56.9101,56.5932,56.2838,55.9746, 55.6642,55.1987,54.8882,54.5768,54.2655 ,53.9536,53.6412,53.3285,52.859,52.3883 ,52.0742,51.7597,51.2868,50.9715, 50.6553,50.1811,49.8627,49.545,49.227, 48.9086,48.4301,48.27,48.2508,48.6232, 49.1459,49.5797,49.9036,49.9188,49.9265 ,50.2384,50.5493,50.8602,51.3262, 51.6369,51.9469,52.2569,52.567,52.8765, 53.3406,53.8045,54.1135,54.4222,54.7309 ,55.0394,55.3476,55.6557,56.1179, 56.4256,56.887,57.5018,58.1161,58.4307, 58.9034,59.2185,59.5334,59.8481,60.3201 ,60.9492,61.2636,61.5779,62.0492, 62.3634,62.8459,63.1681,63.4903,63.8124 ,64.1344,64.4563,64.7783,65.1001, 65.4273,65.5923,65.6103)
FOOTPRINT_POINT_LONGITUDE = (82.9203,83.0296,83.1368,83.2551, 83.2583,83.2723,83.3725,83.4666,83.5272 ,83.5861,83.6434,83.7264,83.7799,83.832 ,83.8819,83.93,83.977,84.0451,84.0891, 84.153,84.2146,84.2739,84.331,84.386, 84.4215,84.4554,84.4884,84.5207,84.5677 ,84.5981,84.6279,84.6569,84.6853, 84.7131,84.7402,84.7797,84.818,84.8427, 84.8669,84.9022,84.9251,84.9475,84.98, 85.0013,85.022,85.0422,85.062,85.0908, 85.1003,85.1014,85.0708,85.0272,84.9904 ,84.9624,84.9611,84.9604,84.94,84.9192, 84.8978,84.8649,84.8423,84.8191,84.7955 ,84.7712,84.7463,84.708,84.6682,84.6409 ,84.613,84.5843,84.555,84.525,84.4942, 84.4466,84.4139,84.3633,84.293,84.219, 84.1796,84.1186,84.0765,84.0333,83.989, 83.9202,83.8242,83.7742,83.7229,83.6432 ,83.5882,83.5007,83.4401,83.3777, 83.3134,83.2473,83.1791,83.1089,83.0365 ,82.9607,82.9215,82.9203)
ORBIT_NUMBER = 26373
ORBITAL_ECCENTRICITY = 0.568
ORBITAL_INCLINATION = 87.13
ORBITAL_SEMIMAJOR_AXIS = 8789.5
PERIAPSIS_ALTITUDE = 410.87
PERIAPSIS_ARGUMENT_ANGLE = 124.6
PERIAPSIS_TIME = 2024-11-22T12:43:38.000Z
SPACECRAFT_ORIENTATION = (0.0,1.0,0.0)
^MEX_ORIENTATION_DESC = "MEX_ORIENTATION_DESC.TXT"
SPACECRAFT_POINTING_MODE = NADIR
^MEX_POINTING_DESC = "MEX_POINTING_DESC.TXT"
RIGHT_ASCENSION = -1e+32
DECLINATION = -1e+32
OFFSET_ANGLE = -1e+32
SPACECRAFT_SOLAR_DISTANCE = 2.34822e+08
TARGET_NAME = MARS
/* CAMERA DATA ELEMENTS */
DETECTOR_TEMPERATURE = 18.1666
FOCAL_PLANE_TEMPERATURE = 8.7872
INST_CMPRS_NAME = "DISCRETE COSINE TRANSFORMATION (DCT)"
INST_CMPRS_RATIO = 7.90941
INST_CMPRS_QUALITY = 0
INST_CMPRS_QUANTZ_TBL_ID = 0
INSTRUMENT_TEMPERATURE = 10.6223
LENS_TEMPERATURE = 8.9911
MACROPIXEL_SIZE = 1
MISSING_FRAMES = 0
PIXEL_SUBSAMPLING_FLAG = N
SIGNAL_CHAIN_ID = 0
/* RADIOMETRIC DATA ELEMENTS */
BANDWIDTH = 177.0
CENTER_FILTER_WAVELENGTH = 677.5
RADIANCE_OFFSET = 2.3537
RADIANCE_SCALING_FACTOR = 0.0099936
REFLECTANCE_SCALING_FACTOR = 0.000292741
MEX:REFLECTANCE_OFFSET = 0.0689465
/* IMAGE OBJECT DEFINITIONS */
OBJECT = IMAGE
  INTERCHANGE_FORMAT = BINARY
  LINES = 82307
  LINE_SAMPLES = 5599
  SAMPLE_TYPE = UNSIGNED_INTEGER
  SAMPLE_BITS = 8
  BANDS = 1
  BAND_STORAGE_TYPE = BAND_SEQUENTIAL
  MAXIMUM = 255
  MEAN = 110.805
  MINIMUM = 1
  STANDARD_DEVIATION = 66.2678
END_OBJECT = IMAGE
/* MAP OBJECT DEFINITIONS */
OBJECT = IMAGE_MAP_PROJECTION
  ^DATA_SET_MAP_PROJECTION_CATALOG= "DSMAP.CAT"
  A_AXIS_RADIUS = 3396.0
  B_AXIS_RADIUS = 3396.0
  C_AXIS_RADIUS = 3396.0
  CENTER_LATITUDE = 0.0
  CENTER_LONGITUDE = 84.0
  COORDINATE_SYSTEM_NAME = PLANETOGRAPHIC
  COORDINATE_SYSTEM_TYPE = "BODY-FIXED ROTATING"
  EASTERNMOST_LONGITUDE = 85.1014
  FIRST_STANDARD_PARALLEL = "N/A"
  LINE_FIRST_PIXEL = 1
  LINE_LAST_PIXEL = 82307
  LINE_PROJECTION_OFFSET = 311115.0
  MAP_PROJECTION_ROTATION = 0.0
  MAP_PROJECTION_TYPE = SINUSOIDAL
  MAP_RESOLUTION = 4741.71043093333
  MAP_SCALE = 0.0125
  MAXIMUM_LATITUDE = 65.6103
  MINIMUM_LATITUDE = 48.2508
  POSITIVE_LONGITUDE_DIRECTION = EAST
  REFERENCE_LATITUDE = "N/A"
  REFERENCE_LONGITUDE = "N/A"
  SAMPLE_FIRST_PIXEL = 1
  SAMPLE_LAST_PIXEL = 5599
  SAMPLE_PROJECTION_OFFSET = 2121.0
  SECOND_STANDARD_PARALLEL = "N/A"
  WESTERNMOST_LONGITUDE = 82.9203
END_OBJECT = IMAGE_MAP_PROJECTION
END
