PDS_VERSION_ID = PDS3
/* FILE DATA ELEMENTS */
RECORD_TYPE = UNDEFINED
/* POINTERS TO DATA OBJECTS */
^IMAGE = ("HQ369_0000_P14.TIF")
/* IDENTIFICATION DATA ELEMENTS */
DATA_SET_ID = "MEX-M-HRSC-4-REFDR-MAPPROJECT-EXT9-V4.0"
DATA_SET_NAME = "MARS EXPRESS HRSC MAP PROJECTED REFDR EXTENSION9 V4.0"
DETECTOR_ID = MEX_HRSC_P1
EVENT_TYPE = "MARS-REGIONAL-MAPPING-Im-Pf-Eo"
INSTRUMENT_HOST_ID = MEX
INSTRUMENT_HOST_NAME = "MARS EXPRESS"
INSTRUMENT_ID = HRSC
INSTRUMENT_NAME = "HIGH RESOLUTION STEREO CAMERA"
MISSION_NAME = "MARS EXPRESS"
MISSION_PHASE_NAME = ME_Phase_50
PROCESSING_LEVEL_ID = 4
PRODUCT_CREATION_TIME = 2025-01-29T14:56:39.000Z
PRODUCT_ID = "HQ369_0000_P14.TIF"
RELEASE_ID = 0021
REVISION_ID = 0000
/* QUALITY DATA ELEMENTS */
DATA_QUALITY_ID = 1
DATA_QUALITY_DESC = "Data calculated based on original SPICE kernels"
/* TIME DATA ELEMENTS */
SPACECRAFT_CLOCK_START_COUNT = "1/0680258555.64215"
SPACECRAFT_CLOCK_STOP_COUNT = "1/0680258863.07755"
START_TIME = 2024-11-21T08:43:43.896Z
STOP_TIME = 2024-11-21T08:47:28.754Z
/* ORBITAL DATA ELEMENTS */
ASCENDING_NODE_LONGITUDE = 86.13
MAXIMUM_RESOLUTION = 0.0343
FOOTPRINT_POINT_LATITUDE = (66.5235,66.5378,66.5376,66.527,66.5265 ,66.4473,66.1573,65.867,65.5763,65.285, 64.9954,64.7104,64.425,64.139,63.8527, 63.5662,63.2793,62.9942,62.7135,62.4325 ,62.1514,61.8699,61.588,61.3058,61.0232 ,60.5993,60.3232,59.9084,59.6316, 59.3546,59.0772,58.7997,58.5219,58.2437 ,57.8262,57.5476,57.2688,56.8511, 56.3068,55.6254,54.9427,54.5326,54.1222 ,53.8486,53.5745,53.3004,53.0262, 52.6146,52.4774,52.4558,52.4405,52.4259 ,52.3966,52.3956,52.3958,52.8083, 53.0833,53.3581,53.6329,53.9073,54.182, 54.456,54.8669,55.141,55.6883,56.2349, 56.781,57.1992,57.479,57.7584,58.1773, 58.4561,58.8741,59.1526,59.4307,59.7086 ,59.9863,60.2638,60.541,60.9659,61.2496 ,61.5329,61.816,62.0987,62.3813,62.6634 ,62.9454,63.2313,63.5196,63.8076, 64.0952,64.3824,64.6694,64.956,65.3932, 65.6859,65.9784,66.2703,66.416,66.5235)
FOOTPRINT_POINT_LONGITUDE = (136.938,135.415,134.173,132.967,132.93 ,133.013,133.073,133.131,133.187, 133.241,133.294,133.343,133.392,133.439 ,133.485,133.529,133.572,133.613, 133.653,133.691,133.728,133.764,133.799 ,133.833,133.867,133.914,133.944, 133.988,134.015,134.042,134.069,134.094 ,134.119,134.143,134.178,134.2,134.221, 134.253,134.291,134.335,134.376,134.399 ,134.421,134.435,134.449,134.462, 134.475,134.493,134.499,134.5,135.443, 136.052,136.981,137.007,137.016,137.023 ,137.027,137.031,137.035,137.04,137.044 ,137.049,137.056,137.06,137.068,137.077 ,137.086,137.092,137.096,137.101, 137.107,137.111,137.117,137.121,137.126 ,137.13,137.134,137.138,137.142,137.148 ,137.152,137.157,137.161,137.165, 137.169,137.173,137.177,137.181,137.185 ,137.189,137.193,137.197,137.201, 137.205,137.211,137.214,137.217,137.221 ,137.223,136.938)
ORBIT_NUMBER = 26369
ORBITAL_ECCENTRICITY = 0.568
ORBITAL_INCLINATION = 87.11
ORBITAL_SEMIMAJOR_AXIS = 8788.71
PERIAPSIS_ALTITUDE = 411.68
PERIAPSIS_ARGUMENT_ANGLE = 125.3
PERIAPSIS_TIME = 2024-11-21T08:47:19.000Z
SPACECRAFT_ORIENTATION = (0.0,-1.0,0.0)
^MEX_ORIENTATION_DESC = "MEX_ORIENTATION_DESC.TXT"
SPACECRAFT_POINTING_MODE = ACROSSTRACK
^MEX_POINTING_DESC = "MEX_POINTING_DESC.TXT"
RIGHT_ASCENSION = -1e+32
DECLINATION = -1e+32
OFFSET_ANGLE = 1.4
SPACECRAFT_SOLAR_DISTANCE = 2.34613e+08
TARGET_NAME = MARS
/* CAMERA DATA ELEMENTS */
DETECTOR_TEMPERATURE = 18.3705
FOCAL_PLANE_TEMPERATURE = 8.5833
INST_CMPRS_NAME = "DISCRETE COSINE TRANSFORMATION (DCT)"
INST_CMPRS_RATIO = 8.66416
INST_CMPRS_QUALITY = 0
INST_CMPRS_QUANTZ_TBL_ID = 0
INSTRUMENT_TEMPERATURE = 10.8262
LENS_TEMPERATURE = 9.3989
MACROPIXEL_SIZE = 2
MISSING_FRAMES = 0
PIXEL_SUBSAMPLING_FLAG = N
SIGNAL_CHAIN_ID = 3
/* RADIOMETRIC DATA ELEMENTS */
BANDWIDTH = 174.0
CENTER_FILTER_WAVELENGTH = 675.0
RADIANCE_OFFSET = 4.06646
RADIANCE_SCALING_FACTOR = 0.0165375
REFLECTANCE_SCALING_FACTOR = 0.00048962
MEX:REFLECTANCE_OFFSET = 0.120394
/* IMAGE OBJECT DEFINITIONS */
OBJECT = IMAGE
  INTERCHANGE_FORMAT = BINARY
  LINES = 33358
  LINE_SAMPLES = 4372
  SAMPLE_TYPE = UNSIGNED_INTEGER
  SAMPLE_BITS = 8
  BANDS = 1
  BAND_STORAGE_TYPE = BAND_SEQUENTIAL
  MAXIMUM = 255
  MEAN = 93.5822
  MINIMUM = 1
  STANDARD_DEVIATION = 54.9859
END_OBJECT = IMAGE
/* MAP OBJECT DEFINITIONS */
OBJECT = IMAGE_MAP_PROJECTION
  ^DATA_SET_MAP_PROJECTION_CATALOG= "DSMAP.CAT"
  A_AXIS_RADIUS = 3396.0
  B_AXIS_RADIUS = 3396.0
  C_AXIS_RADIUS = 3396.0
  CENTER_LATITUDE = 0.0
  CENTER_LONGITUDE = 136.0
  COORDINATE_SYSTEM_NAME = PLANETOGRAPHIC
  COORDINATE_SYSTEM_TYPE = "BODY-FIXED ROTATING"
  EASTERNMOST_LONGITUDE = 137.223
  FIRST_STANDARD_PARALLEL = "N/A"
  LINE_FIRST_PIXEL = 1
  LINE_LAST_PIXEL = 33358
  LINE_PROJECTION_OFFSET = 157660.75
  MAP_PROJECTION_ROTATION = 0.0
  MAP_PROJECTION_TYPE = SINUSOIDAL
  MAP_RESOLUTION = 2370.85521546667
  MAP_SCALE = 0.025
  MAXIMUM_LATITUDE = 66.5378
  MINIMUM_LATITUDE = 52.3956
  POSITIVE_LONGITUDE_DIRECTION = EAST
  REFERENCE_LATITUDE = "N/A"
  REFERENCE_LONGITUDE = "N/A"
  SAMPLE_FIRST_PIXEL = 1
  SAMPLE_LAST_PIXEL = 4372
  SAMPLE_PROJECTION_OFFSET = 2875.25
  SECOND_STANDARD_PARALLEL = "N/A"
  WESTERNMOST_LONGITUDE = 132.93
END_OBJECT = IMAGE_MAP_PROJECTION
END
