PDS_VERSION_ID = PDS3
/* FILE DATA ELEMENTS */
RECORD_TYPE = UNDEFINED
/* POINTERS TO DATA OBJECTS */
^IMAGE = ("HQ369_0000_ND4.TIF")
/* IDENTIFICATION DATA ELEMENTS */
DATA_SET_ID = "MEX-M-HRSC-4-REFDR-MAPPROJECT-EXT9-V4.0"
DATA_SET_NAME = "MARS EXPRESS HRSC MAP PROJECTED REFDR EXTENSION9 V4.0"
DETECTOR_ID = MEX_HRSC_NADIR
EVENT_TYPE = "MARS-REGIONAL-MAPPING-Im-Pf-Eo"
INSTRUMENT_HOST_ID = MEX
INSTRUMENT_HOST_NAME = "MARS EXPRESS"
INSTRUMENT_ID = HRSC
INSTRUMENT_NAME = "HIGH RESOLUTION STEREO CAMERA"
MISSION_NAME = "MARS EXPRESS"
MISSION_PHASE_NAME = ME_Phase_50
PROCESSING_LEVEL_ID = 4
PRODUCT_CREATION_TIME = 2025-01-29T14:56:39.000Z
PRODUCT_ID = "HQ369_0000_ND4.TIF"
RELEASE_ID = 0021
REVISION_ID = 0000
/* QUALITY DATA ELEMENTS */
DATA_QUALITY_ID = 1
DATA_QUALITY_DESC = "Data calculated based on original SPICE kernels"
/* TIME DATA ELEMENTS */
SPACECRAFT_CLOCK_START_COUNT = "1/0680258555.64215"
SPACECRAFT_CLOCK_STOP_COUNT = "1/0680258863.07755"
START_TIME = 2024-11-21T08:44:12.283Z
STOP_TIME = 2024-11-21T08:47:54.277Z
/* ORBITAL DATA ELEMENTS */
ASCENDING_NODE_LONGITUDE = 86.13
MAXIMUM_RESOLUTION = 0.0167
FOOTPRINT_POINT_LATITUDE = (66.4976,66.4839,66.4616,66.4307, 66.4296,66.4338,66.1428,65.8515,65.56, 65.2683,64.9763,64.6861,64.4008,64.1153 ,63.8296,63.5437,63.2576,62.9714, 62.5416,62.2552,61.9755,61.6956,61.4157 ,61.1356,60.8553,60.575,60.2945,60.0139 ,59.7332,59.4524,59.1714,58.8904, 58.4695,57.9215,57.3731,56.8246,56.2758 ,55.7269,55.1779,54.4916,53.668,53.119, 52.57,52.4328,52.4292,52.437,52.4436, 52.4467,52.4459,52.4458,52.446,52.7211, 52.9962,53.2714,53.5466,53.8218,54.097, 54.5098,54.7851,55.1979,55.4732,55.7484 ,56.0236,56.2988,56.574,56.8491,57.1242 ,57.3993,57.6743,57.9493,58.2242, 58.4991,58.9212,59.2032,59.485,59.7668, 60.0485,60.3301,60.6116,60.893,61.1743, 61.4555,61.7366,62.0175,62.2984,62.7299 ,63.0175,63.3051,63.5925,63.8797, 64.1668,64.4537,64.7404,65.1788,65.4722 ,65.7654,66.0584,66.3512,66.4975, 66.4976)
FOOTPRINT_POINT_LONGITUDE = (136.874,135.439,134.207,133.014, 132.977,133.041,133.1,133.156,133.211, 133.264,133.315,133.365,133.412,133.458 ,133.502,133.545,133.587,133.627, 133.686,133.723,133.758,133.793,133.826 ,133.859,133.89,133.921,133.95,133.979, 134.007,134.033,134.06,134.085,134.122, 134.167,134.209,134.249,134.286,134.321 ,134.354,134.392,134.433,134.458, 134.481,134.487,134.487,135.011,135.669 ,136.474,136.965,136.991,137.004, 137.008,137.011,137.015,137.019,137.023 ,137.026,137.032,137.036,137.041, 137.045,137.049,137.053,137.056,137.06, 137.063,137.067,137.07,137.073,137.077, 137.08,137.084,137.089,137.091,137.095, 137.098,137.101,137.105,137.108,137.111 ,137.114,137.117,137.12,137.122,137.125 ,137.129,137.132,137.134,137.137,137.14 ,137.142,137.145,137.147,137.15,137.152 ,137.154,137.156,137.157,137.159, 136.874)
ORBIT_NUMBER = 26369
ORBITAL_ECCENTRICITY = 0.568
ORBITAL_INCLINATION = 87.11
ORBITAL_SEMIMAJOR_AXIS = 8788.71
PERIAPSIS_ALTITUDE = 411.68
PERIAPSIS_ARGUMENT_ANGLE = 125.3
PERIAPSIS_TIME = 2024-11-21T08:47:19.000Z
SPACECRAFT_ORIENTATION = (0.0,-1.0,0.0)
^MEX_ORIENTATION_DESC = "MEX_ORIENTATION_DESC.TXT"
SPACECRAFT_POINTING_MODE = ACROSSTRACK
^MEX_POINTING_DESC = "MEX_POINTING_DESC.TXT"
RIGHT_ASCENSION = -1e+32
DECLINATION = -1e+32
OFFSET_ANGLE = 1.4
SPACECRAFT_SOLAR_DISTANCE = 2.34613e+08
TARGET_NAME = MARS
/* CAMERA DATA ELEMENTS */
DETECTOR_TEMPERATURE = 17.5549
FOCAL_PLANE_TEMPERATURE = 8.5833
INST_CMPRS_NAME = "DISCRETE COSINE TRANSFORMATION (DCT)"
INST_CMPRS_RATIO = 6.65765
INST_CMPRS_QUALITY = 0
INST_CMPRS_QUANTZ_TBL_ID = 0
INSTRUMENT_TEMPERATURE = 10.8262
LENS_TEMPERATURE = 9.3989
MACROPIXEL_SIZE = 1
MISSING_FRAMES = 0
PIXEL_SUBSAMPLING_FLAG = N
SIGNAL_CHAIN_ID = 0
/* RADIOMETRIC DATA ELEMENTS */
BANDWIDTH = 177.0
CENTER_FILTER_WAVELENGTH = 677.5
RADIANCE_OFFSET = 3.65594
RADIANCE_SCALING_FACTOR = 0.0184948
REFLECTANCE_SCALING_FACTOR = 0.000540798
MEX:REFLECTANCE_OFFSET = 0.106902
/* IMAGE OBJECT DEFINITIONS */
OBJECT = IMAGE
  INTERCHANGE_FORMAT = BINARY
  LINES = 66715
  LINE_SAMPLES = 8744
  SAMPLE_TYPE = UNSIGNED_INTEGER
  SAMPLE_BITS = 8
  BANDS = 1
  BAND_STORAGE_TYPE = BAND_SEQUENTIAL
  MAXIMUM = 255
  MEAN = 84.5704
  MINIMUM = 1
  STANDARD_DEVIATION = 48.1193
END_OBJECT = IMAGE
/* MAP OBJECT DEFINITIONS */
OBJECT = IMAGE_MAP_PROJECTION
  ^DATA_SET_MAP_PROJECTION_CATALOG= "DSMAP.CAT"
  A_AXIS_RADIUS = 3396.0
  B_AXIS_RADIUS = 3396.0
  C_AXIS_RADIUS = 3396.0
  CENTER_LATITUDE = 0.0
  CENTER_LONGITUDE = 136.0
  COORDINATE_SYSTEM_NAME = PLANETOGRAPHIC
  COORDINATE_SYSTEM_TYPE = "BODY-FIXED ROTATING"
  EASTERNMOST_LONGITUDE = 137.159
  FIRST_STANDARD_PARALLEL = "N/A"
  LINE_FIRST_PIXEL = 1
  LINE_LAST_PIXEL = 66715
  LINE_PROJECTION_OFFSET = 315322.0
  MAP_PROJECTION_ROTATION = 0.0
  MAP_PROJECTION_TYPE = SINUSOIDAL
  MAP_RESOLUTION = 4741.71043093333
  MAP_SCALE = 0.0125
  MAXIMUM_LATITUDE = 66.49760000000001
  MINIMUM_LATITUDE = 52.4292
  POSITIVE_LONGITUDE_DIRECTION = EAST
  REFERENCE_LATITUDE = "N/A"
  REFERENCE_LONGITUDE = "N/A"
  SAMPLE_FIRST_PIXEL = 1
  SAMPLE_LAST_PIXEL = 8744
  SAMPLE_PROJECTION_OFFSET = 5751.0
  SECOND_STANDARD_PARALLEL = "N/A"
  WESTERNMOST_LONGITUDE = 132.977
END_OBJECT = IMAGE_MAP_PROJECTION
END
