PDS_VERSION_ID = PDS3
/* FILE DATA ELEMENTS */
RECORD_TYPE = UNDEFINED
/* POINTERS TO DATA OBJECTS */
^IMAGE = ("HQ366_0000_IR4.TIF")
/* IDENTIFICATION DATA ELEMENTS */
DATA_SET_ID = "MEX-M-HRSC-4-REFDR-MAPPROJECT-EXT9-V4.0"
DATA_SET_NAME = "MARS EXPRESS HRSC MAP PROJECTED REFDR EXTENSION9 V4.0"
DETECTOR_ID = MEX_HRSC_IR
EVENT_TYPE = "MARS-REGIONAL-MAPPING-Im-Pf-Eo"
INSTRUMENT_HOST_ID = MEX
INSTRUMENT_HOST_NAME = "MARS EXPRESS"
INSTRUMENT_ID = HRSC
INSTRUMENT_NAME = "HIGH RESOLUTION STEREO CAMERA"
MISSION_NAME = "MARS EXPRESS"
MISSION_PHASE_NAME = ME_Phase_50
PROCESSING_LEVEL_ID = 4
PRODUCT_CREATION_TIME = 2025-01-29T14:56:39.000Z
PRODUCT_ID = "HQ366_0000_IR4.TIF"
RELEASE_ID = 0021
REVISION_ID = 0000
/* QUALITY DATA ELEMENTS */
DATA_QUALITY_ID = 1
DATA_QUALITY_DESC = "Data calculated based on original SPICE kernels"
/* TIME DATA ELEMENTS */
SPACECRAFT_CLOCK_START_COUNT = "1/0680183247.64147"
SPACECRAFT_CLOCK_STOP_COUNT = "1/0680183547.54951"
START_TIME = 2024-11-20T11:48:26.790Z
STOP_TIME = 2024-11-20T11:52:03.783Z
/* ORBITAL DATA ELEMENTS */
ASCENDING_NODE_LONGITUDE = 86.18
MAXIMUM_RESOLUTION = 0.069
FOOTPRINT_POINT_LATITUDE = (58.38,58.4006,58.4084,58.4099,58.4099, 58.3222,58.0474,57.7725,57.5036,57.2341 ,56.9647,56.6952,56.2902,55.8845, 55.6137,55.2076,54.9363,54.5291,54.2574 ,53.8493,53.5773,53.1691,52.7601, 52.4872,52.2142,51.9407,51.6675,51.2573 ,50.9838,50.7096,50.4357,50.1616, 49.7503,49.476,49.2014,48.7895,48.3774, 47.9656,47.6904,47.2776,47.0025,46.7269 ,46.4516,46.0387,45.7634,45.2125, 44.7995,44.6601,44.5898,44.5807,44.5694 ,44.5517,44.5394,44.5213,44.5204, 44.5211,44.8005,45.0764,45.3521,45.7658 ,46.0421,46.3179,46.594,47.0075,47.421, 47.6969,48.1097,48.3851,48.6608,48.936, 49.3487,49.6245,49.899,50.3108,50.5855, 50.9971,51.2715,51.683,52.0939,52.5043, 52.9144,53.1879,53.4605,53.7335,54.1428 ,54.5515,54.8237,55.0958,55.3678, 55.6393,55.9105,56.3175,56.5883,56.8594 ,57.1298,57.3998,57.6698,58.0824, 58.2209,58.38)
FOOTPRINT_POINT_LONGITUDE = (82.8326,81.7103,80.879,80.0668,80.0417 ,80.0817,80.1088,80.1354,80.1606, 80.1853,80.2092,80.2324,80.266,80.2984, 80.3192,80.3492,80.3686,80.3966,80.4145 ,80.4405,80.4571,80.4809,80.5039, 80.5186,80.5327,80.5467,80.5599,80.579, 80.5911,80.6031,80.6145,80.6255,80.6412 ,80.6512,80.6608,80.6746,80.6875, 80.6994,80.7072,80.7181,80.7249,80.7316 ,80.7377,80.7464,80.7518,80.7617, 80.7683,80.7705,80.7715,81.1768,81.6088 ,82.1296,82.455,82.888,82.9088,82.9157, 82.918,82.9208,82.9239,82.928,82.9301, 82.9325,82.9347,82.9386,82.9421,82.944, 82.948,82.9503,82.9521,82.9543,82.9575, 82.9584,82.961,82.9646,82.9663,82.9693, 82.9711,82.9733,82.9759,82.9786,82.9812 ,82.9824,82.9846,82.986,82.9878,82.9897 ,82.9909,82.9919,82.9928,82.9941, 82.9955,82.9963,82.9974,82.9975,82.9982 ,82.9992,82.9998,83.0006,83.0004, 82.8326)
ORBIT_NUMBER = 26366
ORBITAL_ECCENTRICITY = 0.569
ORBITAL_INCLINATION = 87.13
ORBITAL_SEMIMAJOR_AXIS = 8791.23
PERIAPSIS_ALTITUDE = 410.27
PERIAPSIS_ARGUMENT_ANGLE = 125.8
PERIAPSIS_TIME = 2024-11-20T11:50:04.000Z
SPACECRAFT_ORIENTATION = (0.0,-1.0,0.0)
^MEX_ORIENTATION_DESC = "MEX_ORIENTATION_DESC.TXT"
SPACECRAFT_POINTING_MODE = ACROSSTRACK
^MEX_POINTING_DESC = "MEX_POINTING_DESC.TXT"
RIGHT_ASCENSION = -1e+32
DECLINATION = -1e+32
OFFSET_ANGLE = 1.13
SPACECRAFT_SOLAR_DISTANCE = 2.34456e+08
TARGET_NAME = MARS
/* CAMERA DATA ELEMENTS */
DETECTOR_TEMPERATURE = 17.5549
FOCAL_PLANE_TEMPERATURE = 9.6028
INST_CMPRS_NAME = "DISCRETE COSINE TRANSFORMATION (DCT)"
INST_CMPRS_RATIO = 6.95979
INST_CMPRS_QUALITY = 0
INST_CMPRS_QUANTZ_TBL_ID = 0
INSTRUMENT_TEMPERATURE = 11.234
LENS_TEMPERATURE = 9.3989
MACROPIXEL_SIZE = 4
MISSING_FRAMES = 0
PIXEL_SUBSAMPLING_FLAG = N
SIGNAL_CHAIN_ID = 2
/* RADIOMETRIC DATA ELEMENTS */
BANDWIDTH = 81.0
CENTER_FILTER_WAVELENGTH = 955.5
RADIANCE_OFFSET = 0.558934
RADIANCE_SCALING_FACTOR = 0.0044112
REFLECTANCE_SCALING_FACTOR = 0.000523127
MEX:REFLECTANCE_OFFSET = 0.0662844
/* IMAGE OBJECT DEFINITIONS */
OBJECT = IMAGE
  INTERCHANGE_FORMAT = BINARY
  LINES = 16325
  LINE_SAMPLES = 2032
  SAMPLE_TYPE = UNSIGNED_INTEGER
  SAMPLE_BITS = 8
  BANDS = 1
  BAND_STORAGE_TYPE = BAND_SEQUENTIAL
  MAXIMUM = 255
  MEAN = 67.3773
  MINIMUM = 1
  STANDARD_DEVIATION = 50.5205
END_OBJECT = IMAGE
/* MAP OBJECT DEFINITIONS */
OBJECT = IMAGE_MAP_PROJECTION
  ^DATA_SET_MAP_PROJECTION_CATALOG= "DSMAP.CAT"
  A_AXIS_RADIUS = 3396.0
  B_AXIS_RADIUS = 3396.0
  C_AXIS_RADIUS = 3396.0
  CENTER_LATITUDE = 0.0
  CENTER_LONGITUDE = 82.0
  COORDINATE_SYSTEM_NAME = PLANETOGRAPHIC
  COORDINATE_SYSTEM_TYPE = "BODY-FIXED ROTATING"
  EASTERNMOST_LONGITUDE = 83.00060000000001
  FIRST_STANDARD_PARALLEL = "N/A"
  LINE_FIRST_PIXEL = 1
  LINE_LAST_PIXEL = 16325
  LINE_PROJECTION_OFFSET = 69150.125
  MAP_PROJECTION_ROTATION = 0.0
  MAP_PROJECTION_TYPE = SINUSOIDAL
  MAP_RESOLUTION = 1185.42760773333
  MAP_SCALE = 0.05
  MAXIMUM_LATITUDE = 58.4099
  MINIMUM_LATITUDE = 44.5204
  POSITIVE_LONGITUDE_DIRECTION = EAST
  REFERENCE_LATITUDE = "N/A"
  REFERENCE_LONGITUDE = "N/A"
  SAMPLE_FIRST_PIXEL = 1
  SAMPLE_LAST_PIXEL = 2032
  SAMPLE_PROJECTION_OFFSET = 1220.625
  SECOND_STANDARD_PARALLEL = "N/A"
  WESTERNMOST_LONGITUDE = 80.04170000000001
END_OBJECT = IMAGE_MAP_PROJECTION
END
