PDS_VERSION_ID = PDS3
/* FILE DATA ELEMENTS */
RECORD_TYPE = UNDEFINED
/* POINTERS TO DATA OBJECTS */
^IMAGE = ("HQ356_0000_GR4.TIF")
/* IDENTIFICATION DATA ELEMENTS */
DATA_SET_ID = "MEX-M-HRSC-4-REFDR-MAPPROJECT-EXT9-V4.0"
DATA_SET_NAME = "MARS EXPRESS HRSC MAP PROJECTED REFDR EXTENSION9 V4.0"
DETECTOR_ID = MEX_HRSC_GREEN
EVENT_TYPE = "MARS-REGIONAL-MAPPING-Im-Fl-Pf"
INSTRUMENT_HOST_ID = MEX
INSTRUMENT_HOST_NAME = "MARS EXPRESS"
INSTRUMENT_ID = HRSC
INSTRUMENT_NAME = "HIGH RESOLUTION STEREO CAMERA"
MISSION_NAME = "MARS EXPRESS"
MISSION_PHASE_NAME = ME_Phase_50
PROCESSING_LEVEL_ID = 4
PRODUCT_CREATION_TIME = 2025-01-29T14:56:39.000Z
PRODUCT_ID = "HQ356_0000_GR4.TIF"
RELEASE_ID = 0021
REVISION_ID = 0000
/* QUALITY DATA ELEMENTS */
DATA_QUALITY_ID = 1
DATA_QUALITY_DESC = "Data calculated based on original SPICE kernels"
/* TIME DATA ELEMENTS */
SPACECRAFT_CLOCK_START_COUNT = "1/0679931679.64183"
SPACECRAFT_CLOCK_STOP_COUNT = "1/0679931954.45965"
START_TIME = 2024-11-17T13:56:07.696Z
STOP_TIME = 2024-11-17T13:59:20.348Z
/* ORBITAL DATA ELEMENTS */
ASCENDING_NODE_LONGITUDE = 86.36
MAXIMUM_RESOLUTION = 0.0661
FOOTPRINT_POINT_LATITUDE = (63.7711,63.747,63.7259,63.6839,63.6478 ,63.6462,63.6221,63.3742,63.1259, 62.8774,62.6288,62.3798,62.1307,61.883, 61.6396,61.3961,61.1524,60.9085,60.6644 ,60.4201,60.1756,59.931,59.6863,59.4423 ,59.2034,58.9644,58.7253,58.486,58.2466 ,57.8876,57.5277,57.2877,57.0477, 56.8075,56.5672,56.3268,56.0864,55.7271 ,55.2582,54.789,54.2021,53.7323,53.2621 ,52.9093,52.4389,52.0859,51.7328, 51.6151,51.5693,51.5955,51.6064,51.6163 ,51.6276,51.628,51.6291,51.9836,52.338, 52.6924,52.9287,53.1647,53.4008,53.6369 ,54.109,54.5808,54.9345,55.2881,55.7593 ,55.9983,56.2401,56.4818,56.7234, 56.9649,57.327,57.5683,57.8096,58.0506, 58.2916,58.5326,58.7733,59.014,59.2545, 59.4949,59.7393,59.9858,60.2321,60.4784 ,60.7244,60.9704,61.2162,61.4617, 61.7073,61.9525,62.3268,62.5779,62.8289 ,63.0797,63.3303,63.5807,63.7058, 63.7711)
FOOTPRINT_POINT_LONGITUDE = (21.5523,20.7087,20.0846,19.0274, 18.2507,18.2197,18.1347,18.2019,18.2675 ,18.3317,18.3948,18.4559,18.5159, 18.5742,18.6302,18.6849,18.7387,18.7911 ,18.8425,18.8926,18.9418,18.99,19.0374, 19.0832,19.1273,19.1703,19.2124,19.2537 ,19.2944,19.3545,19.4111,19.4482, 19.4849,19.5206,19.5554,19.5895,19.6234 ,19.672,19.7334,19.7925,19.8629,19.9167 ,19.9681,20.0053,20.0533,20.0879, 20.1215,20.1325,20.1368,20.9567,21.3672 ,21.7999,22.4277,22.4494,22.4566, 22.4421,22.4273,22.4122,22.4016,22.3914 ,22.3807,22.3698,22.3473,22.3242, 22.3062,22.2876,22.2621,22.2486,22.2349 ,22.2211,22.2069,22.1924,22.1701,22.155 ,22.1394,22.1236,22.1074,22.0909, 22.0742,22.0571,22.0397,22.022,22.0036, 21.9848,21.9654,21.9456,21.9254,21.9047 ,21.8834,21.8626,21.8403,21.8181, 21.7832,21.759,21.7344,21.7091,21.6833, 21.657,21.6437,21.5523)
ORBIT_NUMBER = 26356
ORBITAL_ECCENTRICITY = 0.568
ORBITAL_INCLINATION = 87.11
ORBITAL_SEMIMAJOR_AXIS = 8791.27
PERIAPSIS_ALTITUDE = 410.45
PERIAPSIS_ARGUMENT_ANGLE = 127.51
PERIAPSIS_TIME = 2024-11-17T13:59:13.000Z
SPACECRAFT_ORIENTATION = (0.0,-1.0,0.0)
^MEX_ORIENTATION_DESC = "MEX_ORIENTATION_DESC.TXT"
SPACECRAFT_POINTING_MODE = NADIR
^MEX_POINTING_DESC = "MEX_POINTING_DESC.TXT"
RIGHT_ASCENSION = -1e+32
DECLINATION = -1e+32
OFFSET_ANGLE = -1e+32
SPACECRAFT_SOLAR_DISTANCE = 2.33929e+08
TARGET_NAME = MARS
/* CAMERA DATA ELEMENTS */
DETECTOR_TEMPERATURE = 17.7588
FOCAL_PLANE_TEMPERATURE = 8.5833
INST_CMPRS_NAME = "DISCRETE COSINE TRANSFORMATION (DCT)"
INST_CMPRS_RATIO = 13.3401
INST_CMPRS_QUALITY = 0
INST_CMPRS_QUANTZ_TBL_ID = 0
INSTRUMENT_TEMPERATURE = 11.0301
LENS_TEMPERATURE = 8.5833
MACROPIXEL_SIZE = 4
MISSING_FRAMES = 0
PIXEL_SUBSAMPLING_FLAG = N
SIGNAL_CHAIN_ID = 2
/* RADIOMETRIC DATA ELEMENTS */
BANDWIDTH = 88.0
CENTER_FILTER_WAVELENGTH = 538.0
RADIANCE_OFFSET = 1.83274
RADIANCE_SCALING_FACTOR = 0.00470274
REFLECTANCE_SCALING_FACTOR = 0.000221568
MEX:REFLECTANCE_OFFSET = 0.0863487
/* IMAGE OBJECT DEFINITIONS */
OBJECT = IMAGE
  INTERCHANGE_FORMAT = BINARY
  LINES = 14442
  LINE_SAMPLES = 2595
  SAMPLE_TYPE = UNSIGNED_INTEGER
  SAMPLE_BITS = 8
  BANDS = 1
  BAND_STORAGE_TYPE = BAND_SEQUENTIAL
  MAXIMUM = 255
  MEAN = 110.151
  MINIMUM = 1
  STANDARD_DEVIATION = 58.8739
END_OBJECT = IMAGE
/* MAP OBJECT DEFINITIONS */
OBJECT = IMAGE_MAP_PROJECTION
  ^DATA_SET_MAP_PROJECTION_CATALOG= "DSMAP.CAT"
  A_AXIS_RADIUS = 3396.0
  B_AXIS_RADIUS = 3396.0
  C_AXIS_RADIUS = 3396.0
  CENTER_LATITUDE = 0.0
  CENTER_LONGITUDE = 21.0
  COORDINATE_SYSTEM_NAME = PLANETOGRAPHIC
  COORDINATE_SYSTEM_TYPE = "BODY-FIXED ROTATING"
  EASTERNMOST_LONGITUDE = 22.4566
  FIRST_STANDARD_PARALLEL = "N/A"
  LINE_FIRST_PIXEL = 1
  LINE_LAST_PIXEL = 14442
  LINE_PROJECTION_OFFSET = 75570.125
  MAP_PROJECTION_ROTATION = 0.0
  MAP_PROJECTION_TYPE = SINUSOIDAL
  MAP_RESOLUTION = 1185.42760773333
  MAP_SCALE = 0.05
  MAXIMUM_LATITUDE = 63.7711
  MINIMUM_LATITUDE = 51.5693
  POSITIVE_LONGITUDE_DIRECTION = EAST
  REFERENCE_LATITUDE = "N/A"
  REFERENCE_LONGITUDE = "N/A"
  SAMPLE_FIRST_PIXEL = 1
  SAMPLE_LAST_PIXEL = 2595
  SAMPLE_PROJECTION_OFFSET = 1512.625
  SECOND_STANDARD_PARALLEL = "N/A"
  WESTERNMOST_LONGITUDE = 18.1347
END_OBJECT = IMAGE_MAP_PROJECTION
END
