PDS_VERSION_ID = PDS3
/* FILE DATA ELEMENTS */
RECORD_TYPE = UNDEFINED
/* POINTERS TO DATA OBJECTS */
^IMAGE = ("HQ352_0000_RE4.TIF")
/* IDENTIFICATION DATA ELEMENTS */
DATA_SET_ID = "MEX-M-HRSC-4-REFDR-MAPPROJECT-EXT9-V4.0"
DATA_SET_NAME = "MARS EXPRESS HRSC MAP PROJECTED REFDR EXTENSION9 V4.0"
DETECTOR_ID = MEX_HRSC_RED
EVENT_TYPE = "MARS-REGIONAL-MAPPING-Im-Pf-Eo"
INSTRUMENT_HOST_ID = MEX
INSTRUMENT_HOST_NAME = "MARS EXPRESS"
INSTRUMENT_ID = HRSC
INSTRUMENT_NAME = "HIGH RESOLUTION STEREO CAMERA"
MISSION_NAME = "MARS EXPRESS"
MISSION_PHASE_NAME = ME_Phase_50
PROCESSING_LEVEL_ID = 4
PRODUCT_CREATION_TIME = 2025-01-29T14:56:39.000Z
PRODUCT_ID = "HQ352_0000_RE4.TIF"
RELEASE_ID = 0021
REVISION_ID = 0000
/* QUALITY DATA ELEMENTS */
DATA_QUALITY_ID = 1
DATA_QUALITY_DESC = "Data calculated based on original SPICE kernels"
/* TIME DATA ELEMENTS */
SPACECRAFT_CLOCK_START_COUNT = "1/0679831101.00350"
SPACECRAFT_CLOCK_STOP_COUNT = "1/0679831416.01009"
START_TIME = 2024-11-16T10:00:29.026Z
STOP_TIME = 2024-11-16T10:04:19.339Z
/* ORBITAL DATA ELEMENTS */
ASCENDING_NODE_LONGITUDE = 86.42
MAXIMUM_RESOLUTION = 0.069
FOOTPRINT_POINT_LATITUDE = (63.0728,63.0504,63.0136,62.9631, 62.9618,63.0567,62.7518,62.4467,62.1414 ,61.8365,61.3837,61.0866,60.7892, 60.4916,60.0456,59.5995,59.302,59.0047, 58.5588,58.2606,57.9681,57.6794,57.3902 ,56.9562,56.522,56.2332,55.944,55.6551, 55.2222,54.7898,54.5015,54.0691,53.7813 ,53.35,53.0621,52.7747,52.3436,52.0568, 51.7701,51.4829,51.1966,50.9096,50.6241 ,50.3381,50.0524,49.767,49.1968,48.6272 ,48.4852,48.4635,48.4797,48.4934, 48.5066,48.5068,48.5079,49.0788,49.5078 ,49.7939,50.0804,50.3668,50.6533, 50.9407,51.3717,51.6591,51.9475,52.3793 ,52.8119,53.1002,53.5335,53.9671, 54.2563,54.5456,54.8352,55.125,55.4153, 55.7054,55.9957,56.4312,56.8668,57.3027 ,57.5934,57.8844,58.1751,58.6228, 58.9218,59.221,59.5201,59.8194,60.2684, 60.5679,60.8671,61.1666,61.4657,61.7677 ,62.0751,62.3827,62.6903,62.9976, 63.1513,63.0728)
FOOTPRINT_POINT_LONGITUDE = (70.2216,69.4147,68.3116,67.0618,67.032 ,66.9242,67.0005,67.0748,67.1471,67.217 ,67.3178,67.3812,67.4431,67.5037, 67.5911,67.675,67.7293,67.7819,67.8584, 67.9084,67.9554,68.0004,68.0447,68.1092 ,68.1716,68.2114,68.2506,68.2886, 68.3436,68.3962,68.4303,68.48,68.5118, 68.5578,68.588,68.617,68.6593,68.6864, 68.7128,68.7389,68.7639,68.7887,68.812, 68.8352,68.8576,68.8794,68.9212,68.9609 ,68.9703,68.9718,69.6494,70.3279, 71.1516,71.1723,71.1791,71.16,71.1452, 71.135,71.1246,71.1139,71.1028,71.0919, 71.0747,71.0628,71.051,71.0324,71.0132, 70.9999,70.9797,70.9587,70.9442,70.9294 ,70.9144,70.899,70.8834,70.8673,70.8509 ,70.8255,70.799,70.7716,70.7528,70.7336 ,70.7138,70.6828,70.6612,70.6393, 70.6166,70.5935,70.5576,70.533,70.5075, 70.4816,70.4546,70.4274,70.3985,70.369, 70.3386,70.3072,70.2913,70.2216)
ORBIT_NUMBER = 26352
ORBITAL_ECCENTRICITY = 0.569
ORBITAL_INCLINATION = 87.13
ORBITAL_SEMIMAJOR_AXIS = 8794.83
PERIAPSIS_ALTITUDE = 409.06
PERIAPSIS_ARGUMENT_ANGLE = 128.2
PERIAPSIS_TIME = 2024-11-16T10:02:56.000Z
SPACECRAFT_ORIENTATION = (0.0,-1.0,0.0)
^MEX_ORIENTATION_DESC = "MEX_ORIENTATION_DESC.TXT"
SPACECRAFT_POINTING_MODE = NADIR
^MEX_POINTING_DESC = "MEX_POINTING_DESC.TXT"
RIGHT_ASCENSION = -1e+32
DECLINATION = -1e+32
OFFSET_ANGLE = -1e+32
SPACECRAFT_SOLAR_DISTANCE = 2.33716e+08
TARGET_NAME = MARS
/* CAMERA DATA ELEMENTS */
DETECTOR_TEMPERATURE = 17.9627
FOCAL_PLANE_TEMPERATURE = 7.9716
INST_CMPRS_NAME = "DISCRETE COSINE TRANSFORMATION (DCT)"
INST_CMPRS_RATIO = 17.9949
INST_CMPRS_QUALITY = 0
INST_CMPRS_QUANTZ_TBL_ID = 0
INSTRUMENT_TEMPERATURE = 10.8262
LENS_TEMPERATURE = 8.7872
MACROPIXEL_SIZE = 4
MISSING_FRAMES = 0
PIXEL_SUBSAMPLING_FLAG = N
SIGNAL_CHAIN_ID = 2
/* RADIOMETRIC DATA ELEMENTS */
BANDWIDTH = 48.0
CENTER_FILTER_WAVELENGTH = 748.0
RADIANCE_OFFSET = 0.795445
RADIANCE_SCALING_FACTOR = 0.00430773
REFLECTANCE_SCALING_FACTOR = 0.000536972
MEX:REFLECTANCE_OFFSET = 0.0991548
/* IMAGE OBJECT DEFINITIONS */
OBJECT = IMAGE
  INTERCHANGE_FORMAT = BINARY
  LINES = 17443
  LINE_SAMPLES = 2602
  SAMPLE_TYPE = UNSIGNED_INTEGER
  SAMPLE_BITS = 8
  BANDS = 1
  BAND_STORAGE_TYPE = BAND_SEQUENTIAL
  MAXIMUM = 255
  MEAN = 104.663
  MINIMUM = 1
  STANDARD_DEVIATION = 75.5518
END_OBJECT = IMAGE
/* MAP OBJECT DEFINITIONS */
OBJECT = IMAGE_MAP_PROJECTION
  ^DATA_SET_MAP_PROJECTION_CATALOG= "DSMAP.CAT"
  A_AXIS_RADIUS = 3396.0
  B_AXIS_RADIUS = 3396.0
  C_AXIS_RADIUS = 3396.0
  CENTER_LATITUDE = 0.0
  CENTER_LONGITUDE = 70.0
  COORDINATE_SYSTEM_NAME = PLANETOGRAPHIC
  COORDINATE_SYSTEM_TYPE = "BODY-FIXED ROTATING"
  EASTERNMOST_LONGITUDE = 71.17910000000001
  FIRST_STANDARD_PARALLEL = "N/A"
  LINE_FIRST_PIXEL = 1
  LINE_LAST_PIXEL = 17443
  LINE_PROJECTION_OFFSET = 74866.625
  MAP_PROJECTION_ROTATION = 0.0
  MAP_PROJECTION_TYPE = SINUSOIDAL
  MAP_RESOLUTION = 1185.42760773333
  MAP_SCALE = 0.05
  MAXIMUM_LATITUDE = 63.1513
  MINIMUM_LATITUDE = 48.4635
  POSITIVE_LONGITUDE_DIRECTION = EAST
  REFERENCE_LATITUDE = "N/A"
  REFERENCE_LONGITUDE = "N/A"
  SAMPLE_FIRST_PIXEL = 1
  SAMPLE_LAST_PIXEL = 2602
  SAMPLE_PROJECTION_OFFSET = 1674.625
  SECOND_STANDARD_PARALLEL = "N/A"
  WESTERNMOST_LONGITUDE = 66.9242
END_OBJECT = IMAGE_MAP_PROJECTION
END
