PDS_VERSION_ID = PDS3
/* FILE DATA ELEMENTS */
RECORD_TYPE = UNDEFINED
/* POINTERS TO DATA OBJECTS */
^IMAGE = ("HQ351_0000_S24.TIF")
/* IDENTIFICATION DATA ELEMENTS */
DATA_SET_ID = "MEX-M-HRSC-4-REFDR-MAPPROJECT-EXT9-V4.0"
DATA_SET_NAME = "MARS EXPRESS HRSC MAP PROJECTED REFDR EXTENSION9 V4.0"
DETECTOR_ID = MEX_HRSC_S2
EVENT_TYPE = "MARS-REGIONAL-MAPPING-Vo-Gl-Pf"
INSTRUMENT_HOST_ID = MEX
INSTRUMENT_HOST_NAME = "MARS EXPRESS"
INSTRUMENT_ID = HRSC
INSTRUMENT_NAME = "HIGH RESOLUTION STEREO CAMERA"
MISSION_NAME = "MARS EXPRESS"
MISSION_PHASE_NAME = ME_Phase_50
PROCESSING_LEVEL_ID = 4
PRODUCT_CREATION_TIME = 2025-01-29T14:56:39.000Z
PRODUCT_ID = "HQ351_0000_S24.TIF"
RELEASE_ID = 0021
REVISION_ID = 0000
/* QUALITY DATA ELEMENTS */
DATA_QUALITY_ID = 1
DATA_QUALITY_DESC = "Data calculated based on original SPICE kernels"
/* TIME DATA ELEMENTS */
SPACECRAFT_CLOCK_START_COUNT = "1/0679806082.65090"
SPACECRAFT_CLOCK_STOP_COUNT = "1/0679806329.15386"
START_TIME = 2024-11-16T03:03:32.826Z
STOP_TIME = 2024-11-16T03:06:19.314Z
/* ORBITAL DATA ELEMENTS */
ASCENDING_NODE_LONGITUDE = 86.44
MAXIMUM_RESOLUTION = 0.0355
FOOTPRINT_POINT_LATITUDE = (55.2884,55.2638,55.2451,55.2257, 55.2057,55.1851,55.1638,55.1624,55.2735 ,54.9579,54.7474,54.5371,54.3265, 54.1164,53.9061,53.6962,53.4864,53.2766 ,52.9621,52.6481,52.4387,52.1247, 51.9154,51.6019,51.2889,51.0793,50.8714 ,50.6636,50.4556,50.247,49.9342,49.6234 ,49.416,49.2088,49.0018,48.6913,48.4849 ,48.0719,47.6603,47.2479,47.041,46.7304 ,46.5198,46.3095,45.994,45.784,45.5749, 45.2605,44.9466,44.8418,44.8264,44.857, 44.8853,44.9111,44.9332,44.9342,44.935, 45.1447,45.3541,45.5635,45.7737,45.9837 ,46.1941,46.51,46.7206,47.0367,47.4487, 47.861,48.068,48.3782,48.5851,48.7921, 48.9996,49.2077,49.4148,49.6227,49.9349 ,50.2471,50.4555,50.6642,50.9769, 51.2908,51.6049,51.9189,52.1283,52.3376 ,52.547,52.8607,53.0728,53.2832,53.5978 ,53.8079,54.1242,54.335,54.5455,54.757, 54.9679,55.2843,55.3903,55.2884)
FOOTPRINT_POINT_LONGITUDE = (175.186,174.621,174.218,173.82,173.429 ,173.043,172.662,172.639,172.666, 172.687,172.7,172.714,172.726,172.739, 172.751,172.763,172.775,172.787,172.803 ,172.819,172.829,172.844,172.854, 172.867,172.881,172.889,172.897,172.906 ,172.914,172.921,172.932,172.942, 172.949,172.956,172.962,172.971,172.977 ,172.988,172.998,173.007,173.011, 173.018,173.022,173.026,173.031,173.035 ,173.038,173.043,173.047,173.048, 173.048,173.611,174.186,174.732,175.245 ,175.267,175.276,175.278,175.279,175.28 ,175.283,175.284,175.286,175.288,175.29 ,175.293,175.296,175.299,175.301, 175.304,175.305,175.307,175.308,175.311 ,175.312,175.313,175.316,175.318,175.32 ,175.322,175.323,175.326,175.329, 175.331,175.332,175.333,175.334,175.335 ,175.339,175.34,175.341,175.342,175.344 ,175.346,175.346,175.348,175.349,175.35 ,175.351,175.186)
ORBIT_NUMBER = 26351
ORBITAL_ECCENTRICITY = 0.568
ORBITAL_INCLINATION = 87.12
ORBITAL_SEMIMAJOR_AXIS = 8788.23
PERIAPSIS_ALTITUDE = 410.13
PERIAPSIS_ARGUMENT_ANGLE = 128.38
PERIAPSIS_TIME = 2024-11-16T03:03:52.000Z
SPACECRAFT_ORIENTATION = (0.0,-1.0,0.0)
^MEX_ORIENTATION_DESC = "MEX_ORIENTATION_DESC.TXT"
SPACECRAFT_POINTING_MODE = ACROSSTRACK
^MEX_POINTING_DESC = "MEX_POINTING_DESC.TXT"
RIGHT_ASCENSION = -1e+32
DECLINATION = -1e+32
OFFSET_ANGLE = 1.2
SPACECRAFT_SOLAR_DISTANCE = 2.33663e+08
TARGET_NAME = MARS
/* CAMERA DATA ELEMENTS */
DETECTOR_TEMPERATURE = 18.1666
FOCAL_PLANE_TEMPERATURE = 8.1755
INST_CMPRS_NAME = "DISCRETE COSINE TRANSFORMATION (DCT)"
INST_CMPRS_RATIO = 12.5241
INST_CMPRS_QUALITY = 0
INST_CMPRS_QUANTZ_TBL_ID = 0
INSTRUMENT_TEMPERATURE = 10.4184
LENS_TEMPERATURE = 8.7872
MACROPIXEL_SIZE = 2
MISSING_FRAMES = 0
PIXEL_SUBSAMPLING_FLAG = N
SIGNAL_CHAIN_ID = 1
/* RADIOMETRIC DATA ELEMENTS */
BANDWIDTH = 178.0
CENTER_FILTER_WAVELENGTH = 679.0
RADIANCE_OFFSET = 3.85955
RADIANCE_SCALING_FACTOR = 0.0143787
REFLECTANCE_SCALING_FACTOR = 0.000415746
MEX:REFLECTANCE_OFFSET = 0.111595
/* IMAGE OBJECT DEFINITIONS */
OBJECT = IMAGE
  INTERCHANGE_FORMAT = BINARY
  LINES = 24847
  LINE_SAMPLES = 4002
  SAMPLE_TYPE = UNSIGNED_INTEGER
  SAMPLE_BITS = 8
  BANDS = 1
  BAND_STORAGE_TYPE = BAND_SEQUENTIAL
  MAXIMUM = 255
  MEAN = 125.828
  MINIMUM = 1
  STANDARD_DEVIATION = 61.5947
END_OBJECT = IMAGE
/* MAP OBJECT DEFINITIONS */
OBJECT = IMAGE_MAP_PROJECTION
  ^DATA_SET_MAP_PROJECTION_CATALOG= "DSMAP.CAT"
  A_AXIS_RADIUS = 3396.0
  B_AXIS_RADIUS = 3396.0
  C_AXIS_RADIUS = 3396.0
  CENTER_LATITUDE = 0.0
  CENTER_LONGITUDE = 174.0
  COORDINATE_SYSTEM_NAME = PLANETOGRAPHIC
  COORDINATE_SYSTEM_TYPE = "BODY-FIXED ROTATING"
  EASTERNMOST_LONGITUDE = 175.351
  FIRST_STANDARD_PARALLEL = "N/A"
  LINE_FIRST_PIXEL = 1
  LINE_LAST_PIXEL = 24847
  LINE_PROJECTION_OFFSET = 131136.25
  MAP_PROJECTION_ROTATION = 0.0
  MAP_PROJECTION_TYPE = SINUSOIDAL
  MAP_RESOLUTION = 2370.85521546667
  MAP_SCALE = 0.025
  MAXIMUM_LATITUDE = 55.3903
  MINIMUM_LATITUDE = 44.8264
  POSITIVE_LONGITUDE_DIRECTION = EAST
  REFERENCE_LATITUDE = "N/A"
  REFERENCE_LONGITUDE = "N/A"
  SAMPLE_FIRST_PIXEL = 1
  SAMPLE_LAST_PIXEL = 4002
  SAMPLE_PROJECTION_OFFSET = 1883.75
  SECOND_STANDARD_PARALLEL = "N/A"
  WESTERNMOST_LONGITUDE = 172.639
END_OBJECT = IMAGE_MAP_PROJECTION
END
