PDS_VERSION_ID = PDS3
/* FILE DATA ELEMENTS */
RECORD_TYPE = UNDEFINED
/* POINTERS TO DATA OBJECTS */
^IMAGE = ("HQ328_0000_IR4.TIF")
/* IDENTIFICATION DATA ELEMENTS */
DATA_SET_ID = "MEX-M-HRSC-4-REFDR-MAPPROJECT-EXT9-V4.0"
DATA_SET_NAME = "MARS EXPRESS HRSC MAP PROJECTED REFDR EXTENSION9 V4.0"
DETECTOR_ID = MEX_HRSC_IR
EVENT_TYPE = "MARS-REGIONAL-MAPPING-Te-Im-Mw"
INSTRUMENT_HOST_ID = MEX
INSTRUMENT_HOST_NAME = "MARS EXPRESS"
INSTRUMENT_ID = HRSC
INSTRUMENT_NAME = "HIGH RESOLUTION STEREO CAMERA"
MISSION_NAME = "MARS EXPRESS"
MISSION_PHASE_NAME = ME_Phase_50
PROCESSING_LEVEL_ID = 4
PRODUCT_CREATION_TIME = 2025-01-29T14:56:39.000Z
PRODUCT_ID = "HQ328_0000_IR4.TIF"
RELEASE_ID = 0021
REVISION_ID = 0000
/* QUALITY DATA ELEMENTS */
DATA_QUALITY_ID = 1
DATA_QUALITY_DESC = "Data calculated based on original SPICE kernels"
/* TIME DATA ELEMENTS */
SPACECRAFT_CLOCK_START_COUNT = "1/0679227885.65272"
SPACECRAFT_CLOCK_STOP_COUNT = "1/0679228186.55047"
START_TIME = 2024-11-09T10:25:44.927Z
STOP_TIME = 2024-11-09T10:29:07.632Z
/* ORBITAL DATA ELEMENTS */
ASCENDING_NODE_LONGITUDE = 86.84
MAXIMUM_RESOLUTION = 0.072
FOOTPRINT_POINT_LATITUDE = (42.6664,42.5838,42.4914,42.441,42.3521 ,42.3485,42.2572,41.8902,41.4013,41.034 ,40.5445,40.0554,39.5546,39.0611, 38.8081,38.5564,38.3062,38.0541,37.8029 ,37.5501,37.2993,37.0456,36.7936, 36.4174,36.0384,35.7857,35.4008,35.1436 ,34.7575,34.3702,33.9794,33.7213, 33.4629,33.2047,32.9429,32.68,32.2855, 32.0193,31.7551,31.4913,31.2287,30.826, 30.5551,30.2845,30.0144,29.6097,29.4746 ,29.4675,29.5114,29.5886,29.632,29.6962 ,29.7303,29.7324,29.7342,30.0048, 30.4118,30.6837,30.9561,31.3615,31.7607 ,32.1593,32.425,32.6914,32.9528,33.2204 ,33.4874,33.7464,34.006,34.2663,34.5257 ,34.7831,35.0372,35.2959,35.5553, 35.9445,36.1988,36.4506,36.7035,36.9591 ,37.3432,37.5976,37.8514,38.1035, 38.3559,38.7354,38.9902,39.2434,39.4952 ,39.7479,39.9978,40.3672,40.614,40.9841 ,41.2308,41.4772,41.97,42.4624,42.5853, 42.6664)
FOOTPRINT_POINT_LONGITUDE = (359.146,358.518,357.853,357.505, 356.917,356.893,356.718,356.759,356.813 ,356.852,356.903,356.953,356.981, 357.045,357.065,357.087,357.111,357.132 ,357.154,357.173,357.195,357.211,357.23 ,357.262,357.287,357.304,357.331,357.35 ,357.377,357.401,357.419,357.434, 357.448,357.463,357.478,357.495,357.518 ,357.528,357.54,357.553,357.568,357.584 ,357.593,357.604,357.614,357.629, 357.634,357.634,357.957,358.541,358.898 ,359.452,359.748,359.766,359.772, 359.762,359.747,359.737,359.728,359.71, 359.695,359.679,359.668,359.657,359.641 ,359.631,359.622,359.609,359.597, 359.586,359.573,359.558,359.539,359.524 ,359.511,359.49,359.475,359.46,359.445, 359.433,359.416,359.402,359.387,359.371 ,359.354,359.33,359.315,359.299,359.281 ,359.264,359.247,359.221,359.203, 359.177,359.159,359.141,359.104,359.066 ,359.056,359.146)
ORBIT_NUMBER = 26328
ORBITAL_ECCENTRICITY = 0.569
ORBITAL_INCLINATION = 87.11
ORBITAL_SEMIMAJOR_AXIS = 8796.82
PERIAPSIS_ALTITUDE = 407.6
PERIAPSIS_ARGUMENT_ANGLE = 132.29
PERIAPSIS_TIME = 2024-11-09T10:24:59.000Z
SPACECRAFT_ORIENTATION = (0.0,-1.0,0.0)
^MEX_ORIENTATION_DESC = "MEX_ORIENTATION_DESC.TXT"
SPACECRAFT_POINTING_MODE = ACROSSTRACK
^MEX_POINTING_DESC = "MEX_POINTING_DESC.TXT"
RIGHT_ASCENSION = -1e+32
DECLINATION = -1e+32
OFFSET_ANGLE = -2.748
SPACECRAFT_SOLAR_DISTANCE = 2.32426e+08
TARGET_NAME = MARS
/* CAMERA DATA ELEMENTS */
DETECTOR_TEMPERATURE = 17.7588
FOCAL_PLANE_TEMPERATURE = 9.3989
INST_CMPRS_NAME = "DISCRETE COSINE TRANSFORMATION (DCT)"
INST_CMPRS_RATIO = 11.5454
INST_CMPRS_QUALITY = 0
INST_CMPRS_QUANTZ_TBL_ID = 0
INSTRUMENT_TEMPERATURE = 11.0301
LENS_TEMPERATURE = 9.6028
MACROPIXEL_SIZE = 4
MISSING_FRAMES = 0
PIXEL_SUBSAMPLING_FLAG = N
SIGNAL_CHAIN_ID = 2
/* RADIOMETRIC DATA ELEMENTS */
BANDWIDTH = 81.0
CENTER_FILTER_WAVELENGTH = 955.5
RADIANCE_OFFSET = 0.800595
RADIANCE_SCALING_FACTOR = 0.00739548
REFLECTANCE_SCALING_FACTOR = 0.000861913
MEX:REFLECTANCE_OFFSET = 0.0933062
/* IMAGE OBJECT DEFINITIONS */
OBJECT = IMAGE
  INTERCHANGE_FORMAT = BINARY
  LINES = 15307
  LINE_SAMPLES = 3068
  SAMPLE_TYPE = UNSIGNED_INTEGER
  SAMPLE_BITS = 8
  BANDS = 1
  BAND_STORAGE_TYPE = BAND_SEQUENTIAL
  MAXIMUM = 255
  MEAN = 104.015
  MINIMUM = 1
  STANDARD_DEVIATION = 47.8871
END_OBJECT = IMAGE
/* MAP OBJECT DEFINITIONS */
OBJECT = IMAGE_MAP_PROJECTION
  ^DATA_SET_MAP_PROJECTION_CATALOG= "DSMAP.CAT"
  A_AXIS_RADIUS = 3396.0
  B_AXIS_RADIUS = 3396.0
  C_AXIS_RADIUS = 3396.0
  CENTER_LATITUDE = 0.0
  CENTER_LONGITUDE = 358.0
  COORDINATE_SYSTEM_NAME = PLANETOGRAPHIC
  COORDINATE_SYSTEM_TYPE = "BODY-FIXED ROTATING"
  EASTERNMOST_LONGITUDE = 359.772
  FIRST_STANDARD_PARALLEL = "N/A"
  LINE_FIRST_PIXEL = 1
  LINE_LAST_PIXEL = 15307
  LINE_PROJECTION_OFFSET = 50400.125
  MAP_PROJECTION_ROTATION = 0.0
  MAP_PROJECTION_TYPE = SINUSOIDAL
  MAP_RESOLUTION = 1185.42760773333
  MAP_SCALE = 0.05
  MAXIMUM_LATITUDE = 42.6664
  MINIMUM_LATITUDE = 29.4675
  POSITIVE_LONGITUDE_DIRECTION = EAST
  REFERENCE_LATITUDE = "N/A"
  REFERENCE_LONGITUDE = "N/A"
  SAMPLE_FIRST_PIXEL = 1
  SAMPLE_LAST_PIXEL = 3068
  SAMPLE_PROJECTION_OFFSET = 1176.875
  SECOND_STANDARD_PARALLEL = "N/A"
  WESTERNMOST_LONGITUDE = 356.718
END_OBJECT = IMAGE_MAP_PROJECTION
END
