PDS_VERSION_ID = PDS3
/* FILE DATA ELEMENTS */
RECORD_TYPE = UNDEFINED
/* POINTERS TO DATA OBJECTS */
^IMAGE = ("HQ328_0000_GR4.TIF")
/* IDENTIFICATION DATA ELEMENTS */
DATA_SET_ID = "MEX-M-HRSC-4-REFDR-MAPPROJECT-EXT9-V4.0"
DATA_SET_NAME = "MARS EXPRESS HRSC MAP PROJECTED REFDR EXTENSION9 V4.0"
DETECTOR_ID = MEX_HRSC_GREEN
EVENT_TYPE = "MARS-REGIONAL-MAPPING-Te-Im-Mw"
INSTRUMENT_HOST_ID = MEX
INSTRUMENT_HOST_NAME = "MARS EXPRESS"
INSTRUMENT_ID = HRSC
INSTRUMENT_NAME = "HIGH RESOLUTION STEREO CAMERA"
MISSION_NAME = "MARS EXPRESS"
MISSION_PHASE_NAME = ME_Phase_50
PROCESSING_LEVEL_ID = 4
PRODUCT_CREATION_TIME = 2025-01-29T14:56:39.000Z
PRODUCT_ID = "HQ328_0000_GR4.TIF"
RELEASE_ID = 0021
REVISION_ID = 0000
/* QUALITY DATA ELEMENTS */
DATA_QUALITY_ID = 1
DATA_QUALITY_DESC = "Data calculated based on original SPICE kernels"
/* TIME DATA ELEMENTS */
SPACECRAFT_CLOCK_START_COUNT = "1/0679227885.65272"
SPACECRAFT_CLOCK_STOP_COUNT = "1/0679228186.55047"
START_TIME = 2024-11-09T10:26:11.961Z
STOP_TIME = 2024-11-09T10:29:38.045Z
/* ORBITAL DATA ELEMENTS */
ASCENDING_NODE_LONGITUDE = 86.84
MAXIMUM_RESOLUTION = 0.0693
FOOTPRINT_POINT_LATITUDE = (42.5539,42.5177,42.4753,42.4516, 42.4087,42.4069,42.3802,42.0144,41.5272 ,41.031,40.7812,40.5318,40.0327,39.7804 ,39.5307,38.785,38.2869,37.789,37.4116, 37.0293,36.7745,36.5203,36.2655,36.011, 35.6294,35.3754,35.1217,34.8639,34.604, 34.3446,34.0844,33.825,33.5658,33.3067, 33.0479,32.7841,32.3883,32.1234,31.8591 ,31.5953,31.3319,30.929,30.6595,30.3904 ,30.1216,29.7184,29.5813,29.5741, 29.5915,29.6161,29.6298,29.6474,29.6651 ,29.6657,29.6672,29.94,30.2097,30.4797, 30.8852,31.1556,31.4251,31.8227,32.0878 ,32.3533,32.619,32.8841,33.2798,33.5405 ,33.8007,34.0612,34.322,34.713,34.9726, 35.2317,35.4869,35.7426,35.9979,36.3807 ,36.6363,37.021,37.2773,37.5339,37.7883 ,38.0385,38.4138,38.6642,38.9149, 39.1658,39.4164,39.667,39.9179,40.1686, 40.4196,40.6707,41.0475,41.2987,41.7948 ,42.4078,42.5304,42.5539)
FOOTPRINT_POINT_LONGITUDE = (359.17,358.54,357.873,357.525,356.934, 356.91,356.731,356.771,356.825,356.876, 356.901,356.928,356.977,356.982,357.003 ,357.087,357.132,357.173,357.203, 357.232,357.25,357.272,357.288,357.305, 357.33,357.347,357.366,357.383,357.399, 357.416,357.426,357.441,357.455,357.469 ,357.483,357.498,357.525,357.533, 357.544,357.557,357.57,357.588,357.597, 357.606,357.616,357.631,357.636,357.636 ,357.985,358.514,358.839,359.291, 359.785,359.803,359.809,359.797,359.787 ,359.777,359.762,359.75,359.739,359.723 ,359.712,359.7,359.689,359.674,359.657, 359.648,359.635,359.622,359.61,359.589, 359.569,359.554,359.54,359.528,359.513, 359.489,359.473,359.455,359.441,359.428 ,359.414,359.397,359.372,359.356,359.34 ,359.325,359.308,359.29,359.273,359.254 ,359.236,359.219,359.191,359.173, 359.135,359.087,359.077,359.17)
ORBIT_NUMBER = 26328
ORBITAL_ECCENTRICITY = 0.569
ORBITAL_INCLINATION = 87.11
ORBITAL_SEMIMAJOR_AXIS = 8796.82
PERIAPSIS_ALTITUDE = 407.6
PERIAPSIS_ARGUMENT_ANGLE = 132.29
PERIAPSIS_TIME = 2024-11-09T10:24:59.000Z
SPACECRAFT_ORIENTATION = (0.0,-1.0,0.0)
^MEX_ORIENTATION_DESC = "MEX_ORIENTATION_DESC.TXT"
SPACECRAFT_POINTING_MODE = ACROSSTRACK
^MEX_POINTING_DESC = "MEX_POINTING_DESC.TXT"
RIGHT_ASCENSION = -1e+32
DECLINATION = -1e+32
OFFSET_ANGLE = -2.748
SPACECRAFT_SOLAR_DISTANCE = 2.32426e+08
TARGET_NAME = MARS
/* CAMERA DATA ELEMENTS */
DETECTOR_TEMPERATURE = 17.9627
FOCAL_PLANE_TEMPERATURE = 9.3989
INST_CMPRS_NAME = "DISCRETE COSINE TRANSFORMATION (DCT)"
INST_CMPRS_RATIO = 8.82279
INST_CMPRS_QUALITY = 0
INST_CMPRS_QUANTZ_TBL_ID = 0
INSTRUMENT_TEMPERATURE = 11.0301
LENS_TEMPERATURE = 9.6028
MACROPIXEL_SIZE = 4
MISSING_FRAMES = 0
PIXEL_SUBSAMPLING_FLAG = N
SIGNAL_CHAIN_ID = 2
/* RADIOMETRIC DATA ELEMENTS */
BANDWIDTH = 88.0
CENTER_FILTER_WAVELENGTH = 538.0
RADIANCE_OFFSET = 1.33236
RADIANCE_SCALING_FACTOR = 0.00593992
REFLECTANCE_SCALING_FACTOR = 0.000276272
MEX:REFLECTANCE_OFFSET = 0.0619694
/* IMAGE OBJECT DEFINITIONS */
OBJECT = IMAGE
  INTERCHANGE_FORMAT = BINARY
  LINES = 15307
  LINE_SAMPLES = 3068
  SAMPLE_TYPE = UNSIGNED_INTEGER
  SAMPLE_BITS = 8
  BANDS = 1
  BAND_STORAGE_TYPE = BAND_SEQUENTIAL
  MAXIMUM = 255
  MEAN = 105.713
  MINIMUM = 1
  STANDARD_DEVIATION = 35.5963
END_OBJECT = IMAGE
/* MAP OBJECT DEFINITIONS */
OBJECT = IMAGE_MAP_PROJECTION
  ^DATA_SET_MAP_PROJECTION_CATALOG= "DSMAP.CAT"
  A_AXIS_RADIUS = 3396.0
  B_AXIS_RADIUS = 3396.0
  C_AXIS_RADIUS = 3396.0
  CENTER_LATITUDE = 0.0
  CENTER_LONGITUDE = 358.0
  COORDINATE_SYSTEM_NAME = PLANETOGRAPHIC
  COORDINATE_SYSTEM_TYPE = "BODY-FIXED ROTATING"
  EASTERNMOST_LONGITUDE = 359.809
  FIRST_STANDARD_PARALLEL = "N/A"
  LINE_FIRST_PIXEL = 1
  LINE_LAST_PIXEL = 15307
  LINE_PROJECTION_OFFSET = 50400.125
  MAP_PROJECTION_ROTATION = 0.0
  MAP_PROJECTION_TYPE = SINUSOIDAL
  MAP_RESOLUTION = 1185.42760773333
  MAP_SCALE = 0.05
  MAXIMUM_LATITUDE = 42.5539
  MINIMUM_LATITUDE = 29.5741
  POSITIVE_LONGITUDE_DIRECTION = EAST
  REFERENCE_LATITUDE = "N/A"
  REFERENCE_LONGITUDE = "N/A"
  SAMPLE_FIRST_PIXEL = 1
  SAMPLE_LAST_PIXEL = 3068
  SAMPLE_PROJECTION_OFFSET = 1176.875
  SECOND_STANDARD_PARALLEL = "N/A"
  WESTERNMOST_LONGITUDE = 356.731
END_OBJECT = IMAGE_MAP_PROJECTION
END
