PDS_VERSION_ID = PDS3
/* FILE DATA ELEMENTS */
RECORD_TYPE = UNDEFINED
/* POINTERS TO DATA OBJECTS */
^IMAGE = ("HQ327_0000_S24.TIF")
/* IDENTIFICATION DATA ELEMENTS */
DATA_SET_ID = "MEX-M-HRSC-4-REFDR-MAPPROJECT-EXT9-V4.0"
DATA_SET_NAME = "MARS EXPRESS HRSC MAP PROJECTED REFDR EXTENSION9 V4.0"
DETECTOR_ID = MEX_HRSC_S2
EVENT_TYPE = "MARS-REGIONAL-MAPPING-Im-Pf"
INSTRUMENT_HOST_ID = MEX
INSTRUMENT_HOST_NAME = "MARS EXPRESS"
INSTRUMENT_ID = HRSC
INSTRUMENT_NAME = "HIGH RESOLUTION STEREO CAMERA"
MISSION_NAME = "MARS EXPRESS"
MISSION_PHASE_NAME = ME_Phase_50
PROCESSING_LEVEL_ID = 4
PRODUCT_CREATION_TIME = 2025-01-29T14:56:39.000Z
PRODUCT_ID = "HQ327_0000_S24.TIF"
RELEASE_ID = 0021
REVISION_ID = 0000
/* QUALITY DATA ELEMENTS */
DATA_QUALITY_ID = 1
DATA_QUALITY_DESC = "Data calculated based on original SPICE kernels"
/* TIME DATA ELEMENTS */
SPACECRAFT_CLOCK_START_COUNT = "1/0679202578.65114"
SPACECRAFT_CLOCK_STOP_COUNT = "1/0679202944.05296"
START_TIME = 2024-11-09T03:25:08.778Z
STOP_TIME = 2024-11-09T03:29:54.024Z
/* ORBITAL DATA ELEMENTS */
ASCENDING_NODE_LONGITUDE = 86.86
MAXIMUM_RESOLUTION = 0.0351
FOOTPRINT_POINT_LATITUDE = (52.7377,52.7394,52.738,52.7321,52.7318 ,52.8323,52.4812,52.1304,51.7804, 51.4304,51.0805,50.5556,50.0313,49.6825 ,49.1593,48.8104,48.4625,47.9409, 47.5934,46.8996,46.2071,45.5163,44.9991 ,44.6491,44.2959,43.766,43.4146,42.8874 ,42.5364,42.1861,41.8363,41.4868, 41.1382,40.6056,40.2489,39.8929,39.538, 39.1835,38.6522,38.1112,37.75,37.3893, 37.0297,36.671,36.1221,35.7557,35.3909, 35.2084,35.1761,35.1575,35.142,35.1162, 35.1155,35.1158,35.4816,35.8482,36.2155 ,36.5832,36.943,37.3037,37.6659,38.2091 ,38.5712,39.104,39.6382,39.9946,40.3515 ,40.7097,41.0657,41.4157,41.7662, 42.1172,42.4686,42.8207,43.1733,43.5264 ,43.88,44.2338,44.5882,45.2864,45.8064, 46.5008,46.8486,47.1967,47.545,47.8941, 48.2433,48.5928,48.9427,49.2925,49.6431 ,49.994,50.3452,50.8723,51.2238,51.7518 ,52.1039,52.633,52.8095,52.7377)
FOOTPRINT_POINT_LONGITUDE = (102.995,102.276,101.541,100.645, 100.621,100.472,100.524,100.575,100.623 ,100.67,100.715,100.782,100.846,100.887 ,100.946,100.985,101.021,101.075, 101.109,101.175,101.237,101.295,101.337 ,101.363,101.39,101.429,101.453,101.488 ,101.51,101.532,101.553,101.573,101.592 ,101.62,101.639,101.656,101.672,101.688 ,101.712,101.734,101.748,101.761, 101.774,101.786,101.803,101.814,101.824 ,101.829,101.83,102.487,103.013,103.814 ,103.833,103.84,103.829,103.819,103.808 ,103.797,103.785,103.774,103.762, 103.745,103.732,103.714,103.695,103.682 ,103.669,103.655,103.641,103.627, 103.613,103.599,103.584,103.569,103.553 ,103.537,103.521,103.504,103.487, 103.453,103.426,103.389,103.37,103.351, 103.331,103.31,103.289,103.268,103.246, 103.223,103.2,103.177,103.153,103.116, 103.09,103.051,103.023,102.981,102.967, 102.995)
ORBIT_NUMBER = 26327
ORBITAL_ECCENTRICITY = 0.569
ORBITAL_INCLINATION = 87.11
ORBITAL_SEMIMAJOR_AXIS = 8803.52
PERIAPSIS_ALTITUDE = 406.58
PERIAPSIS_ARGUMENT_ANGLE = 132.46
PERIAPSIS_TIME = 2024-11-09T03:25:55.000Z
SPACECRAFT_ORIENTATION = (0.0,-1.0,0.0)
^MEX_ORIENTATION_DESC = "MEX_ORIENTATION_DESC.TXT"
SPACECRAFT_POINTING_MODE = ACROSSTRACK
^MEX_POINTING_DESC = "MEX_POINTING_DESC.TXT"
RIGHT_ASCENSION = -1e+32
DECLINATION = -1e+32
OFFSET_ANGLE = -0.997
SPACECRAFT_SOLAR_DISTANCE = 2.32371e+08
TARGET_NAME = MARS
/* CAMERA DATA ELEMENTS */
DETECTOR_TEMPERATURE = 18.5744
FOCAL_PLANE_TEMPERATURE = 8.7872
INST_CMPRS_NAME = "DISCRETE COSINE TRANSFORMATION (DCT)"
INST_CMPRS_RATIO = 14.0648
INST_CMPRS_QUALITY = 0
INST_CMPRS_QUANTZ_TBL_ID = 0
INSTRUMENT_TEMPERATURE = 10.8262
LENS_TEMPERATURE = 9.195
MACROPIXEL_SIZE = 2
MISSING_FRAMES = 0
PIXEL_SUBSAMPLING_FLAG = N
SIGNAL_CHAIN_ID = 1
/* RADIOMETRIC DATA ELEMENTS */
BANDWIDTH = 178.0
CENTER_FILTER_WAVELENGTH = 679.0
RADIANCE_OFFSET = 3.79407
RADIANCE_SCALING_FACTOR = 0.0148787
REFLECTANCE_SCALING_FACTOR = 0.000425461
MEX:REFLECTANCE_OFFSET = 0.108493
/* IMAGE OBJECT DEFINITIONS */
OBJECT = IMAGE
  INTERCHANGE_FORMAT = BINARY
  LINES = 42133
  LINE_SAMPLES = 5695
  SAMPLE_TYPE = UNSIGNED_INTEGER
  SAMPLE_BITS = 8
  BANDS = 1
  BAND_STORAGE_TYPE = BAND_SEQUENTIAL
  MAXIMUM = 255
  MEAN = 95.7381
  MINIMUM = 1
  STANDARD_DEVIATION = 67.1947
END_OBJECT = IMAGE
/* MAP OBJECT DEFINITIONS */
OBJECT = IMAGE_MAP_PROJECTION
  ^DATA_SET_MAP_PROJECTION_CATALOG= "DSMAP.CAT"
  A_AXIS_RADIUS = 3396.0
  B_AXIS_RADIUS = 3396.0
  C_AXIS_RADIUS = 3396.0
  CENTER_LATITUDE = 0.0
  CENTER_LONGITUDE = 102.0
  COORDINATE_SYSTEM_NAME = PLANETOGRAPHIC
  COORDINATE_SYSTEM_TYPE = "BODY-FIXED ROTATING"
  EASTERNMOST_LONGITUDE = 103.84
  FIRST_STANDARD_PARALLEL = "N/A"
  LINE_FIRST_PIXEL = 1
  LINE_LAST_PIXEL = 42133
  LINE_PROJECTION_OFFSET = 125302.25
  MAP_PROJECTION_ROTATION = 0.0
  MAP_PROJECTION_TYPE = SINUSOIDAL
  MAP_RESOLUTION = 2370.85521546667
  MAP_SCALE = 0.025
  MAXIMUM_LATITUDE = 52.8323
  MINIMUM_LATITUDE = 35.1155
  POSITIVE_LONGITUDE_DIRECTION = EAST
  REFERENCE_LATITUDE = "N/A"
  REFERENCE_LONGITUDE = "N/A"
  SAMPLE_FIRST_PIXEL = 1
  SAMPLE_LAST_PIXEL = 5695
  SAMPLE_PROJECTION_OFFSET = 2184.25
  SECOND_STANDARD_PARALLEL = "N/A"
  WESTERNMOST_LONGITUDE = 100.472
END_OBJECT = IMAGE_MAP_PROJECTION
END
