PDS_VERSION_ID = PDS3
/* FILE DATA ELEMENTS */
RECORD_TYPE = UNDEFINED
/* POINTERS TO DATA OBJECTS */
^IMAGE = ("HQ327_0000_BL4.TIF")
/* IDENTIFICATION DATA ELEMENTS */
DATA_SET_ID = "MEX-M-HRSC-4-REFDR-MAPPROJECT-EXT9-V4.0"
DATA_SET_NAME = "MARS EXPRESS HRSC MAP PROJECTED REFDR EXTENSION9 V4.0"
DETECTOR_ID = MEX_HRSC_BLUE
EVENT_TYPE = "MARS-REGIONAL-MAPPING-Im-Pf"
INSTRUMENT_HOST_ID = MEX
INSTRUMENT_HOST_NAME = "MARS EXPRESS"
INSTRUMENT_ID = HRSC
INSTRUMENT_NAME = "HIGH RESOLUTION STEREO CAMERA"
MISSION_NAME = "MARS EXPRESS"
MISSION_PHASE_NAME = ME_Phase_50
PROCESSING_LEVEL_ID = 4
PRODUCT_CREATION_TIME = 2025-01-29T14:56:39.000Z
PRODUCT_ID = "HQ327_0000_BL4.TIF"
RELEASE_ID = 0021
REVISION_ID = 0000
/* QUALITY DATA ELEMENTS */
DATA_QUALITY_ID = 1
DATA_QUALITY_DESC = "Data calculated based on original SPICE kernels"
/* TIME DATA ELEMENTS */
SPACECRAFT_CLOCK_START_COUNT = "1/0679202578.65114"
SPACECRAFT_CLOCK_STOP_COUNT = "1/0679202944.05296"
START_TIME = 2024-11-09T03:24:36.937Z
STOP_TIME = 2024-11-09T03:29:18.209Z
/* ORBITAL DATA ELEMENTS */
ASCENDING_NODE_LONGITUDE = 86.86
MAXIMUM_RESOLUTION = 0.0658
FOOTPRINT_POINT_LATITUDE = (52.8339,52.8153,52.7923,52.7551, 52.7541,52.7657,52.4104,51.8772,51.5216 ,50.9899,50.6434,50.2968,49.9501,49.43, 48.9098,48.3896,48.0428,47.5226,47.1758 ,46.4822,45.6156,44.9227,44.057,43.3651 ,42.8464,42.493,42.1383,41.7838,41.4295 ,41.0754,40.7215,40.3679,40.0145, 39.6613,39.3084,38.9557,38.5959,38.2346 ,37.8735,37.5129,37.1525,36.7926,36.433 ,36.0658,35.6977,35.3301,35.1464, 35.1063,35.1126,35.118,35.1207,35.1221, 35.1221,35.1231,35.4915,36.045,36.4141, 36.7748,37.1358,37.4972,37.859,38.221, 38.5834,38.9453,39.299,39.6531,40.0073, 40.3617,40.7166,41.0716,41.4268,41.7823 ,42.138,42.4939,42.8495,43.5435,44.2382 ,44.5857,44.9333,45.281,45.8029,46.1509 ,46.499,47.0214,47.3696,47.718,48.2405, 48.589,48.9374,49.4601,49.8085,50.3312, 50.6796,51.0279,51.5615,51.9192,52.2767 ,52.6341,52.8128,52.8339)
FOOTPRINT_POINT_LONGITUDE = (102.993,102.306,101.604,100.661, 100.639,100.507,100.56,100.636,100.684, 100.755,100.799,100.843,100.885,100.946 ,101.005,101.061,101.097,101.149, 101.183,101.247,101.323,101.38,101.447, 101.496,101.531,101.554,101.576,101.598 ,101.619,101.639,101.659,101.677, 101.696,101.713,101.73,101.746,101.762, 101.778,101.793,101.807,101.821,101.834 ,101.846,101.858,101.87,101.881,101.886 ,101.887,102.346,102.887,103.313, 103.785,103.802,103.808,103.798,103.783 ,103.773,103.763,103.752,103.741, 103.731,103.719,103.708,103.696,103.684 ,103.672,103.66,103.648,103.635,103.622 ,103.609,103.595,103.581,103.567, 103.552,103.522,103.492,103.476,103.459 ,103.443,103.417,103.4,103.382,103.354, 103.335,103.315,103.285,103.265,103.244 ,103.211,103.189,103.154,103.131, 103.106,103.068,103.042,103.015,102.987 ,102.973,102.993)
ORBIT_NUMBER = 26327
ORBITAL_ECCENTRICITY = 0.569
ORBITAL_INCLINATION = 87.11
ORBITAL_SEMIMAJOR_AXIS = 8803.52
PERIAPSIS_ALTITUDE = 406.58
PERIAPSIS_ARGUMENT_ANGLE = 132.46
PERIAPSIS_TIME = 2024-11-09T03:25:55.000Z
SPACECRAFT_ORIENTATION = (0.0,-1.0,0.0)
^MEX_ORIENTATION_DESC = "MEX_ORIENTATION_DESC.TXT"
SPACECRAFT_POINTING_MODE = ACROSSTRACK
^MEX_POINTING_DESC = "MEX_POINTING_DESC.TXT"
RIGHT_ASCENSION = -1e+32
DECLINATION = -1e+32
OFFSET_ANGLE = -0.997
SPACECRAFT_SOLAR_DISTANCE = 2.32371e+08
TARGET_NAME = MARS
/* CAMERA DATA ELEMENTS */
DETECTOR_TEMPERATURE = 17.9627
FOCAL_PLANE_TEMPERATURE = 8.7872
INST_CMPRS_NAME = "DISCRETE COSINE TRANSFORMATION (DCT)"
INST_CMPRS_RATIO = 8.76004
INST_CMPRS_QUALITY = 0
INST_CMPRS_QUANTZ_TBL_ID = 0
INSTRUMENT_TEMPERATURE = 10.8262
LENS_TEMPERATURE = 9.195
MACROPIXEL_SIZE = 4
MISSING_FRAMES = 0
PIXEL_SUBSAMPLING_FLAG = N
SIGNAL_CHAIN_ID = 2
/* RADIOMETRIC DATA ELEMENTS */
BANDWIDTH = 76.0
CENTER_FILTER_WAVELENGTH = 444.0
RADIANCE_OFFSET = 0.5911
RADIANCE_SCALING_FACTOR = 0.000915768
REFLECTANCE_SCALING_FACTOR = 5.08048e-05
MEX:REFLECTANCE_OFFSET = 0.0327929
/* IMAGE OBJECT DEFINITIONS */
OBJECT = IMAGE
  INTERCHANGE_FORMAT = BINARY
  LINES = 21067
  LINE_SAMPLES = 2848
  SAMPLE_TYPE = UNSIGNED_INTEGER
  SAMPLE_BITS = 8
  BANDS = 1
  BAND_STORAGE_TYPE = BAND_SEQUENTIAL
  MAXIMUM = 255
  MEAN = 125.456
  MINIMUM = 1
  STANDARD_DEVIATION = 26.1206
END_OBJECT = IMAGE
/* MAP OBJECT DEFINITIONS */
OBJECT = IMAGE_MAP_PROJECTION
  ^DATA_SET_MAP_PROJECTION_CATALOG= "DSMAP.CAT"
  A_AXIS_RADIUS = 3396.0
  B_AXIS_RADIUS = 3396.0
  C_AXIS_RADIUS = 3396.0
  CENTER_LATITUDE = 0.0
  CENTER_LONGITUDE = 102.0
  COORDINATE_SYSTEM_NAME = PLANETOGRAPHIC
  COORDINATE_SYSTEM_TYPE = "BODY-FIXED ROTATING"
  EASTERNMOST_LONGITUDE = 103.808
  FIRST_STANDARD_PARALLEL = "N/A"
  LINE_FIRST_PIXEL = 1
  LINE_LAST_PIXEL = 21067
  LINE_PROJECTION_OFFSET = 62650.875
  MAP_PROJECTION_ROTATION = 0.0
  MAP_PROJECTION_TYPE = SINUSOIDAL
  MAP_RESOLUTION = 1185.42760773333
  MAP_SCALE = 0.05
  MAXIMUM_LATITUDE = 52.8339
  MINIMUM_LATITUDE = 35.1063
  POSITIVE_LONGITUDE_DIRECTION = EAST
  REFERENCE_LATITUDE = "N/A"
  REFERENCE_LONGITUDE = "N/A"
  SAMPLE_FIRST_PIXEL = 1
  SAMPLE_LAST_PIXEL = 2848
  SAMPLE_PROJECTION_OFFSET = 1091.875
  SECOND_STANDARD_PARALLEL = "N/A"
  WESTERNMOST_LONGITUDE = 100.507
END_OBJECT = IMAGE_MAP_PROJECTION
END
