PDS_VERSION_ID = PDS3
/* FILE DATA ELEMENTS */
RECORD_TYPE = UNDEFINED
/* POINTERS TO DATA OBJECTS */
^IMAGE = ("HQ325_0000_GR4.TIF")
/* IDENTIFICATION DATA ELEMENTS */
DATA_SET_ID = "MEX-M-HRSC-4-REFDR-MAPPROJECT-EXT9-V4.0"
DATA_SET_NAME = "MARS EXPRESS HRSC MAP PROJECTED REFDR EXTENSION9 V4.0"
DETECTOR_ID = MEX_HRSC_GREEN
EVENT_TYPE = "MARS-REGIONAL-MAPPING-Te-Eo-Mw"
INSTRUMENT_HOST_ID = MEX
INSTRUMENT_HOST_NAME = "MARS EXPRESS"
INSTRUMENT_ID = HRSC
INSTRUMENT_NAME = "HIGH RESOLUTION STEREO CAMERA"
MISSION_NAME = "MARS EXPRESS"
MISSION_PHASE_NAME = ME_Phase_50
PROCESSING_LEVEL_ID = 4
PRODUCT_CREATION_TIME = 2025-01-29T14:56:39.000Z
PRODUCT_ID = "HQ325_0000_GR4.TIF"
RELEASE_ID = 0021
REVISION_ID = 0000
/* QUALITY DATA ELEMENTS */
DATA_QUALITY_ID = 1
DATA_QUALITY_DESC = "Data calculated based on original SPICE kernels"
/* TIME DATA ELEMENTS */
SPACECRAFT_CLOCK_START_COUNT = "1/0679152397.00346"
SPACECRAFT_CLOCK_STOP_COUNT = "1/0679152671.46276"
START_TIME = 2024-11-08T13:28:00.199Z
STOP_TIME = 2024-11-08T13:31:11.613Z
/* ORBITAL DATA ELEMENTS */
ASCENDING_NODE_LONGITUDE = 86.89
MAXIMUM_RESOLUTION = 0.0657
FOOTPRINT_POINT_LATITUDE = (45.9438,45.9468,45.9452,45.9403, 45.9401,45.9261,45.5716,45.217,44.7442, 44.3896,43.7984,43.3256,42.8528,42.4986 ,42.0259,41.5533,41.1923,40.9498, 40.7073,40.4649,40.2226,39.9803,39.617, 39.2538,39.0117,38.7697,38.5278,38.1651 ,37.9234,37.6819,37.4366,37.1888, 36.9412,36.6936,36.4463,36.0754,35.5812 ,35.3343,35.0876,34.8353,34.5826,34.33, 34.0775,33.9513,33.8273,33.8258,33.8233 ,33.8203,33.8131,33.8076,33.8073, 33.8082,34.061,34.314,34.5673,34.8203, 35.0729,35.3201,35.5674,35.8148,36.0626 ,36.4341,36.6819,36.9298,37.1779, 37.4261,37.6718,37.9138,38.1559,38.3981 ,38.6403,38.8827,39.1251,39.3676, 39.6101,39.8527,40.0954,40.3381,40.581, 40.8238,41.0667,41.3097,41.5498,42.0232 ,42.2599,42.4967,42.7336,42.9704, 43.2072,43.444,43.6809,44.0363,44.2732, 44.5102,44.7471,44.984,45.3394,45.6947, 45.8132,45.9438)
FOOTPRINT_POINT_LONGITUDE = (310.49,309.68,309.078,308.486,308.468, 308.475,308.486,308.497,308.511,308.52, 308.535,308.546,308.556,308.563,308.571 ,308.579,308.584,308.588,308.591, 308.594,308.597,308.599,308.603,308.606 ,308.608,308.61,308.611,308.613,308.614 ,308.615,308.616,308.617,308.617, 308.617,308.617,308.617,308.616,308.616 ,308.615,308.614,308.613,308.612,308.61 ,308.61,308.609,308.968,309.315,309.613 ,310.147,310.471,310.489,310.495, 310.497,310.499,310.5,310.503,310.505, 310.507,310.509,310.511,310.511,310.514 ,310.517,310.519,310.521,310.522, 310.524,310.526,310.528,310.53,310.531, 310.533,310.535,310.537,310.539,310.54, 310.542,310.544,310.546,310.547,310.549 ,310.551,310.552,310.556,310.557, 310.559,310.56,310.562,310.563,310.565, 310.566,310.569,310.57,310.571,310.572, 310.574,310.576,310.578,310.579,310.49)
ORBIT_NUMBER = 26325
ORBITAL_ECCENTRICITY = 0.569
ORBITAL_INCLINATION = 87.12
ORBITAL_SEMIMAJOR_AXIS = 8796.28
PERIAPSIS_ALTITUDE = 407.19
PERIAPSIS_ARGUMENT_ANGLE = 132.84
PERIAPSIS_TIME = 2024-11-08T13:27:47.000Z
SPACECRAFT_ORIENTATION = (0.0,-1.0,0.0)
^MEX_ORIENTATION_DESC = "MEX_ORIENTATION_DESC.TXT"
SPACECRAFT_POINTING_MODE = ACROSSTRACK
^MEX_POINTING_DESC = "MEX_POINTING_DESC.TXT"
RIGHT_ASCENSION = -1e+32
DECLINATION = -1e+32
OFFSET_ANGLE = 0.9
SPACECRAFT_SOLAR_DISTANCE = 2.32262e+08
TARGET_NAME = MARS
/* CAMERA DATA ELEMENTS */
DETECTOR_TEMPERATURE = 17.7588
FOCAL_PLANE_TEMPERATURE = 8.5833
INST_CMPRS_NAME = "DISCRETE COSINE TRANSFORMATION (DCT)"
INST_CMPRS_RATIO = 9.22292
INST_CMPRS_QUALITY = 0
INST_CMPRS_QUANTZ_TBL_ID = 0
INSTRUMENT_TEMPERATURE = 10.8262
LENS_TEMPERATURE = 9.195
MACROPIXEL_SIZE = 4
MISSING_FRAMES = 0
PIXEL_SUBSAMPLING_FLAG = N
SIGNAL_CHAIN_ID = 2
/* RADIOMETRIC DATA ELEMENTS */
BANDWIDTH = 88.0
CENTER_FILTER_WAVELENGTH = 538.0
RADIANCE_OFFSET = 1.01819
RADIANCE_SCALING_FACTOR = 0.00403726
REFLECTANCE_SCALING_FACTOR = 0.000187514
MEX:REFLECTANCE_OFFSET = 0.0472907
/* IMAGE OBJECT DEFINITIONS */
OBJECT = IMAGE
  INTERCHANGE_FORMAT = BINARY
  LINES = 14367
  LINE_SAMPLES = 1929
  SAMPLE_TYPE = UNSIGNED_INTEGER
  SAMPLE_BITS = 8
  BANDS = 1
  BAND_STORAGE_TYPE = BAND_SEQUENTIAL
  MAXIMUM = 255
  MEAN = 141.457
  MINIMUM = 1
  STANDARD_DEVIATION = 35.4934
END_OBJECT = IMAGE
/* MAP OBJECT DEFINITIONS */
OBJECT = IMAGE_MAP_PROJECTION
  ^DATA_SET_MAP_PROJECTION_CATALOG= "DSMAP.CAT"
  A_AXIS_RADIUS = 3396.0
  B_AXIS_RADIUS = 3396.0
  C_AXIS_RADIUS = 3396.0
  CENTER_LATITUDE = 0.0
  CENTER_LONGITUDE = 310.0
  COORDINATE_SYSTEM_NAME = PLANETOGRAPHIC
  COORDINATE_SYSTEM_TYPE = "BODY-FIXED ROTATING"
  EASTERNMOST_LONGITUDE = 310.579
  FIRST_STANDARD_PARALLEL = "N/A"
  LINE_FIRST_PIXEL = 1
  LINE_LAST_PIXEL = 14367
  LINE_PROJECTION_OFFSET = 54459.625
  MAP_PROJECTION_ROTATION = 0.0
  MAP_PROJECTION_TYPE = SINUSOIDAL
  MAP_RESOLUTION = 1185.42760773333
  MAP_SCALE = 0.05
  MAXIMUM_LATITUDE = 45.9468
  MINIMUM_LATITUDE = 33.8073
  POSITIVE_LONGITUDE_DIRECTION = EAST
  REFERENCE_LATITUDE = "N/A"
  REFERENCE_LONGITUDE = "N/A"
  SAMPLE_FIRST_PIXEL = 1
  SAMPLE_LAST_PIXEL = 1929
  SAMPLE_PROJECTION_OFFSET = 1388.125
  SECOND_STANDARD_PARALLEL = "N/A"
  WESTERNMOST_LONGITUDE = 308.468
END_OBJECT = IMAGE_MAP_PROJECTION
END
