PDS_VERSION_ID = PDS3
/* FILE DATA ELEMENTS */
RECORD_TYPE = UNDEFINED
/* POINTERS TO DATA OBJECTS */
^IMAGE = ("HQ321_0000_S24.TIF")
/* IDENTIFICATION DATA ELEMENTS */
DATA_SET_ID = "MEX-M-HRSC-4-REFDR-MAPPROJECT-EXT9-V4.0"
DATA_SET_NAME = "MARS EXPRESS HRSC MAP PROJECTED REFDR EXTENSION9 V4.0"
DETECTOR_ID = MEX_HRSC_S2
EVENT_TYPE = "MARS-REGIONAL-MAPPING-Te-Im-Mw"
INSTRUMENT_HOST_ID = MEX
INSTRUMENT_HOST_NAME = "MARS EXPRESS"
INSTRUMENT_ID = HRSC
INSTRUMENT_NAME = "HIGH RESOLUTION STEREO CAMERA"
MISSION_NAME = "MARS EXPRESS"
MISSION_PHASE_NAME = ME_Phase_50
PROCESSING_LEVEL_ID = 4
PRODUCT_CREATION_TIME = 2025-01-29T14:56:39.000Z
PRODUCT_ID = "HQ321_0000_S24.TIF"
RELEASE_ID = 0021
REVISION_ID = 0000
/* QUALITY DATA ELEMENTS */
DATA_QUALITY_ID = 1
DATA_QUALITY_DESC = "Data calculated based on original SPICE kernels"
/* TIME DATA ELEMENTS */
SPACECRAFT_CLOCK_START_COUNT = "1/0679051857.00362"
SPACECRAFT_CLOCK_STOP_COUNT = "1/0679052146.25128"
START_TIME = 2024-11-07T09:33:04.517Z
STOP_TIME = 2024-11-07T09:36:36.292Z
/* ORBITAL DATA ELEMENTS */
ASCENDING_NODE_LONGITUDE = 86.97
MAXIMUM_RESOLUTION = 0.0357
FOOTPRINT_POINT_LATITUDE = (42.403,42.4034,42.4021,42.3982,42.3981 ,42.482,41.9945,41.746,41.4978,41.2501, 41.0023,40.7553,40.2614,39.7684,39.2774 ,38.7801,38.4031,38.1522,37.9018, 37.5265,37.1505,36.9002,36.6458,36.268, 36.0125,35.632,35.3784,35.1259,34.7393, 34.4806,34.2211,33.9692,33.7054,33.4493 ,33.1879,32.9275,32.6644,32.4033, 32.0144,31.7556,31.3557,31.0828,30.8185 ,30.5503,30.2813,29.8774,29.744,29.7343 ,29.7314,29.7252,29.7208,29.716,29.7103 ,29.71,29.7104,30.1143,30.5184,30.7867, 31.0505,31.3165,31.5842,31.8509,32.1138 ,32.3728,32.7684,33.0317,33.2954,33.555 ,33.8119,34.0698,34.4562,34.7139, 34.9729,35.2273,35.4823,35.7363,35.9901 ,36.2447,36.5005,36.8812,37.1308, 37.3815,37.7569,38.0151,38.3866,38.6386 ,38.8911,39.1402,39.633,40.0028,40.3743 ,40.6218,40.8696,41.2419,41.4918, 41.7396,41.9888,42.357,42.4784,42.403)
FOOTPRINT_POINT_LONGITUDE = (357.425,356.829,356.229,355.511, 355.492,355.432,355.454,355.465,355.475 ,355.486,355.496,355.505,355.523,355.54 ,355.556,355.571,355.582,355.589, 355.595,355.605,355.615,355.621,355.627 ,355.632,355.638,355.645,355.649, 355.653,355.659,355.663,355.667,355.667 ,355.673,355.675,355.677,355.679, 355.681,355.683,355.684,355.682,355.684 ,355.688,355.688,355.689,355.688, 355.688,355.687,355.687,356.053,356.572 ,356.975,357.28,357.642,357.661,357.667 ,357.662,357.657,357.654,357.65,357.646 ,357.643,357.64,357.636,357.632,357.627 ,357.623,357.62,357.616,357.612,357.608 ,357.602,357.598,357.594,357.59,357.586 ,357.582,357.577,357.573,357.568, 357.561,357.557,357.553,357.545,357.542 ,357.534,357.529,357.524,357.519, 357.509,357.501,357.493,357.487,357.481 ,357.473,357.467,357.461,357.455, 357.446,357.443,357.425)
ORBIT_NUMBER = 26321
ORBITAL_ECCENTRICITY = 0.569
ORBITAL_INCLINATION = 87.11
ORBITAL_SEMIMAJOR_AXIS = 8798.26
PERIAPSIS_ALTITUDE = 406.83
PERIAPSIS_ARGUMENT_ANGLE = 133.48
PERIAPSIS_TIME = 2024-11-07T09:31:23.000Z
SPACECRAFT_ORIENTATION = (0.0,-1.0,0.0)
^MEX_ORIENTATION_DESC = "MEX_ORIENTATION_DESC.TXT"
SPACECRAFT_POINTING_MODE = ACROSSTRACK
^MEX_POINTING_DESC = "MEX_POINTING_DESC.TXT"
RIGHT_ASCENSION = -1e+32
DECLINATION = -1e+32
OFFSET_ANGLE = -0.31
SPACECRAFT_SOLAR_DISTANCE = 2.32044e+08
TARGET_NAME = MARS
/* CAMERA DATA ELEMENTS */
DETECTOR_TEMPERATURE = 18.3705
FOCAL_PLANE_TEMPERATURE = 8.5833
INST_CMPRS_NAME = "DISCRETE COSINE TRANSFORMATION (DCT)"
INST_CMPRS_RATIO = 9.48715
INST_CMPRS_QUALITY = 0
INST_CMPRS_QUANTZ_TBL_ID = 0
INSTRUMENT_TEMPERATURE = 11.0301
LENS_TEMPERATURE = 10.4184
MACROPIXEL_SIZE = 2
MISSING_FRAMES = 0
PIXEL_SUBSAMPLING_FLAG = N
SIGNAL_CHAIN_ID = 1
/* RADIOMETRIC DATA ELEMENTS */
BANDWIDTH = 178.0
CENTER_FILTER_WAVELENGTH = 679.0
RADIANCE_OFFSET = 3.29326
RADIANCE_SCALING_FACTOR = 0.0260194
REFLECTANCE_SCALING_FACTOR = 0.000741938
MEX:REFLECTANCE_OFFSET = 0.0939066
/* IMAGE OBJECT DEFINITIONS */
OBJECT = IMAGE
  INTERCHANGE_FORMAT = BINARY
  LINES = 30309
  LINE_SAMPLES = 4036
  SAMPLE_TYPE = UNSIGNED_INTEGER
  SAMPLE_BITS = 8
  BANDS = 1
  BAND_STORAGE_TYPE = BAND_SEQUENTIAL
  MAXIMUM = 255
  MEAN = 98.6161
  MINIMUM = 1
  STANDARD_DEVIATION = 43.2743
END_OBJECT = IMAGE
/* MAP OBJECT DEFINITIONS */
OBJECT = IMAGE_MAP_PROJECTION
  ^DATA_SET_MAP_PROJECTION_CATALOG= "DSMAP.CAT"
  A_AXIS_RADIUS = 3396.0
  B_AXIS_RADIUS = 3396.0
  C_AXIS_RADIUS = 3396.0
  CENTER_LATITUDE = 0.0
  CENTER_LONGITUDE = 357.0
  COORDINATE_SYSTEM_NAME = PLANETOGRAPHIC
  COORDINATE_SYSTEM_TYPE = "BODY-FIXED ROTATING"
  EASTERNMOST_LONGITUDE = 357.667
  FIRST_STANDARD_PARALLEL = "N/A"
  LINE_FIRST_PIXEL = 1
  LINE_LAST_PIXEL = 30309
  LINE_PROJECTION_OFFSET = 100693.25
  MAP_PROJECTION_ROTATION = 0.0
  MAP_PROJECTION_TYPE = SINUSOIDAL
  MAP_RESOLUTION = 2370.85521546667
  MAP_SCALE = 0.025
  MAXIMUM_LATITUDE = 42.482
  MINIMUM_LATITUDE = 29.71
  POSITIVE_LONGITUDE_DIRECTION = EAST
  REFERENCE_LATITUDE = "N/A"
  REFERENCE_LONGITUDE = "N/A"
  SAMPLE_FIRST_PIXEL = 1
  SAMPLE_LAST_PIXEL = 4036
  SAMPLE_PROJECTION_OFFSET = 2743.75
  SECOND_STANDARD_PARALLEL = "N/A"
  WESTERNMOST_LONGITUDE = 355.432
END_OBJECT = IMAGE_MAP_PROJECTION
END
