PDS_VERSION_ID = PDS3
/* FILE DATA ELEMENTS */
RECORD_TYPE = UNDEFINED
/* POINTERS TO DATA OBJECTS */
^IMAGE = ("HQ321_0000_P24.TIF")
/* IDENTIFICATION DATA ELEMENTS */
DATA_SET_ID = "MEX-M-HRSC-4-REFDR-MAPPROJECT-EXT9-V4.0"
DATA_SET_NAME = "MARS EXPRESS HRSC MAP PROJECTED REFDR EXTENSION9 V4.0"
DETECTOR_ID = MEX_HRSC_P2
EVENT_TYPE = "MARS-REGIONAL-MAPPING-Te-Im-Mw"
INSTRUMENT_HOST_ID = MEX
INSTRUMENT_HOST_NAME = "MARS EXPRESS"
INSTRUMENT_ID = HRSC
INSTRUMENT_NAME = "HIGH RESOLUTION STEREO CAMERA"
MISSION_NAME = "MARS EXPRESS"
MISSION_PHASE_NAME = ME_Phase_50
PROCESSING_LEVEL_ID = 4
PRODUCT_CREATION_TIME = 2025-01-29T14:56:39.000Z
PRODUCT_ID = "HQ321_0000_P24.TIF"
RELEASE_ID = 0021
REVISION_ID = 0000
/* QUALITY DATA ELEMENTS */
DATA_QUALITY_ID = 1
DATA_QUALITY_DESC = "Data calculated based on original SPICE kernels"
/* TIME DATA ELEMENTS */
SPACECRAFT_CLOCK_START_COUNT = "1/0679051857.00362"
SPACECRAFT_CLOCK_STOP_COUNT = "1/0679052146.25128"
START_TIME = 2024-11-07T09:32:51.129Z
STOP_TIME = 2024-11-07T09:36:19.921Z
/* ORBITAL DATA ELEMENTS */
ASCENDING_NODE_LONGITUDE = 86.97
MAXIMUM_RESOLUTION = 0.0343
FOOTPRINT_POINT_LATITUDE = (42.4303,42.4285,42.4243,42.4143, 42.4141,42.4686,41.8615,41.3762,41.1295 ,40.8812,40.6328,40.2603,40.0123, 39.6407,39.3935,39.1461,38.776,38.5292, 38.2828,38.0328,37.7804,37.4018,37.0232 ,36.7709,36.5195,36.2708,36.0198, 35.7652,35.5091,35.1252,34.8693,34.4848 ,34.2288,33.9761,33.7104,33.4505, 33.1909,32.9322,32.672,32.4115,32.1482, 31.7561,31.4929,31.2231,30.9574,30.6884 ,30.4203,29.8838,29.7506,29.7108, 29.7108,29.7073,29.7045,29.6989,29.6987 ,29.6992,30.1025,30.3709,30.6395, 31.0428,31.4399,31.7047,31.9694,32.2332 ,32.628,32.8892,33.2803,33.5411,33.8018 ,34.1908,34.5727,34.8281,35.0847, 35.3422,35.728,35.9832,36.234,36.4857, 36.8632,37.1152,37.3681,37.747,38.0024, 38.2563,38.6234,38.8711,39.1183,39.3648 ,39.6145,39.9865,40.2352,40.4844, 40.7334,41.106,41.356,41.5992,41.9637, 42.3292,42.451,42.4303)
FOOTPRINT_POINT_LONGITUDE = (357.414,356.971,356.378,355.518, 355.499,355.441,355.468,355.489,355.5, 355.509,355.519,355.533,355.542,355.555 ,355.563,355.571,355.582,355.59,355.597 ,355.604,355.611,355.62,355.63,355.637, 355.642,355.646,355.651,355.656,355.661 ,355.667,355.671,355.678,355.682, 355.682,355.689,355.692,355.694,355.696 ,355.698,355.7,355.701,355.7,355.7, 355.706,355.707,355.708,355.708,355.708 ,355.708,355.708,356.16,356.723,357.06, 357.619,357.637,357.644,357.64,357.637, 357.633,357.628,357.624,357.621,357.618 ,357.614,357.609,357.606,357.601, 357.597,357.594,357.588,357.582,357.578 ,357.574,357.571,357.565,357.561, 357.557,357.553,357.546,357.542,357.538 ,357.531,357.527,357.523,357.515, 357.511,357.506,357.5,357.496,357.488, 357.483,357.478,357.472,357.464,357.459 ,357.453,357.444,357.435,357.432, 357.414)
ORBIT_NUMBER = 26321
ORBITAL_ECCENTRICITY = 0.569
ORBITAL_INCLINATION = 87.11
ORBITAL_SEMIMAJOR_AXIS = 8798.26
PERIAPSIS_ALTITUDE = 406.83
PERIAPSIS_ARGUMENT_ANGLE = 133.48
PERIAPSIS_TIME = 2024-11-07T09:31:23.000Z
SPACECRAFT_ORIENTATION = (0.0,-1.0,0.0)
^MEX_ORIENTATION_DESC = "MEX_ORIENTATION_DESC.TXT"
SPACECRAFT_POINTING_MODE = ACROSSTRACK
^MEX_POINTING_DESC = "MEX_POINTING_DESC.TXT"
RIGHT_ASCENSION = -1e+32
DECLINATION = -1e+32
OFFSET_ANGLE = -0.31
SPACECRAFT_SOLAR_DISTANCE = 2.32044e+08
TARGET_NAME = MARS
/* CAMERA DATA ELEMENTS */
DETECTOR_TEMPERATURE = 18.3705
FOCAL_PLANE_TEMPERATURE = 8.5833
INST_CMPRS_NAME = "DISCRETE COSINE TRANSFORMATION (DCT)"
INST_CMPRS_RATIO = 6.14596
INST_CMPRS_QUALITY = 0
INST_CMPRS_QUANTZ_TBL_ID = 0
INSTRUMENT_TEMPERATURE = 11.0301
LENS_TEMPERATURE = 10.4184
MACROPIXEL_SIZE = 2
MISSING_FRAMES = 0
PIXEL_SUBSAMPLING_FLAG = N
SIGNAL_CHAIN_ID = 3
/* RADIOMETRIC DATA ELEMENTS */
BANDWIDTH = 177.0
CENTER_FILTER_WAVELENGTH = 676.5
RADIANCE_OFFSET = 3.08102
RADIANCE_SCALING_FACTOR = 0.0247925
REFLECTANCE_SCALING_FACTOR = 0.000707815
MEX:REFLECTANCE_OFFSET = 0.0879617
/* IMAGE OBJECT DEFINITIONS */
OBJECT = IMAGE
  INTERCHANGE_FORMAT = BINARY
  LINES = 30309
  LINE_SAMPLES = 4036
  SAMPLE_TYPE = UNSIGNED_INTEGER
  SAMPLE_BITS = 8
  BANDS = 1
  BAND_STORAGE_TYPE = BAND_SEQUENTIAL
  MAXIMUM = 255
  MEAN = 96.8442
  MINIMUM = 1
  STANDARD_DEVIATION = 42.8382
END_OBJECT = IMAGE
/* MAP OBJECT DEFINITIONS */
OBJECT = IMAGE_MAP_PROJECTION
  ^DATA_SET_MAP_PROJECTION_CATALOG= "DSMAP.CAT"
  A_AXIS_RADIUS = 3396.0
  B_AXIS_RADIUS = 3396.0
  C_AXIS_RADIUS = 3396.0
  CENTER_LATITUDE = 0.0
  CENTER_LONGITUDE = 357.0
  COORDINATE_SYSTEM_NAME = PLANETOGRAPHIC
  COORDINATE_SYSTEM_TYPE = "BODY-FIXED ROTATING"
  EASTERNMOST_LONGITUDE = 357.644
  FIRST_STANDARD_PARALLEL = "N/A"
  LINE_FIRST_PIXEL = 1
  LINE_LAST_PIXEL = 30309
  LINE_PROJECTION_OFFSET = 100693.25
  MAP_PROJECTION_ROTATION = 0.0
  MAP_PROJECTION_TYPE = SINUSOIDAL
  MAP_RESOLUTION = 2370.85521546667
  MAP_SCALE = 0.025
  MAXIMUM_LATITUDE = 42.4686
  MINIMUM_LATITUDE = 29.6987
  POSITIVE_LONGITUDE_DIRECTION = EAST
  REFERENCE_LATITUDE = "N/A"
  REFERENCE_LONGITUDE = "N/A"
  SAMPLE_FIRST_PIXEL = 1
  SAMPLE_LAST_PIXEL = 4036
  SAMPLE_PROJECTION_OFFSET = 2743.75
  SECOND_STANDARD_PARALLEL = "N/A"
  WESTERNMOST_LONGITUDE = 355.441
END_OBJECT = IMAGE_MAP_PROJECTION
END
