PDS_VERSION_ID = PDS3
/* FILE DATA ELEMENTS */
RECORD_TYPE = UNDEFINED
/* POINTERS TO DATA OBJECTS */
^IMAGE = ("HQ305_0000_P14.TIF")
/* IDENTIFICATION DATA ELEMENTS */
DATA_SET_ID = "MEX-M-HRSC-4-REFDR-MAPPROJECT-EXT9-V4.0"
DATA_SET_NAME = "MARS EXPRESS HRSC MAP PROJECTED REFDR EXTENSION9 V4.0"
DETECTOR_ID = MEX_HRSC_P1
EVENT_TYPE = "MARS-REGIONAL-MAPPING-Vo-Eo"
INSTRUMENT_HOST_ID = MEX
INSTRUMENT_HOST_NAME = "MARS EXPRESS"
INSTRUMENT_ID = HRSC
INSTRUMENT_NAME = "HIGH RESOLUTION STEREO CAMERA"
MISSION_NAME = "MARS EXPRESS"
MISSION_PHASE_NAME = ME_Phase_50
PROCESSING_LEVEL_ID = 4
PRODUCT_CREATION_TIME = 2025-01-29T14:56:39.000Z
PRODUCT_ID = "HQ305_0000_P14.TIF"
RELEASE_ID = 0021
REVISION_ID = 0000
/* QUALITY DATA ELEMENTS */
DATA_QUALITY_ID = 1
DATA_QUALITY_DESC = "Data calculated based on original SPICE kernels"
/* TIME DATA ELEMENTS */
SPACECRAFT_CLOCK_START_COUNT = "1/0678649411.64179"
SPACECRAFT_CLOCK_STOP_COUNT = "1/0678649690.22206"
START_TIME = 2024-11-02T17:44:37.555Z
STOP_TIME = 2024-11-02T17:47:53.281Z
/* ORBITAL DATA ELEMENTS */
ASCENDING_NODE_LONGITUDE = 87.23
MAXIMUM_RESOLUTION = 0.0338
FOOTPRINT_POINT_LATITUDE = (47.2652,47.2181,47.1646,47.092,47.0899 ,47.0186,46.5322,46.0449,45.557,45.0685 ,44.5792,44.2119,43.9669,43.7217, 43.4764,43.2309,42.9853,42.7396,42.4936 ,42.1246,41.8784,41.6321,41.3856, 41.0159,40.6459,40.399,40.1521,39.905, 39.658,39.4108,39.041,38.7945,38.5478, 38.3001,38.0534,37.8055,37.5584,37.3102 ,37.0602,36.8151,36.566,36.3185,35.9461 ,35.6973,35.4489,35.0771,34.8291, 34.7051,34.6835,34.7163,34.7384,34.7789 ,34.8144,34.8155,34.8164,35.0651, 35.3139,35.687,36.0601,36.5575,36.8061, 37.0547,37.3033,37.5519,37.8004,38.049, 38.2974,38.5459,38.9185,39.1668,39.4157 ,39.6659,39.9113,40.1593,40.5312, 40.7795,41.0269,41.2743,41.5219,41.7694 ,42.0168,42.264,42.5112,42.7581,43.005, 43.3753,43.6219,43.9918,44.2381,44.4843 ,44.7303,45.0991,45.3449,45.5905, 45.8358,46.2038,46.6937,47.0606,47.1829 ,47.2652)
FOOTPRINT_POINT_LONGITUDE = (189.887,189.236,188.562,187.733, 187.711,187.575,187.632,187.686,187.739 ,187.79,187.839,187.874,187.897,187.92, 187.942,187.964,187.986,188.007,188.028 ,188.058,188.078,188.097,188.116, 188.144,188.171,188.188,188.205,188.222 ,188.239,188.255,188.28,188.297,188.313 ,188.327,188.343,188.356,188.371, 188.384,188.393,188.41,188.42,188.433, 188.45,188.46,188.471,188.487,188.498, 188.503,188.504,188.923,189.222,189.806 ,190.37,190.387,190.393,190.386,190.378 ,190.367,190.355,190.339,190.33,190.322 ,190.313,190.305,190.296,190.287, 190.278,190.269,190.255,190.245,190.236 ,190.228,190.216,190.206,190.19,190.18, 190.169,190.158,190.147,190.136,190.125 ,190.113,190.102,190.09,190.078,190.06, 190.047,190.028,190.015,190.002,189.989 ,189.968,189.955,189.941,189.926, 189.905,189.875,189.852,189.845, 189.887)
ORBIT_NUMBER = 26305
ORBITAL_ECCENTRICITY = 0.569
ORBITAL_INCLINATION = 87.12
ORBITAL_SEMIMAJOR_AXIS = 8800.06
PERIAPSIS_ALTITUDE = 404.92
PERIAPSIS_ARGUMENT_ANGLE = 136.23
PERIAPSIS_TIME = 2024-11-02T17:45:58.000Z
SPACECRAFT_ORIENTATION = (0.0,-1.0,0.0)
^MEX_ORIENTATION_DESC = "MEX_ORIENTATION_DESC.TXT"
SPACECRAFT_POINTING_MODE = ACROSSTRACK
^MEX_POINTING_DESC = "MEX_POINTING_DESC.TXT"
RIGHT_ASCENSION = -1e+32
DECLINATION = -1e+32
OFFSET_ANGLE = -1.54
SPACECRAFT_SOLAR_DISTANCE = 2.31165e+08
TARGET_NAME = MARS
/* CAMERA DATA ELEMENTS */
DETECTOR_TEMPERATURE = 17.351
FOCAL_PLANE_TEMPERATURE = 8.5833
INST_CMPRS_NAME = "DISCRETE COSINE TRANSFORMATION (DCT)"
INST_CMPRS_RATIO = 11.4188
INST_CMPRS_QUALITY = 0
INST_CMPRS_QUANTZ_TBL_ID = 0
INSTRUMENT_TEMPERATURE = 10.8262
LENS_TEMPERATURE = 8.5833
MACROPIXEL_SIZE = 2
MISSING_FRAMES = 0
PIXEL_SUBSAMPLING_FLAG = N
SIGNAL_CHAIN_ID = 3
/* RADIOMETRIC DATA ELEMENTS */
BANDWIDTH = 174.0
CENTER_FILTER_WAVELENGTH = 675.0
RADIANCE_OFFSET = 4.86419
RADIANCE_SCALING_FACTOR = 0.0140749
REFLECTANCE_SCALING_FACTOR = 0.000404552
MEX:REFLECTANCE_OFFSET = 0.13981
/* IMAGE OBJECT DEFINITIONS */
OBJECT = IMAGE
  INTERCHANGE_FORMAT = BINARY
  LINES = 29474
  LINE_SAMPLES = 5146
  SAMPLE_TYPE = UNSIGNED_INTEGER
  SAMPLE_BITS = 8
  BANDS = 1
  BAND_STORAGE_TYPE = BAND_SEQUENTIAL
  MAXIMUM = 255
  MEAN = 92.4582
  MINIMUM = 1
  STANDARD_DEVIATION = 27.7382
END_OBJECT = IMAGE
/* MAP OBJECT DEFINITIONS */
OBJECT = IMAGE_MAP_PROJECTION
  ^DATA_SET_MAP_PROJECTION_CATALOG= "DSMAP.CAT"
  A_AXIS_RADIUS = 3396.0
  B_AXIS_RADIUS = 3396.0
  C_AXIS_RADIUS = 3396.0
  CENTER_LATITUDE = 0.0
  CENTER_LONGITUDE = 189.0
  COORDINATE_SYSTEM_NAME = PLANETOGRAPHIC
  COORDINATE_SYSTEM_TYPE = "BODY-FIXED ROTATING"
  EASTERNMOST_LONGITUDE = 190.393
  FIRST_STANDARD_PARALLEL = "N/A"
  LINE_FIRST_PIXEL = 1
  LINE_LAST_PIXEL = 29474
  LINE_PROJECTION_OFFSET = 111883.75
  MAP_PROJECTION_ROTATION = 0.0
  MAP_PROJECTION_TYPE = SINUSOIDAL
  MAP_RESOLUTION = 2370.85521546667
  MAP_SCALE = 0.025
  MAXIMUM_LATITUDE = 47.2652
  MINIMUM_LATITUDE = 34.6835
  POSITIVE_LONGITUDE_DIRECTION = EAST
  REFERENCE_LATITUDE = "N/A"
  REFERENCE_LONGITUDE = "N/A"
  SAMPLE_FIRST_PIXEL = 1
  SAMPLE_LAST_PIXEL = 5146
  SAMPLE_PROJECTION_OFFSET = 2353.75
  SECOND_STANDARD_PARALLEL = "N/A"
  WESTERNMOST_LONGITUDE = 187.575
END_OBJECT = IMAGE_MAP_PROJECTION
END
