PDS_VERSION_ID = PDS3
/* FILE DATA ELEMENTS */
RECORD_TYPE = UNDEFINED
/* POINTERS TO DATA OBJECTS */
^IMAGE = ("HQ298_0000_S14.TIF")
/* IDENTIFICATION DATA ELEMENTS */
DATA_SET_ID = "MEX-M-HRSC-4-REFDR-MAPPROJECT-EXT9-V4.0"
DATA_SET_NAME = "MARS EXPRESS HRSC MAP PROJECTED REFDR EXTENSION9 V4.0"
DETECTOR_ID = MEX_HRSC_S1
EVENT_TYPE = "MARS-REGIONAL-MAPPING-Vo-Eo"
INSTRUMENT_HOST_ID = MEX
INSTRUMENT_HOST_NAME = "MARS EXPRESS"
INSTRUMENT_ID = HRSC
INSTRUMENT_NAME = "HIGH RESOLUTION STEREO CAMERA"
MISSION_NAME = "MARS EXPRESS"
MISSION_PHASE_NAME = ME_Phase_50
PROCESSING_LEVEL_ID = 4
PRODUCT_CREATION_TIME = 2025-01-29T08:28:47.000Z
PRODUCT_ID = "HQ298_0000_S14.TIF"
RELEASE_ID = 0020
REVISION_ID = 0000
/* QUALITY DATA ELEMENTS */
DATA_QUALITY_ID = 1
DATA_QUALITY_DESC = "Data calculated based on original SPICE kernels"
/* TIME DATA ELEMENTS */
SPACECRAFT_CLOCK_START_COUNT = "1/0678473511.64188"
SPACECRAFT_CLOCK_STOP_COUNT = "1/0678473804.37608"
START_TIME = 2024-10-31T16:52:43.742Z
STOP_TIME = 2024-10-31T16:56:07.390Z
/* ORBITAL DATA ELEMENTS */
ASCENDING_NODE_LONGITUDE = 87.35
MAXIMUM_RESOLUTION = 0.0347
FOOTPRINT_POINT_LATITUDE = (39.0285,39.0167,39.0013,38.9778, 38.9771,38.899,38.3941,37.8886,37.3826, 36.876,36.6226,36.369,36.1153,35.8615, 35.6076,35.3537,35.0996,34.8454,34.5911 ,34.3367,34.0822,33.8277,33.5738, 33.3184,33.0639,32.8089,32.5541,32.2992 ,31.9068,31.645,31.3831,31.1211,30.7279 ,30.3347,30.0726,29.6803,29.4175, 29.1491,28.8798,28.6109,28.3418,28.073, 27.8037,27.5347,27.2659,26.8542,26.4403 ,26.0267,25.889,25.8726,25.8795,25.8865 ,25.8919,25.8934,25.8968,25.8967, 25.8973,26.317,26.5926,26.8691,27.2819, 27.5513,27.8212,28.0905,28.3602,28.6299 ,29.0343,29.304,29.5696,29.8323,30.095, 30.4892,30.8831,31.1456,31.4082,31.6707 ,31.933,32.3266,32.5827,32.8376,33.093, 33.3483,33.6035,33.8588,34.1139,34.3689 ,34.6238,34.8787,35.1337,35.5156,35.77, 36.1515,36.406,36.9142,37.2955,37.8048, 38.1831,38.8155,38.942,39.0285)
FOOTPRINT_POINT_LONGITUDE = (186.932,186.381,185.828,185.166, 185.149,185.105,185.123,185.139,185.155 ,185.17,185.177,185.184,185.191,185.197 ,185.203,185.209,185.215,185.221, 185.226,185.231,185.236,185.24,185.245, 185.249,185.253,185.257,185.26,185.264, 185.269,185.272,185.274,185.277,185.28, 185.283,185.285,185.288,185.289,185.29, 185.291,185.291,185.292,185.292,185.292 ,185.293,185.292,185.292,185.291, 185.289,185.289,185.289,185.594,185.933 ,186.254,186.54,187.01,187.027,187.033, 187.032,187.031,187.03,187.029,187.028, 187.027,187.027,187.026,187.025,187.023 ,187.022,187.021,187.02,187.019,187.017 ,187.015,187.014,187.012,187.011,187.01 ,187.007,187.006,187.004,187.003, 187.001,186.999,186.997,186.996,186.994 ,186.992,186.99,186.988,186.985,186.983 ,186.979,186.977,186.972,186.969, 186.963,186.96,186.953,186.951,186.932)
ORBIT_NUMBER = 26298
ORBITAL_ECCENTRICITY = 0.569
ORBITAL_INCLINATION = 87.12
ORBITAL_SEMIMAJOR_AXIS = 8801.63
PERIAPSIS_ALTITUDE = 404.26
PERIAPSIS_ARGUMENT_ANGLE = 137.43
PERIAPSIS_TIME = 2024-10-31T16:52:24.000Z
SPACECRAFT_ORIENTATION = (0.0,-1.0,0.0)
^MEX_ORIENTATION_DESC = "MEX_ORIENTATION_DESC.TXT"
SPACECRAFT_POINTING_MODE = ACROSSTRACK
^MEX_POINTING_DESC = "MEX_POINTING_DESC.TXT"
RIGHT_ASCENSION = -1e+32
DECLINATION = -1e+32
OFFSET_ANGLE = -0.269
SPACECRAFT_SOLAR_DISTANCE = 2.30778e+08
TARGET_NAME = MARS
/* CAMERA DATA ELEMENTS */
DETECTOR_TEMPERATURE = 17.1471
FOCAL_PLANE_TEMPERATURE = 9.6028
INST_CMPRS_NAME = "DISCRETE COSINE TRANSFORMATION (DCT)"
INST_CMPRS_RATIO = 8.75943
INST_CMPRS_QUALITY = 0
INST_CMPRS_QUANTZ_TBL_ID = 0
INSTRUMENT_TEMPERATURE = 11.0301
LENS_TEMPERATURE = 9.6028
MACROPIXEL_SIZE = 2
MISSING_FRAMES = 1
PIXEL_SUBSAMPLING_FLAG = N
SIGNAL_CHAIN_ID = 1
/* RADIOMETRIC DATA ELEMENTS */
BANDWIDTH = 180.0
CENTER_FILTER_WAVELENGTH = 677.0
RADIANCE_OFFSET = 4.65329
RADIANCE_SCALING_FACTOR = 0.020884
REFLECTANCE_SCALING_FACTOR = 0.00058029
MEX:REFLECTANCE_OFFSET = 0.129298
/* IMAGE OBJECT DEFINITIONS */
OBJECT = IMAGE
  INTERCHANGE_FORMAT = BINARY
  LINES = 30925
  LINE_SAMPLES = 3995
  SAMPLE_TYPE = UNSIGNED_INTEGER
  SAMPLE_BITS = 8
  BANDS = 1
  BAND_STORAGE_TYPE = BAND_SEQUENTIAL
  MAXIMUM = 255
  MEAN = 100.323
  MINIMUM = 1
  STANDARD_DEVIATION = 26.2779
END_OBJECT = IMAGE
/* MAP OBJECT DEFINITIONS */
OBJECT = IMAGE_MAP_PROJECTION
  ^DATA_SET_MAP_PROJECTION_CATALOG= "DSMAP.CAT"
  A_AXIS_RADIUS = 3396.0
  B_AXIS_RADIUS = 3396.0
  C_AXIS_RADIUS = 3396.0
  CENTER_LATITUDE = 0.0
  CENTER_LONGITUDE = 186.0
  COORDINATE_SYSTEM_NAME = PLANETOGRAPHIC
  COORDINATE_SYSTEM_TYPE = "BODY-FIXED ROTATING"
  EASTERNMOST_LONGITUDE = 187.033
  FIRST_STANDARD_PARALLEL = "N/A"
  LINE_FIRST_PIXEL = 1
  LINE_LAST_PIXEL = 30925
  LINE_PROJECTION_OFFSET = 92396.25
  MAP_PROJECTION_ROTATION = 0.0
  MAP_PROJECTION_TYPE = SINUSOIDAL
  MAP_RESOLUTION = 2370.85521546667
  MAP_SCALE = 0.025
  MAXIMUM_LATITUDE = 39.0285
  MINIMUM_LATITUDE = 25.8726
  POSITIVE_LONGITUDE_DIRECTION = EAST
  REFERENCE_LATITUDE = "N/A"
  REFERENCE_LONGITUDE = "N/A"
  SAMPLE_FIRST_PIXEL = 1
  SAMPLE_LAST_PIXEL = 3995
  SAMPLE_PROJECTION_OFFSET = 1707.75
  SECOND_STANDARD_PARALLEL = "N/A"
  WESTERNMOST_LONGITUDE = 185.105
END_OBJECT = IMAGE_MAP_PROJECTION
END
