PDS_VERSION_ID = PDS3
/* FILE DATA ELEMENTS */
RECORD_TYPE = UNDEFINED
/* POINTERS TO DATA OBJECTS */
^IMAGE = ("HQ293_0000_S24.TIF")
/* IDENTIFICATION DATA ELEMENTS */
DATA_SET_ID = "MEX-M-HRSC-4-REFDR-MAPPROJECT-EXT9-V4.0"
DATA_SET_NAME = "MARS EXPRESS HRSC MAP PROJECTED REFDR EXTENSION9 V4.0"
DETECTOR_ID = MEX_HRSC_S2
EVENT_TYPE = "MARS-REGIONAL-MAPPING-Fl-Eo-Mw"
INSTRUMENT_HOST_ID = MEX
INSTRUMENT_HOST_NAME = "MARS EXPRESS"
INSTRUMENT_ID = HRSC
INSTRUMENT_NAME = "HIGH RESOLUTION STEREO CAMERA"
MISSION_NAME = "MARS EXPRESS"
MISSION_PHASE_NAME = ME_Phase_50
PROCESSING_LEVEL_ID = 4
PRODUCT_CREATION_TIME = 2025-01-29T08:28:47.000Z
PRODUCT_ID = "HQ293_0000_S24.TIF"
RELEASE_ID = 0020
REVISION_ID = 0000
/* QUALITY DATA ELEMENTS */
DATA_QUALITY_ID = 1
DATA_QUALITY_DESC = "Data calculated based on original SPICE kernels"
/* TIME DATA ELEMENTS */
SPACECRAFT_CLOCK_START_COUNT = "1/0678347763.15717"
SPACECRAFT_CLOCK_STOP_COUNT = "1/0678348119.48480"
START_TIME = 2024-10-30T05:58:12.632Z
STOP_TIME = 2024-10-30T06:00:43.818Z
/* ORBITAL DATA ELEMENTS */
ASCENDING_NODE_LONGITUDE = 87.45
MAXIMUM_RESOLUTION = 0.0352
FOOTPRINT_POINT_LATITUDE = (39.2925,39.2901,39.288,39.2836,39.2806 ,39.2765,39.2763,39.3563,38.8118, 38.3583,37.9963,37.6347,37.4509,37.2657 ,37.0803,36.8951,36.6181,36.4333, 36.2493,36.0647,35.8807,35.6967,35.513, 35.1461,34.8711,34.5052,34.3194,34.1321 ,33.8514,33.6644,33.4778,33.2914, 33.1048,32.9187,32.7329,32.5472,32.3616 ,32.0811,31.8915,31.702,31.5127,31.3234 ,31.1345,30.9458,30.7572,30.5689, 30.3809,30.1898,30.0937,30.0755,30.0755 ,30.0752,30.0749,30.0745,30.0726,30.072 ,30.0719,30.0724,30.3609,30.5493, 30.8326,31.0215,31.2107,31.4,31.5896, 31.7793,31.9694,32.2528,32.4389,32.625, 32.8112,32.9976,33.1841,33.371,33.558, 33.7451,33.9323,34.1198,34.3078,34.6776 ,34.9529,35.1364,35.3205,35.5966, 35.7808,35.9652,36.1496,36.3344,36.5193 ,36.7042,36.982,37.1673,37.3527,37.6309 ,37.9933,38.4471,38.8105,39.2654, 39.3565,39.2925)
FOOTPRINT_POINT_LONGITUDE = (338.052,337.647,337.365,336.872,336.59 ,336.255,336.238,336.199,336.214, 336.226,336.235,336.243,336.247,336.251 ,336.255,336.259,336.265,336.268, 336.271,336.275,336.278,336.281,336.284 ,336.289,336.293,336.297,336.3,336.302, 336.305,336.306,336.308,336.31,336.311, 336.313,336.314,336.315,336.316,336.318 ,336.318,336.319,336.32,336.32,336.321, 336.321,336.321,336.321,336.321,336.321 ,336.321,336.321,336.586,336.957,337.24 ,337.505,337.912,338.124,338.141, 338.148,338.146,338.145,338.144,338.143 ,338.142,338.141,338.14,338.139,338.138 ,338.136,338.135,338.134,338.133, 338.132,338.131,338.13,338.129,338.127, 338.126,338.125,338.124,338.121,338.12, 338.118,338.117,338.115,338.114,338.112 ,338.111,338.109,338.108,338.106, 338.104,338.103,338.101,338.099,338.096 ,338.092,338.088,338.084,338.083, 338.052)
ORBIT_NUMBER = 26293
ORBITAL_ECCENTRICITY = 0.569
ORBITAL_INCLINATION = 87.12
ORBITAL_SEMIMAJOR_AXIS = 8804.09
PERIAPSIS_ALTITUDE = 403.68
PERIAPSIS_ARGUMENT_ANGLE = 138.28
PERIAPSIS_TIME = 2024-10-30T05:56:58.000Z
SPACECRAFT_ORIENTATION = (0.0,-1.0,0.0)
^MEX_ORIENTATION_DESC = "MEX_ORIENTATION_DESC.TXT"
SPACECRAFT_POINTING_MODE = ACROSSTRACK
^MEX_POINTING_DESC = "MEX_POINTING_DESC.TXT"
RIGHT_ASCENSION = -1e+32
DECLINATION = -1e+32
OFFSET_ANGLE = -1.751
SPACECRAFT_SOLAR_DISTANCE = 2.305e+08
TARGET_NAME = MARS
/* CAMERA DATA ELEMENTS */
DETECTOR_TEMPERATURE = 0.0
FOCAL_PLANE_TEMPERATURE = 0.0
INST_CMPRS_NAME = "DISCRETE COSINE TRANSFORMATION (DCT)"
INST_CMPRS_RATIO = 11.8155
INST_CMPRS_QUALITY = 0
INST_CMPRS_QUANTZ_TBL_ID = 0
INSTRUMENT_TEMPERATURE = 0.0
LENS_TEMPERATURE = 0.0
MACROPIXEL_SIZE = 2
MISSING_FRAMES = 0
PIXEL_SUBSAMPLING_FLAG = N
SIGNAL_CHAIN_ID = 1
/* RADIOMETRIC DATA ELEMENTS */
BANDWIDTH = 178.0
CENTER_FILTER_WAVELENGTH = 679.0
RADIANCE_OFFSET = 3.01074
RADIANCE_SCALING_FACTOR = 0.00997959
REFLECTANCE_SCALING_FACTOR = 0.000280792
MEX:REFLECTANCE_OFFSET = 0.0847123
/* IMAGE OBJECT DEFINITIONS */
OBJECT = IMAGE
  INTERCHANGE_FORMAT = BINARY
  LINES = 28458
  LINE_SAMPLES = 3872
  SAMPLE_TYPE = UNSIGNED_INTEGER
  SAMPLE_BITS = 8
  BANDS = 1
  BAND_STORAGE_TYPE = BAND_SEQUENTIAL
  MAXIMUM = 255
  MEAN = 115.275
  MINIMUM = 1
  STANDARD_DEVIATION = 28.8454
END_OBJECT = IMAGE
/* MAP OBJECT DEFINITIONS */
OBJECT = IMAGE_MAP_PROJECTION
  ^DATA_SET_MAP_PROJECTION_CATALOG= "DSMAP.CAT"
  A_AXIS_RADIUS = 3396.0
  B_AXIS_RADIUS = 3396.0
  C_AXIS_RADIUS = 3396.0
  CENTER_LATITUDE = 0.0
  CENTER_LONGITUDE = 337.0
  COORDINATE_SYSTEM_NAME = PLANETOGRAPHIC
  COORDINATE_SYSTEM_TYPE = "BODY-FIXED ROTATING"
  EASTERNMOST_LONGITUDE = 338.148
  FIRST_STANDARD_PARALLEL = "N/A"
  LINE_FIRST_PIXEL = 1
  LINE_LAST_PIXEL = 28458
  LINE_PROJECTION_OFFSET = 93504.25
  MAP_PROJECTION_ROTATION = 0.0
  MAP_PROJECTION_TYPE = SINUSOIDAL
  MAP_RESOLUTION = 2370.85521546667
  MAP_SCALE = 0.025
  MAXIMUM_LATITUDE = 39.3565
  MINIMUM_LATITUDE = 30.0719
  POSITIVE_LONGITUDE_DIRECTION = EAST
  REFERENCE_LATITUDE = "N/A"
  REFERENCE_LONGITUDE = "N/A"
  SAMPLE_FIRST_PIXEL = 1
  SAMPLE_LAST_PIXEL = 3872
  SAMPLE_PROJECTION_OFFSET = 1483.75
  SECOND_STANDARD_PARALLEL = "N/A"
  WESTERNMOST_LONGITUDE = 336.199
END_OBJECT = IMAGE_MAP_PROJECTION
END
