PDS_VERSION_ID = PDS3
/* FILE DATA ELEMENTS */
RECORD_TYPE = UNDEFINED
/* POINTERS TO DATA OBJECTS */
^IMAGE = ("HQ287_0000_S14.TIF")
/* IDENTIFICATION DATA ELEMENTS */
DATA_SET_ID = "MEX-M-HRSC-4-REFDR-MAPPROJECT-EXT9-V4.0"
DATA_SET_NAME = "MARS EXPRESS HRSC MAP PROJECTED REFDR EXTENSION9 V4.0"
DETECTOR_ID = MEX_HRSC_S1
EVENT_TYPE = "MARS-REGIONAL-MAPPING-Vo-Te-Mw"
INSTRUMENT_HOST_ID = MEX
INSTRUMENT_HOST_NAME = "MARS EXPRESS"
INSTRUMENT_ID = HRSC
INSTRUMENT_NAME = "HIGH RESOLUTION STEREO CAMERA"
MISSION_NAME = "MARS EXPRESS"
MISSION_PHASE_NAME = ME_Phase_50
PROCESSING_LEVEL_ID = 4
PRODUCT_CREATION_TIME = 2025-01-29T08:28:47.000Z
PRODUCT_ID = "HQ287_0000_S14.TIF"
RELEASE_ID = 0020
REVISION_ID = 0000
/* QUALITY DATA ELEMENTS */
DATA_QUALITY_ID = 1
DATA_QUALITY_DESC = "Data calculated based on original SPICE kernels"
/* TIME DATA ELEMENTS */
SPACECRAFT_CLOCK_START_COUNT = "1/0678196913.00367"
SPACECRAFT_CLOCK_STOP_COUNT = "1/0678197209.32105"
START_TIME = 2024-10-28T12:02:44.727Z
STOP_TIME = 2024-10-28T12:06:12.108Z
/* ORBITAL DATA ELEMENTS */
ASCENDING_NODE_LONGITUDE = 87.55
MAXIMUM_RESOLUTION = 0.034
FOOTPRINT_POINT_LATITUDE = (37.2491,37.2303,37.2078,37.1759,37.175 ,37.1288,36.7424,36.4842,36.1049, 35.7171,35.4575,35.1988,34.8107,34.4219 ,34.1625,33.9027,33.6425,33.3805, 32.9891,32.7284,32.4664,32.0749,31.8152 ,31.4257,31.1659,30.9062,30.6464, 30.3864,30.1264,29.7264,29.4599,29.0616 ,28.6624,28.3958,28.1278,27.8588, 27.4579,27.1887,26.9161,26.6411,26.2281 ,25.8174,25.4034,25.1278,24.7121, 24.2874,24.0087,23.8684,23.8585,23.8692 ,23.881,23.8893,23.9028,23.9031,23.9038 ,24.1853,24.6076,24.8894,25.309,25.584, 25.8609,26.1367,26.4081,26.684,26.9585, 27.2333,27.5035,27.7707,28.0387,28.3064 ,28.5744,28.8422,29.1112,29.3802, 29.6494,29.9178,30.3165,30.5775,30.839, 31.2308,31.6225,32.0135,32.2744,32.6664 ,32.9272,33.3155,33.5753,33.9645, 34.2244,34.4832,34.7427,35.131,35.39, 35.6491,35.9155,36.1731,36.4316,37.0739 ,37.2043,37.2491)
FOOTPRINT_POINT_LONGITUDE = (230.255,229.72,229.179,228.528,228.511 ,228.477,228.49,228.499,228.516,228.528 ,228.535,228.542,228.553,228.562, 228.569,228.574,228.58,228.584,228.591, 228.595,228.599,228.605,228.609,228.616 ,228.62,228.624,228.628,228.631,228.634 ,228.639,228.642,228.647,228.652, 228.654,228.656,228.656,228.658,228.66, 228.662,228.662,228.662,228.663,228.662 ,228.66,228.663,228.66,228.66,228.66, 228.66,229.042,229.424,229.737,230.34, 230.356,230.362,230.361,230.36,230.359, 230.357,230.356,230.354,230.353,230.352 ,230.351,230.349,230.348,230.347, 230.345,230.344,230.342,230.341,230.339 ,230.337,230.335,230.334,230.332, 230.329,230.327,230.325,230.322,230.318 ,230.315,230.313,230.309,230.307, 230.303,230.301,230.297,230.294,230.291 ,230.289,230.284,230.281,230.278, 230.275,230.272,230.268,230.26,230.259, 230.255)
ORBIT_NUMBER = 26287
ORBITAL_ECCENTRICITY = 0.57
ORBITAL_INCLINATION = 87.12
ORBITAL_SEMIMAJOR_AXIS = 8812.65
PERIAPSIS_ALTITUDE = 402.37
PERIAPSIS_ARGUMENT_ANGLE = 139.29
PERIAPSIS_TIME = 2024-10-28T12:02:26.000Z
SPACECRAFT_ORIENTATION = (0.0,-1.0,0.0)
^MEX_ORIENTATION_DESC = "MEX_ORIENTATION_DESC.TXT"
SPACECRAFT_POINTING_MODE = ACROSSTRACK
^MEX_POINTING_DESC = "MEX_POINTING_DESC.TXT"
RIGHT_ASCENSION = -1e+32
DECLINATION = -1e+32
OFFSET_ANGLE = -0.539
SPACECRAFT_SOLAR_DISTANCE = 2.30166e+08
TARGET_NAME = MARS
/* CAMERA DATA ELEMENTS */
DETECTOR_TEMPERATURE = 17.5549
FOCAL_PLANE_TEMPERATURE = 9.6028
INST_CMPRS_NAME = "DISCRETE COSINE TRANSFORMATION (DCT)"
INST_CMPRS_RATIO = 8.54317
INST_CMPRS_QUALITY = 0
INST_CMPRS_QUANTZ_TBL_ID = 0
INSTRUMENT_TEMPERATURE = 11.4379
LENS_TEMPERATURE = 9.3989
MACROPIXEL_SIZE = 2
MISSING_FRAMES = 0
PIXEL_SUBSAMPLING_FLAG = N
SIGNAL_CHAIN_ID = 1
/* RADIOMETRIC DATA ELEMENTS */
BANDWIDTH = 180.0
CENTER_FILTER_WAVELENGTH = 677.0
RADIANCE_OFFSET = 4.1763
RADIANCE_SCALING_FACTOR = 0.0249975
REFLECTANCE_SCALING_FACTOR = 0.000690906
MEX:REFLECTANCE_OFFSET = 0.115429
/* IMAGE OBJECT DEFINITIONS */
OBJECT = IMAGE
  INTERCHANGE_FORMAT = BINARY
  LINES = 31536
  LINE_SAMPLES = 4110
  SAMPLE_TYPE = UNSIGNED_INTEGER
  SAMPLE_BITS = 8
  BANDS = 1
  BAND_STORAGE_TYPE = BAND_SEQUENTIAL
  MAXIMUM = 255
  MEAN = 146.036
  MINIMUM = 1
  STANDARD_DEVIATION = 25.9499
END_OBJECT = IMAGE
/* MAP OBJECT DEFINITIONS */
OBJECT = IMAGE_MAP_PROJECTION
  ^DATA_SET_MAP_PROJECTION_CATALOG= "DSMAP.CAT"
  A_AXIS_RADIUS = 3396.0
  B_AXIS_RADIUS = 3396.0
  C_AXIS_RADIUS = 3396.0
  CENTER_LATITUDE = 0.0
  CENTER_LONGITUDE = 229.0
  COORDINATE_SYSTEM_NAME = PLANETOGRAPHIC
  COORDINATE_SYSTEM_TYPE = "BODY-FIXED ROTATING"
  EASTERNMOST_LONGITUDE = 230.362
  FIRST_STANDARD_PARALLEL = "N/A"
  LINE_FIRST_PIXEL = 1
  LINE_LAST_PIXEL = 31536
  LINE_PROJECTION_OFFSET = 88170.75
  MAP_PROJECTION_ROTATION = 0.0
  MAP_PROJECTION_TYPE = SINUSOIDAL
  MAP_RESOLUTION = 2370.85521546667
  MAP_SCALE = 0.025
  MAXIMUM_LATITUDE = 37.2491
  MINIMUM_LATITUDE = 23.8585
  POSITIVE_LONGITUDE_DIRECTION = EAST
  REFERENCE_LATITUDE = "N/A"
  REFERENCE_LONGITUDE = "N/A"
  SAMPLE_FIRST_PIXEL = 1
  SAMPLE_LAST_PIXEL = 4110
  SAMPLE_PROJECTION_OFFSET = 1077.75
  SECOND_STANDARD_PARALLEL = "N/A"
  WESTERNMOST_LONGITUDE = 228.477
END_OBJECT = IMAGE_MAP_PROJECTION
END
