PDS_VERSION_ID = PDS3
/* FILE DATA ELEMENTS */
RECORD_TYPE = UNDEFINED
/* POINTERS TO DATA OBJECTS */
^IMAGE = ("HQ284_0000_RE4.TIF")
/* IDENTIFICATION DATA ELEMENTS */
DATA_SET_ID = "MEX-M-HRSC-4-REFDR-MAPPROJECT-EXT9-V4.0"
DATA_SET_NAME = "MARS EXPRESS HRSC MAP PROJECTED REFDR EXTENSION9 V4.0"
DETECTOR_ID = MEX_HRSC_RED
EVENT_TYPE = "MARS-REGIONAL-MAPPING-Vo-Eo"
INSTRUMENT_HOST_ID = MEX
INSTRUMENT_HOST_NAME = "MARS EXPRESS"
INSTRUMENT_ID = HRSC
INSTRUMENT_NAME = "HIGH RESOLUTION STEREO CAMERA"
MISSION_NAME = "MARS EXPRESS"
MISSION_PHASE_NAME = ME_Phase_50
PROCESSING_LEVEL_ID = 4
PRODUCT_CREATION_TIME = 2025-01-29T08:28:47.000Z
PRODUCT_ID = "HQ284_0000_RE4.TIF"
RELEASE_ID = 0020
REVISION_ID = 0000
/* QUALITY DATA ELEMENTS */
DATA_QUALITY_ID = 1
DATA_QUALITY_DESC = "Data calculated based on original SPICE kernels"
/* TIME DATA ELEMENTS */
SPACECRAFT_CLOCK_START_COUNT = "1/0678121338.65110"
SPACECRAFT_CLOCK_STOP_COUNT = "1/0678121623.56367"
START_TIME = 2024-10-27T15:04:21.819Z
STOP_TIME = 2024-10-27T15:07:46.767Z
/* ORBITAL DATA ELEMENTS */
ASCENDING_NODE_LONGITUDE = 87.6
MAXIMUM_RESOLUTION = 0.0684
FOOTPRINT_POINT_LATITUDE = (45.6681,45.6755,45.6808,45.6844, 45.6844,45.7588,45.5016,45.2446,44.9874 ,44.7303,44.4734,44.2167,43.9601, 43.7034,43.319,43.0624,42.6781,42.4218, 42.1658,41.7818,41.5261,41.2707,41.0154 ,40.7601,40.5049,40.2499,39.9952, 39.7403,39.4858,39.2313,38.8501,38.5962 ,38.0888,37.7087,37.0763,36.5712, 36.1927,35.936,35.6775,35.4193,35.0321, 34.7743,34.3876,34.131,33.8741,33.6172, 33.3608,33.0971,32.9691,32.8832,32.8704 ,32.8575,32.8379,32.8257,32.8252,32.826 ,33.2189,33.4759,33.8621,34.1197, 34.3775,34.6353,35.0231,35.2819,35.67, 35.9294,36.1856,36.5653,37.0719,37.4523 ,37.8337,38.0879,38.3423,38.597,38.8517 ,39.1067,39.3617,39.6171,39.8725, 40.1282,40.3839,40.7682,41.0244,41.2807 ,41.5372,41.7941,42.0507,42.3075, 42.5645,42.9501,43.3363,43.5937,43.8514 ,44.2381,44.4958,44.7537,45.1408,45.528 ,45.6571,45.6681)
FOOTPRINT_POINT_LONGITUDE = (175.616,175.017,174.403,173.573, 173.552,173.435,173.459,173.483,173.507 ,173.53,173.552,173.574,173.595,173.616 ,173.647,173.667,173.696,173.715, 173.734,173.761,173.778,173.795,173.812 ,173.828,173.844,173.86,173.875,173.89, 173.904,173.919,173.939,173.952,173.978 ,173.997,174.026,174.048,174.064, 174.074,174.084,174.094,174.108,174.117 ,174.131,174.139,174.147,174.155, 174.163,174.17,174.174,174.176,174.616, 175.031,175.638,175.986,176.002,176.008 ,175.999,175.993,175.985,175.979, 175.973,175.967,175.957,175.951,175.941 ,175.934,175.928,175.918,175.904, 175.893,175.882,175.875,175.867,175.86, 175.852,175.844,175.836,175.828,175.82, 175.811,175.803,175.789,175.78,175.771, 175.762,175.753,175.743,175.733,175.724 ,175.708,175.693,175.682,175.672, 175.655,175.644,175.633,175.615,175.597 ,175.591,175.616)
ORBIT_NUMBER = 26284
ORBITAL_ECCENTRICITY = 0.569
ORBITAL_INCLINATION = 87.12
ORBITAL_SEMIMAJOR_AXIS = 8805.65
PERIAPSIS_ALTITUDE = 403.03
PERIAPSIS_ARGUMENT_ANGLE = 139.84
PERIAPSIS_TIME = 2024-10-27T15:05:19.000Z
SPACECRAFT_ORIENTATION = (0.0,-1.0,0.0)
^MEX_ORIENTATION_DESC = "MEX_ORIENTATION_DESC.TXT"
SPACECRAFT_POINTING_MODE = ACROSSTRACK
^MEX_POINTING_DESC = "MEX_POINTING_DESC.TXT"
RIGHT_ASCENSION = -1e+32
DECLINATION = -1e+32
OFFSET_ANGLE = -1.145
SPACECRAFT_SOLAR_DISTANCE = 2.29998e+08
TARGET_NAME = MARS
/* CAMERA DATA ELEMENTS */
DETECTOR_TEMPERATURE = 18.3705
FOCAL_PLANE_TEMPERATURE = 8.7872
INST_CMPRS_NAME = "DISCRETE COSINE TRANSFORMATION (DCT)"
INST_CMPRS_RATIO = 17.9602
INST_CMPRS_QUALITY = 0
INST_CMPRS_QUANTZ_TBL_ID = 0
INSTRUMENT_TEMPERATURE = 10.6223
LENS_TEMPERATURE = 8.7872
MACROPIXEL_SIZE = 4
MISSING_FRAMES = 1
PIXEL_SUBSAMPLING_FLAG = N
SIGNAL_CHAIN_ID = 2
/* RADIOMETRIC DATA ELEMENTS */
BANDWIDTH = 48.0
CENTER_FILTER_WAVELENGTH = 748.0
RADIANCE_OFFSET = 0.98547
RADIANCE_SCALING_FACTOR = 0.00516726
REFLECTANCE_SCALING_FACTOR = 0.000623784
MEX:REFLECTANCE_OFFSET = 0.118965
/* IMAGE OBJECT DEFINITIONS */
OBJECT = IMAGE
  INTERCHANGE_FORMAT = BINARY
  LINES = 15351
  LINE_SAMPLES = 2318
  SAMPLE_TYPE = UNSIGNED_INTEGER
  SAMPLE_BITS = 8
  BANDS = 1
  BAND_STORAGE_TYPE = BAND_SEQUENTIAL
  MAXIMUM = 255
  MEAN = 94.9733
  MINIMUM = 1
  STANDARD_DEVIATION = 21.0618
END_OBJECT = IMAGE
/* MAP OBJECT DEFINITIONS */
OBJECT = IMAGE_MAP_PROJECTION
  ^DATA_SET_MAP_PROJECTION_CATALOG= "DSMAP.CAT"
  A_AXIS_RADIUS = 3396.0
  B_AXIS_RADIUS = 3396.0
  C_AXIS_RADIUS = 3396.0
  CENTER_LATITUDE = 0.0
  CENTER_LONGITUDE = 175.0
  COORDINATE_SYSTEM_NAME = PLANETOGRAPHIC
  COORDINATE_SYSTEM_TYPE = "BODY-FIXED ROTATING"
  EASTERNMOST_LONGITUDE = 176.008
  FIRST_STANDARD_PARALLEL = "N/A"
  LINE_FIRST_PIXEL = 1
  LINE_LAST_PIXEL = 15351
  LINE_PROJECTION_OFFSET = 54246.125
  MAP_PROJECTION_ROTATION = 0.0
  MAP_PROJECTION_TYPE = SINUSOIDAL
  MAP_RESOLUTION = 1185.42760773333
  MAP_SCALE = 0.05
  MAXIMUM_LATITUDE = 45.7588
  MINIMUM_LATITUDE = 32.8252
  POSITIVE_LONGITUDE_DIRECTION = EAST
  REFERENCE_LATITUDE = "N/A"
  REFERENCE_LONGITUDE = "N/A"
  SAMPLE_FIRST_PIXEL = 1
  SAMPLE_LAST_PIXEL = 2318
  SAMPLE_PROJECTION_OFFSET = 1313.625
  SECOND_STANDARD_PARALLEL = "N/A"
  WESTERNMOST_LONGITUDE = 173.435
END_OBJECT = IMAGE_MAP_PROJECTION
END
