PDS_VERSION_ID = PDS3
/* FILE DATA ELEMENTS */
RECORD_TYPE = UNDEFINED
/* POINTERS TO DATA OBJECTS */
^IMAGE = ("HQ279_0000_S14.TIF")
/* IDENTIFICATION DATA ELEMENTS */
DATA_SET_ID = "MEX-M-HRSC-4-REFDR-MAPPROJECT-EXT9-V4.0"
DATA_SET_NAME = "MARS EXPRESS HRSC MAP PROJECTED REFDR EXTENSION9 V4.0"
DETECTOR_ID = MEX_HRSC_S1
EVENT_TYPE = "MARS-REGIONAL-MAPPING-Fl-Eo-Mw"
INSTRUMENT_HOST_ID = MEX
INSTRUMENT_HOST_NAME = "MARS EXPRESS"
INSTRUMENT_ID = HRSC
INSTRUMENT_NAME = "HIGH RESOLUTION STEREO CAMERA"
MISSION_NAME = "MARS EXPRESS"
MISSION_PHASE_NAME = ME_Phase_50
PROCESSING_LEVEL_ID = 4
PRODUCT_CREATION_TIME = 2025-01-29T08:28:47.000Z
PRODUCT_ID = "HQ279_0000_S14.TIF"
RELEASE_ID = 0020
REVISION_ID = 0000
/* QUALITY DATA ELEMENTS */
DATA_QUALITY_ID = 1
DATA_QUALITY_DESC = "Data calculated based on original SPICE kernels"
/* TIME DATA ELEMENTS */
SPACECRAFT_CLOCK_START_COUNT = "1/0677995615.64165"
SPACECRAFT_CLOCK_STOP_COUNT = "1/0677995897.28993"
START_TIME = 2024-10-26T04:07:47.622Z
STOP_TIME = 2024-10-26T04:11:09.744Z
/* ORBITAL DATA ELEMENTS */
ASCENDING_NODE_LONGITUDE = 87.69
MAXIMUM_RESOLUTION = 0.0346
FOOTPRINT_POINT_LATITUDE = (44.6466,44.6034,44.5545,44.4883, 44.4864,44.3893,44.1362,43.7559,43.5021 ,43.248,42.9936,42.739,42.4841,42.1013, 41.8458,41.5902,41.0918,40.5919,40.0912 ,39.8404,39.5893,39.3382,39.0865, 38.7088,38.4569,38.205,37.9525,37.7002, 37.4477,37.1946,36.9415,36.5617,36.308, 36.0541,35.8003,35.4199,35.0382,34.7795 ,34.5255,34.2709,34.0153,33.6326, 33.3775,33.1223,32.8669,32.4838,32.1003 ,31.8446,31.7167,31.6935,31.7183, 31.7642,31.8146,31.8155,31.8164,32.0729 ,32.3293,32.7139,32.9701,33.354,33.61, 33.8657,34.1214,34.3771,34.6328,34.8878 ,35.147,35.5296,35.9118,36.2935,36.548, 36.9293,37.1835,37.4373,37.818,38.071, 38.3242,38.5772,38.83,39.0826,39.3351, 39.5874,39.8395,40.0912,40.3428,40.5946 ,40.8457,41.222,41.7228,42.1075,42.3643 ,42.6204,43.0045,43.2601,43.5155, 43.7703,44.1526,44.4067,44.534,44.6466)
FOOTPRINT_POINT_LONGITUDE = (326.516,325.894,325.258,324.483, 324.462,324.364,324.387,324.42,324.442, 324.463,324.484,324.504,324.524,324.554 ,324.573,324.592,324.628,324.662, 324.694,324.71,324.726,324.741,324.755, 324.777,324.791,324.805,324.818,324.832 ,324.845,324.857,324.869,324.887, 324.898,324.91,324.921,324.937,324.952, 324.962,324.972,324.982,324.99,325.003, 325.012,325.02,325.028,325.04,325.051, 325.058,325.061,325.062,325.376,326.009 ,326.788,326.804,326.81,326.806,326.802 ,326.796,326.792,326.785,326.781, 326.777,326.772,326.768,326.763,326.758 ,326.753,326.746,326.738,326.73,326.725 ,326.716,326.711,326.705,326.697, 326.691,326.685,326.678,326.672,326.666 ,326.659,326.653,326.646,326.64,326.633 ,326.626,326.619,326.608,326.593, 326.581,326.573,326.565,326.553,326.544 ,326.536,326.527,326.514,326.505,326.5, 326.516)
ORBIT_NUMBER = 26279
ORBITAL_ECCENTRICITY = 0.57
ORBITAL_INCLINATION = 87.12
ORBITAL_SEMIMAJOR_AXIS = 8807.65
PERIAPSIS_ALTITUDE = 402.19
PERIAPSIS_ARGUMENT_ANGLE = 140.68
PERIAPSIS_TIME = 2024-10-26T04:09:49.000Z
SPACECRAFT_ORIENTATION = (0.0,-1.0,0.0)
^MEX_ORIENTATION_DESC = "MEX_ORIENTATION_DESC.TXT"
SPACECRAFT_POINTING_MODE = ACROSSTRACK
^MEX_POINTING_DESC = "MEX_POINTING_DESC.TXT"
RIGHT_ASCENSION = -1e+32
DECLINATION = -1e+32
OFFSET_ANGLE = -1.105
SPACECRAFT_SOLAR_DISTANCE = 2.29718e+08
TARGET_NAME = MARS
/* CAMERA DATA ELEMENTS */
DETECTOR_TEMPERATURE = 17.351
FOCAL_PLANE_TEMPERATURE = 8.9911
INST_CMPRS_NAME = "DISCRETE COSINE TRANSFORMATION (DCT)"
INST_CMPRS_RATIO = 11.1681
INST_CMPRS_QUALITY = 0
INST_CMPRS_QUANTZ_TBL_ID = 0
INSTRUMENT_TEMPERATURE = 10.8262
LENS_TEMPERATURE = 9.6028
MACROPIXEL_SIZE = 2
MISSING_FRAMES = 1
PIXEL_SUBSAMPLING_FLAG = N
SIGNAL_CHAIN_ID = 1
/* RADIOMETRIC DATA ELEMENTS */
BANDWIDTH = 180.0
CENTER_FILTER_WAVELENGTH = 677.0
RADIANCE_OFFSET = 3.1373
RADIANCE_SCALING_FACTOR = 0.00922736
REFLECTANCE_SCALING_FACTOR = 0.000254044
MEX:REFLECTANCE_OFFSET = 0.0863749
/* IMAGE OBJECT DEFINITIONS */
OBJECT = IMAGE
  INTERCHANGE_FORMAT = BINARY
  LINES = 30257
  LINE_SAMPLES = 4483
  SAMPLE_TYPE = UNSIGNED_INTEGER
  SAMPLE_BITS = 8
  BANDS = 1
  BAND_STORAGE_TYPE = BAND_SEQUENTIAL
  MAXIMUM = 255
  MEAN = 93.0738
  MINIMUM = 1
  STANDARD_DEVIATION = 27.8933
END_OBJECT = IMAGE
/* MAP OBJECT DEFINITIONS */
OBJECT = IMAGE_MAP_PROJECTION
  ^DATA_SET_MAP_PROJECTION_CATALOG= "DSMAP.CAT"
  A_AXIS_RADIUS = 3396.0
  B_AXIS_RADIUS = 3396.0
  C_AXIS_RADIUS = 3396.0
  CENTER_LATITUDE = 0.0
  CENTER_LONGITUDE = 326.0
  COORDINATE_SYSTEM_NAME = PLANETOGRAPHIC
  COORDINATE_SYSTEM_TYPE = "BODY-FIXED ROTATING"
  EASTERNMOST_LONGITUDE = 326.81
  FIRST_STANDARD_PARALLEL = "N/A"
  LINE_FIRST_PIXEL = 1
  LINE_LAST_PIXEL = 30257
  LINE_PROJECTION_OFFSET = 105595.25
  MAP_PROJECTION_ROTATION = 0.0
  MAP_PROJECTION_TYPE = SINUSOIDAL
  MAP_RESOLUTION = 2370.85521546667
  MAP_SCALE = 0.025
  MAXIMUM_LATITUDE = 44.6466
  MINIMUM_LATITUDE = 31.6935
  POSITIVE_LONGITUDE_DIRECTION = EAST
  REFERENCE_LATITUDE = "N/A"
  REFERENCE_LONGITUDE = "N/A"
  SAMPLE_FIRST_PIXEL = 1
  SAMPLE_LAST_PIXEL = 4483
  SAMPLE_PROJECTION_OFFSET = 2797.75
  SECOND_STANDARD_PARALLEL = "N/A"
  WESTERNMOST_LONGITUDE = 324.364
END_OBJECT = IMAGE_MAP_PROJECTION
END
