PDS_VERSION_ID = PDS3
/* FILE DATA ELEMENTS */
RECORD_TYPE = UNDEFINED
/* POINTERS TO DATA OBJECTS */
^IMAGE = ("HQ279_0000_P24.TIF")
/* IDENTIFICATION DATA ELEMENTS */
DATA_SET_ID = "MEX-M-HRSC-4-REFDR-MAPPROJECT-EXT9-V4.0"
DATA_SET_NAME = "MARS EXPRESS HRSC MAP PROJECTED REFDR EXTENSION9 V4.0"
DETECTOR_ID = MEX_HRSC_P2
EVENT_TYPE = "MARS-REGIONAL-MAPPING-Fl-Eo-Mw"
INSTRUMENT_HOST_ID = MEX
INSTRUMENT_HOST_NAME = "MARS EXPRESS"
INSTRUMENT_ID = HRSC
INSTRUMENT_NAME = "HIGH RESOLUTION STEREO CAMERA"
MISSION_NAME = "MARS EXPRESS"
MISSION_PHASE_NAME = ME_Phase_50
PROCESSING_LEVEL_ID = 4
PRODUCT_CREATION_TIME = 2025-01-29T08:28:47.000Z
PRODUCT_ID = "HQ279_0000_P24.TIF"
RELEASE_ID = 0020
REVISION_ID = 0000
/* QUALITY DATA ELEMENTS */
DATA_QUALITY_ID = 1
DATA_QUALITY_DESC = "Data calculated based on original SPICE kernels"
/* TIME DATA ELEMENTS */
SPACECRAFT_CLOCK_START_COUNT = "1/0677995615.64165"
SPACECRAFT_CLOCK_STOP_COUNT = "1/0677995897.28993"
START_TIME = 2024-10-26T04:08:51.645Z
STOP_TIME = 2024-10-26T04:12:13.505Z
/* ORBITAL DATA ELEMENTS */
ASCENDING_NODE_LONGITUDE = 87.69
MAXIMUM_RESOLUTION = 0.0336
FOOTPRINT_POINT_LATITUDE = (44.4745,44.4778,44.4789,44.4768, 44.4767,44.5351,44.2802,43.898,43.6432, 43.3884,43.1337,42.879,42.6245,42.3698, 41.9881,41.6065,41.225,40.9707,40.7165, 40.4626,40.2087,39.9551,39.5747,39.1946 ,38.9414,38.5618,38.1823,37.9296, 37.5505,37.298,37.0459,36.7938,36.5417, 36.29,36.0385,35.787,35.5357,34.9081, 34.4068,34.152,33.8954,33.6388,33.3823, 33.1261,32.8701,32.6142,32.3585,31.9756 ,31.8481,31.829,31.8219,31.8081,31.7882 ,31.7877,31.7881,32.0439,32.2999,32.556 ,32.8124,33.0694,33.4546,33.8406, 34.0982,34.6051,34.9825,35.2341,35.4859 ,35.7379,36.1164,36.3688,36.8741, 37.2534,37.5066,37.7598,38.0135,38.394, 38.6479,38.9018,39.156,39.4101,39.6645, 39.9189,40.1735,40.4282,40.8103,41.0653 ,41.3204,41.5755,41.8309,42.0862, 42.3414,42.597,42.9803,43.236,43.4918, 43.7477,44.1315,44.3877,44.5156, 44.4745)
FOOTPRINT_POINT_LONGITUDE = (326.5,325.892,325.269,324.507,324.487, 324.375,324.397,324.429,324.449,324.47, 324.49,324.509,324.529,324.547,324.575, 324.602,324.628,324.645,324.661,324.677 ,324.693,324.708,324.73,324.751,324.765 ,324.785,324.804,324.817,324.835, 324.847,324.858,324.87,324.881,324.891, 324.901,324.911,324.921,324.944,324.962 ,324.97,324.978,324.986,324.993,325.001 ,325.008,325.015,325.022,325.031, 325.034,325.035,325.395,326.029,326.814 ,326.83,326.836,326.832,326.827,326.822 ,326.817,326.812,326.804,326.796,326.79 ,326.779,326.771,326.765,326.759, 326.753,326.744,326.738,326.726,326.716 ,326.709,326.703,326.696,326.685, 326.678,326.671,326.663,326.656,326.648 ,326.64,326.633,326.624,326.612,326.604 ,326.595,326.587,326.578,326.569,326.56 ,326.551,326.537,326.527,326.517, 326.507,326.492,326.481,326.476,326.5)
ORBIT_NUMBER = 26279
ORBITAL_ECCENTRICITY = 0.57
ORBITAL_INCLINATION = 87.12
ORBITAL_SEMIMAJOR_AXIS = 8807.65
PERIAPSIS_ALTITUDE = 402.19
PERIAPSIS_ARGUMENT_ANGLE = 140.68
PERIAPSIS_TIME = 2024-10-26T04:09:49.000Z
SPACECRAFT_ORIENTATION = (0.0,-1.0,0.0)
^MEX_ORIENTATION_DESC = "MEX_ORIENTATION_DESC.TXT"
SPACECRAFT_POINTING_MODE = ACROSSTRACK
^MEX_POINTING_DESC = "MEX_POINTING_DESC.TXT"
RIGHT_ASCENSION = -1e+32
DECLINATION = -1e+32
OFFSET_ANGLE = -1.105
SPACECRAFT_SOLAR_DISTANCE = 2.29718e+08
TARGET_NAME = MARS
/* CAMERA DATA ELEMENTS */
DETECTOR_TEMPERATURE = 18.3705
FOCAL_PLANE_TEMPERATURE = 8.9911
INST_CMPRS_NAME = "DISCRETE COSINE TRANSFORMATION (DCT)"
INST_CMPRS_RATIO = 6.22658
INST_CMPRS_QUALITY = 0
INST_CMPRS_QUANTZ_TBL_ID = 0
INSTRUMENT_TEMPERATURE = 10.8262
LENS_TEMPERATURE = 9.6028
MACROPIXEL_SIZE = 2
MISSING_FRAMES = 0
PIXEL_SUBSAMPLING_FLAG = N
SIGNAL_CHAIN_ID = 3
/* RADIOMETRIC DATA ELEMENTS */
BANDWIDTH = 177.0
CENTER_FILTER_WAVELENGTH = 676.5
RADIANCE_OFFSET = 2.70829
RADIANCE_SCALING_FACTOR = 0.00963067
REFLECTANCE_SCALING_FACTOR = 0.000269465
MEX:REFLECTANCE_OFFSET = 0.0757776
/* IMAGE OBJECT DEFINITIONS */
OBJECT = IMAGE
  INTERCHANGE_FORMAT = BINARY
  LINES = 30257
  LINE_SAMPLES = 4483
  SAMPLE_TYPE = UNSIGNED_INTEGER
  SAMPLE_BITS = 8
  BANDS = 1
  BAND_STORAGE_TYPE = BAND_SEQUENTIAL
  MAXIMUM = 255
  MEAN = 85.9063
  MINIMUM = 1
  STANDARD_DEVIATION = 27.5658
END_OBJECT = IMAGE
/* MAP OBJECT DEFINITIONS */
OBJECT = IMAGE_MAP_PROJECTION
  ^DATA_SET_MAP_PROJECTION_CATALOG= "DSMAP.CAT"
  A_AXIS_RADIUS = 3396.0
  B_AXIS_RADIUS = 3396.0
  C_AXIS_RADIUS = 3396.0
  CENTER_LATITUDE = 0.0
  CENTER_LONGITUDE = 326.0
  COORDINATE_SYSTEM_NAME = PLANETOGRAPHIC
  COORDINATE_SYSTEM_TYPE = "BODY-FIXED ROTATING"
  EASTERNMOST_LONGITUDE = 326.836
  FIRST_STANDARD_PARALLEL = "N/A"
  LINE_FIRST_PIXEL = 1
  LINE_LAST_PIXEL = 30257
  LINE_PROJECTION_OFFSET = 105595.25
  MAP_PROJECTION_ROTATION = 0.0
  MAP_PROJECTION_TYPE = SINUSOIDAL
  MAP_RESOLUTION = 2370.85521546667
  MAP_SCALE = 0.025
  MAXIMUM_LATITUDE = 44.5351
  MINIMUM_LATITUDE = 31.7877
  POSITIVE_LONGITUDE_DIRECTION = EAST
  REFERENCE_LATITUDE = "N/A"
  REFERENCE_LONGITUDE = "N/A"
  SAMPLE_FIRST_PIXEL = 1
  SAMPLE_LAST_PIXEL = 4483
  SAMPLE_PROJECTION_OFFSET = 2797.75
  SECOND_STANDARD_PARALLEL = "N/A"
  WESTERNMOST_LONGITUDE = 324.375
END_OBJECT = IMAGE_MAP_PROJECTION
END
