PDS_VERSION_ID = PDS3
/* FILE DATA ELEMENTS */
RECORD_TYPE = UNDEFINED
/* POINTERS TO DATA OBJECTS */
^IMAGE = ("HQ279_0000_P14.TIF")
/* IDENTIFICATION DATA ELEMENTS */
DATA_SET_ID = "MEX-M-HRSC-4-REFDR-MAPPROJECT-EXT9-V4.0"
DATA_SET_NAME = "MARS EXPRESS HRSC MAP PROJECTED REFDR EXTENSION9 V4.0"
DETECTOR_ID = MEX_HRSC_P1
EVENT_TYPE = "MARS-REGIONAL-MAPPING-Fl-Eo-Mw"
INSTRUMENT_HOST_ID = MEX
INSTRUMENT_HOST_NAME = "MARS EXPRESS"
INSTRUMENT_ID = HRSC
INSTRUMENT_NAME = "HIGH RESOLUTION STEREO CAMERA"
MISSION_NAME = "MARS EXPRESS"
MISSION_PHASE_NAME = ME_Phase_50
PROCESSING_LEVEL_ID = 4
PRODUCT_CREATION_TIME = 2025-01-29T08:28:47.000Z
PRODUCT_ID = "HQ279_0000_P14.TIF"
RELEASE_ID = 0020
REVISION_ID = 0000
/* QUALITY DATA ELEMENTS */
DATA_QUALITY_ID = 1
DATA_QUALITY_DESC = "Data calculated based on original SPICE kernels"
/* TIME DATA ELEMENTS */
SPACECRAFT_CLOCK_START_COUNT = "1/0677995615.64165"
SPACECRAFT_CLOCK_STOP_COUNT = "1/0677995897.28993"
START_TIME = 2024-10-26T04:08:01.112Z
STOP_TIME = 2024-10-26T04:11:22.753Z
/* ORBITAL DATA ELEMENTS */
ASCENDING_NODE_LONGITUDE = 87.69
MAXIMUM_RESOLUTION = 0.0334
FOOTPRINT_POINT_LATITUDE = (44.6137,44.5804,44.5421,44.4895,44.488 ,44.4233,44.1676,43.9117,43.6556, 43.3992,43.1427,42.8859,42.6288,42.1233 ,41.747,41.3705,40.8681,40.6164,40.3647 ,40.1126,39.8605,39.6081,39.3556, 39.1029,38.7237,38.4707,38.0911,37.8379 ,37.5847,37.2044,36.9506,36.57,36.3159, 36.0618,35.6806,35.4267,35.0451,34.7904 ,34.5361,34.154,33.8992,33.5171,33.2622 ,33.0073,32.7525,32.4976,32.2427, 31.8601,31.7326,31.7136,31.7309,31.7559 ,31.7766,31.8007,31.8014,31.8022, 32.0578,32.4414,32.6971,32.9526,33.2079 ,33.4638,33.847,34.2301,34.4856,34.8683 ,35.1235,35.5062,35.8886,36.2708, 36.5256,36.9076,37.1623,37.4167,37.7983 ,38.0522,38.3062,38.5602,38.8139, 39.0676,39.3212,39.5746,39.8278,40.0809 ,40.334,40.5871,40.8397,41.2184,41.4708 ,41.7228,41.9748,42.4784,42.8632, 43.1211,43.5078,43.765,44.151,44.4078, 44.5363,44.6137)
FOOTPRINT_POINT_LONGITUDE = (326.512,325.895,325.265,324.496, 324.475,324.375,324.397,324.42,324.441, 324.463,324.484,324.504,324.525,324.563 ,324.591,324.618,324.653,324.67,324.686 ,324.702,324.718,324.733,324.748, 324.763,324.784,324.798,324.818,324.832 ,324.845,324.863,324.875,324.893, 324.904,324.915,324.931,324.942,324.957 ,324.966,324.976,324.99,324.998,325.011 ,325.019,325.027,325.035,325.042,325.05 ,325.06,325.064,325.064,325.362,325.826 ,326.248,326.793,326.809,326.815, 326.811,326.805,326.801,326.796,326.792 ,326.787,326.78,326.773,326.768,326.761 ,326.756,326.748,326.74,326.732,326.727 ,326.718,326.712,326.706,326.697, 326.691,326.685,326.679,326.672,326.666 ,326.659,326.652,326.645,326.638, 326.631,326.624,326.617,326.605,326.598 ,326.59,326.582,326.566,326.553,326.544 ,326.531,326.522,326.508,326.498, 326.494,326.512)
ORBIT_NUMBER = 26279
ORBITAL_ECCENTRICITY = 0.57
ORBITAL_INCLINATION = 87.12
ORBITAL_SEMIMAJOR_AXIS = 8807.65
PERIAPSIS_ALTITUDE = 402.19
PERIAPSIS_ARGUMENT_ANGLE = 140.68
PERIAPSIS_TIME = 2024-10-26T04:09:49.000Z
SPACECRAFT_ORIENTATION = (0.0,-1.0,0.0)
^MEX_ORIENTATION_DESC = "MEX_ORIENTATION_DESC.TXT"
SPACECRAFT_POINTING_MODE = ACROSSTRACK
^MEX_POINTING_DESC = "MEX_POINTING_DESC.TXT"
RIGHT_ASCENSION = -1e+32
DECLINATION = -1e+32
OFFSET_ANGLE = -1.105
SPACECRAFT_SOLAR_DISTANCE = 2.29718e+08
TARGET_NAME = MARS
/* CAMERA DATA ELEMENTS */
DETECTOR_TEMPERATURE = 17.351
FOCAL_PLANE_TEMPERATURE = 8.9911
INST_CMPRS_NAME = "DISCRETE COSINE TRANSFORMATION (DCT)"
INST_CMPRS_RATIO = 7.71551
INST_CMPRS_QUALITY = 0
INST_CMPRS_QUANTZ_TBL_ID = 0
INSTRUMENT_TEMPERATURE = 10.8262
LENS_TEMPERATURE = 9.6028
MACROPIXEL_SIZE = 2
MISSING_FRAMES = 0
PIXEL_SUBSAMPLING_FLAG = N
SIGNAL_CHAIN_ID = 3
/* RADIOMETRIC DATA ELEMENTS */
BANDWIDTH = 174.0
CENTER_FILTER_WAVELENGTH = 675.0
RADIANCE_OFFSET = 2.85417
RADIANCE_SCALING_FACTOR = 0.00917443
REFLECTANCE_SCALING_FACTOR = 0.000260407
MEX:REFLECTANCE_OFFSET = 0.0810128
/* IMAGE OBJECT DEFINITIONS */
OBJECT = IMAGE
  INTERCHANGE_FORMAT = BINARY
  LINES = 30257
  LINE_SAMPLES = 4483
  SAMPLE_TYPE = UNSIGNED_INTEGER
  SAMPLE_BITS = 8
  BANDS = 1
  BAND_STORAGE_TYPE = BAND_SEQUENTIAL
  MAXIMUM = 255
  MEAN = 85.8084
  MINIMUM = 1
  STANDARD_DEVIATION = 26.5551
END_OBJECT = IMAGE
/* MAP OBJECT DEFINITIONS */
OBJECT = IMAGE_MAP_PROJECTION
  ^DATA_SET_MAP_PROJECTION_CATALOG= "DSMAP.CAT"
  A_AXIS_RADIUS = 3396.0
  B_AXIS_RADIUS = 3396.0
  C_AXIS_RADIUS = 3396.0
  CENTER_LATITUDE = 0.0
  CENTER_LONGITUDE = 326.0
  COORDINATE_SYSTEM_NAME = PLANETOGRAPHIC
  COORDINATE_SYSTEM_TYPE = "BODY-FIXED ROTATING"
  EASTERNMOST_LONGITUDE = 326.815
  FIRST_STANDARD_PARALLEL = "N/A"
  LINE_FIRST_PIXEL = 1
  LINE_LAST_PIXEL = 30257
  LINE_PROJECTION_OFFSET = 105595.25
  MAP_PROJECTION_ROTATION = 0.0
  MAP_PROJECTION_TYPE = SINUSOIDAL
  MAP_RESOLUTION = 2370.85521546667
  MAP_SCALE = 0.025
  MAXIMUM_LATITUDE = 44.6137
  MINIMUM_LATITUDE = 31.7136
  POSITIVE_LONGITUDE_DIRECTION = EAST
  REFERENCE_LATITUDE = "N/A"
  REFERENCE_LONGITUDE = "N/A"
  SAMPLE_FIRST_PIXEL = 1
  SAMPLE_LAST_PIXEL = 4483
  SAMPLE_PROJECTION_OFFSET = 2797.75
  SECOND_STANDARD_PARALLEL = "N/A"
  WESTERNMOST_LONGITUDE = 324.375
END_OBJECT = IMAGE_MAP_PROJECTION
END
