PDS_VERSION_ID = PDS3
/* FILE DATA ELEMENTS */
RECORD_TYPE = UNDEFINED
/* POINTERS TO DATA OBJECTS */
^IMAGE = ("HQ276_0000_P24.TIF")
/* IDENTIFICATION DATA ELEMENTS */
DATA_SET_ID = "MEX-M-HRSC-4-REFDR-MAPPROJECT-EXT9-V4.0"
DATA_SET_NAME = "MARS EXPRESS HRSC MAP PROJECTED REFDR EXTENSION9 V4.0"
DETECTOR_ID = MEX_HRSC_P2
EVENT_TYPE = "MARS-REGIONAL-MAPPING-Vo-Te-Im"
INSTRUMENT_HOST_ID = MEX
INSTRUMENT_HOST_NAME = "MARS EXPRESS"
INSTRUMENT_ID = HRSC
INSTRUMENT_NAME = "HIGH RESOLUTION STEREO CAMERA"
MISSION_NAME = "MARS EXPRESS"
MISSION_PHASE_NAME = ME_Phase_50
PROCESSING_LEVEL_ID = 4
PRODUCT_CREATION_TIME = 2025-01-29T08:28:47.000Z
PRODUCT_ID = "HQ276_0000_P24.TIF"
RELEASE_ID = 0020
REVISION_ID = 0000
/* QUALITY DATA ELEMENTS */
DATA_QUALITY_ID = 1
DATA_QUALITY_DESC = "Data calculated based on original SPICE kernels"
/* TIME DATA ELEMENTS */
SPACECRAFT_CLOCK_START_COUNT = "1/0677920437.00341"
SPACECRAFT_CLOCK_STOP_COUNT = "1/0677920687.56009"
START_TIME = 2024-10-25T07:15:52.757Z
STOP_TIME = 2024-10-25T07:18:39.511Z
/* ORBITAL DATA ELEMENTS */
ASCENDING_NODE_LONGITUDE = 87.74
MAXIMUM_RESOLUTION = 0.0354
FOOTPRINT_POINT_LATITUDE = (28.2903,28.2913,28.2923,28.293,28.2931 ,28.2928,28.2927,28.3051,27.7398, 27.3637,26.8832,26.4991,26.1161,25.7335 ,25.5398,25.3442,25.1488,24.9537, 24.7587,24.5637,24.3691,24.1748,23.976, 23.7775,23.4797,23.2815,23.0837,22.886, 22.6856,22.4838,22.1808,21.88,21.5818, 21.3759,21.1687,20.9639,20.7599,20.4539 ,20.2462,20.0384,19.8308,19.6235, 19.4165,19.1007,18.8896,18.679,18.4683, 18.3631,18.3573,18.3544,18.3515,18.3475 ,18.345,18.3426,18.3378,18.3376,18.3381 ,18.5487,18.7596,18.9708,19.1822, 19.3931,19.601,19.8088,20.0168,20.2252, 20.4337,20.6381,20.9451,21.1498,21.355, 21.5605,21.7611,21.9628,22.2651,22.4667 ,22.6688,22.8699,23.0682,23.2662,23.564 ,23.7628,23.9617,24.1609,24.3555, 24.5505,24.8435,25.0389,25.2345,25.4302 ,25.7223,26.0142,26.3935,26.7781, 27.1635,27.3561,27.7327,28.2046,28.2992 ,28.2903)
FOOTPRINT_POINT_LONGITUDE = (274.562,274.316,273.955,273.463, 273.201,272.888,272.872,272.86,272.859, 272.858,272.855,272.853,272.851,272.848 ,272.846,272.844,272.843,272.841, 272.839,272.837,272.835,272.833,272.83, 272.828,272.824,272.822,272.819,272.816 ,272.813,272.81,272.806,272.8,272.794, 272.791,272.788,272.784,272.78,272.774, 272.77,272.766,272.762,272.757,272.753, 272.746,272.741,272.736,272.731,272.729 ,272.729,273.016,273.304,273.681, 273.933,274.149,274.563,274.581,274.588 ,274.587,274.587,274.586,274.586, 274.586,274.585,274.585,274.585,274.584 ,274.584,274.584,274.583,274.583, 274.582,274.582,274.581,274.581,274.581 ,274.58,274.58,274.579,274.579,274.579, 274.578,274.578,274.578,274.577,274.577 ,274.577,274.576,274.576,274.576, 274.575,274.575,274.576,274.573,274.573 ,274.572,274.572,274.571,274.57,274.57, 274.562)
ORBIT_NUMBER = 26276
ORBITAL_ECCENTRICITY = 0.57
ORBITAL_INCLINATION = 87.1
ORBITAL_SEMIMAJOR_AXIS = 8818.22
PERIAPSIS_ALTITUDE = 401.55
PERIAPSIS_ARGUMENT_ANGLE = 141.2
PERIAPSIS_TIME = 2024-10-25T07:12:40.000Z
SPACECRAFT_ORIENTATION = (0.0,-1.0,0.0)
^MEX_ORIENTATION_DESC = "MEX_ORIENTATION_DESC.TXT"
SPACECRAFT_POINTING_MODE = NADIR
^MEX_POINTING_DESC = "MEX_POINTING_DESC.TXT"
RIGHT_ASCENSION = -1e+32
DECLINATION = -1e+32
OFFSET_ANGLE = -1e+32
SPACECRAFT_SOLAR_DISTANCE = 2.2955e+08
TARGET_NAME = MARS
/* CAMERA DATA ELEMENTS */
DETECTOR_TEMPERATURE = 18.5744
FOCAL_PLANE_TEMPERATURE = 8.5833
INST_CMPRS_NAME = "DISCRETE COSINE TRANSFORMATION (DCT)"
INST_CMPRS_RATIO = 7.62961
INST_CMPRS_QUALITY = 0
INST_CMPRS_QUANTZ_TBL_ID = 0
INSTRUMENT_TEMPERATURE = 11.0301
LENS_TEMPERATURE = 7.9716
MACROPIXEL_SIZE = 2
MISSING_FRAMES = 0
PIXEL_SUBSAMPLING_FLAG = N
SIGNAL_CHAIN_ID = 3
/* RADIOMETRIC DATA ELEMENTS */
BANDWIDTH = 177.0
CENTER_FILTER_WAVELENGTH = 676.5
RADIANCE_OFFSET = 3.24466
RADIANCE_SCALING_FACTOR = 0.0236625
REFLECTANCE_SCALING_FACTOR = 0.000661108
MEX:REFLECTANCE_OFFSET = 0.0906528
/* IMAGE OBJECT DEFINITIONS */
OBJECT = IMAGE
  INTERCHANGE_FORMAT = BINARY
  LINES = 23622
  LINE_SAMPLES = 4135
  SAMPLE_TYPE = UNSIGNED_INTEGER
  SAMPLE_BITS = 8
  BANDS = 1
  BAND_STORAGE_TYPE = BAND_SEQUENTIAL
  MAXIMUM = 255
  MEAN = 150.576
  MINIMUM = 1
  STANDARD_DEVIATION = 16.558
END_OBJECT = IMAGE
/* MAP OBJECT DEFINITIONS */
OBJECT = IMAGE_MAP_PROJECTION
  ^DATA_SET_MAP_PROJECTION_CATALOG= "DSMAP.CAT"
  A_AXIS_RADIUS = 3396.0
  B_AXIS_RADIUS = 3396.0
  C_AXIS_RADIUS = 3396.0
  CENTER_LATITUDE = 0.0
  CENTER_LONGITUDE = 274.0
  COORDINATE_SYSTEM_NAME = PLANETOGRAPHIC
  COORDINATE_SYSTEM_TYPE = "BODY-FIXED ROTATING"
  EASTERNMOST_LONGITUDE = 274.588
  FIRST_STANDARD_PARALLEL = "N/A"
  LINE_FIRST_PIXEL = 1
  LINE_LAST_PIXEL = 23622
  LINE_PROJECTION_OFFSET = 67089.75
  MAP_PROJECTION_ROTATION = 0.0
  MAP_PROJECTION_TYPE = SINUSOIDAL
  MAP_RESOLUTION = 2370.85521546667
  MAP_SCALE = 0.025
  MAXIMUM_LATITUDE = 28.3051
  MINIMUM_LATITUDE = 18.3376
  POSITIVE_LONGITUDE_DIRECTION = EAST
  REFERENCE_LATITUDE = "N/A"
  REFERENCE_LONGITUDE = "N/A"
  SAMPLE_FIRST_PIXEL = 1
  SAMPLE_LAST_PIXEL = 4135
  SAMPLE_PROJECTION_OFFSET = 2838.25
  SECOND_STANDARD_PARALLEL = "N/A"
  WESTERNMOST_LONGITUDE = 272.729
END_OBJECT = IMAGE_MAP_PROJECTION
END
