PDS_VERSION_ID = PDS3
/* FILE DATA ELEMENTS */
RECORD_TYPE = UNDEFINED
/* POINTERS TO DATA OBJECTS */
^IMAGE = ("HQ275_0000_IR4.TIF")
/* IDENTIFICATION DATA ELEMENTS */
DATA_SET_ID = "MEX-M-HRSC-4-REFDR-MAPPROJECT-EXT9-V4.0"
DATA_SET_NAME = "MARS EXPRESS HRSC MAP PROJECTED REFDR EXTENSION9 V4.0"
DETECTOR_ID = MEX_HRSC_IR
EVENT_TYPE = "MARS-REGIONAL-MAPPING-Fl-Gl-Eo"
INSTRUMENT_HOST_ID = MEX
INSTRUMENT_HOST_NAME = "MARS EXPRESS"
INSTRUMENT_ID = HRSC
INSTRUMENT_NAME = "HIGH RESOLUTION STEREO CAMERA"
MISSION_NAME = "MARS EXPRESS"
MISSION_PHASE_NAME = ME_Phase_50
PROCESSING_LEVEL_ID = 4
PRODUCT_CREATION_TIME = 2025-01-29T08:28:47.000Z
PRODUCT_ID = "HQ275_0000_IR4.TIF"
RELEASE_ID = 0020
REVISION_ID = 0000
/* QUALITY DATA ELEMENTS */
DATA_QUALITY_ID = 1
DATA_QUALITY_DESC = "Data calculated based on original SPICE kernels"
/* TIME DATA ELEMENTS */
SPACECRAFT_CLOCK_START_COUNT = "1/0677895065.00350"
SPACECRAFT_CLOCK_STOP_COUNT = "1/0677895324.05158"
START_TIME = 2024-10-25T00:12:03.510Z
STOP_TIME = 2024-10-25T00:15:00.429Z
/* ORBITAL DATA ELEMENTS */
ASCENDING_NODE_LONGITUDE = 87.76
MAXIMUM_RESOLUTION = 0.0683
FOOTPRINT_POINT_LATITUDE = (42.1468,42.0928,42.0634,42.0325, 41.9998,41.9426,41.9403,41.87,41.5388, 41.0963,40.6611,40.4405,40.0012,39.7804 ,39.5598,39.3396,39.1192,38.898,38.6758 ,38.4553,38.234,37.9009,37.6784,37.4563 ,37.2249,36.7832,36.4543,36.2312, 36.0055,35.7859,35.5617,35.3338,34.9991 ,34.7738,34.3354,34.113,33.8833,33.6559 ,33.4316,32.9892,32.652,32.4291,32.2039 ,31.9791,31.7545,31.4169,31.0796, 30.8549,30.7427,30.7324,30.7903,30.8312 ,30.8638,30.9013,30.9027,30.9041, 31.2431,31.4684,31.806,32.0332,32.2579, 32.4837,32.7063,32.9317,33.2705,33.4956 ,33.7209,33.9456,34.1671,34.3953, 34.6199,34.844,35.1791,35.5083,35.7328, 35.9554,36.1788,36.4036,36.7401,37.0836 ,37.4184,37.6417,37.8644,38.1982, 38.5327,38.7546,38.9773,39.3108,39.5327 ,39.755,39.9766,40.3098,40.5319,40.7542 ,41.0806,41.5195,41.7406,41.9611, 42.0722,42.1468)
FOOTPRINT_POINT_LONGITUDE = (14.2221,13.6399,13.3404,13.0353, 12.7243,12.2049,12.1846,12.0742,12.1022 ,12.1368,12.1822,12.2004,12.2393, 12.2569,12.2747,12.2931,12.3112,12.328, 12.3432,12.3609,12.3772,12.4,12.4146, 12.4295,12.4306,12.4639,12.4922,12.5054 ,12.5145,12.5326,12.5438,12.5494, 12.5682,12.5775,12.6136,12.6269,12.6294 ,12.6351,12.6453,12.6741,12.6877, 12.6993,12.7076,12.7163,12.725,12.737, 12.7493,12.7573,12.7616,12.762,13.3424, 13.753,14.1166,14.5503,14.5661,14.5714, 14.5636,14.558,14.5491,14.5446,14.5383, 14.5327,14.525,14.5191,14.5106,14.5043, 14.4981,14.4915,14.4827,14.4784,14.4717 ,14.4645,14.4529,14.4372,14.4302, 14.4218,14.4139,14.4069,14.396,14.3899, 14.3776,14.3695,14.3609,14.3477,14.3351 ,14.3258,14.3171,14.3036,14.2943, 14.2852,14.2756,14.2618,14.2525,14.2433 ,14.2245,14.202,14.1919,14.1813,14.1765 ,14.2221)
ORBIT_NUMBER = 26275
ORBITAL_ECCENTRICITY = 0.57
ORBITAL_INCLINATION = 87.1
ORBITAL_SEMIMAJOR_AXIS = 8813.39
PERIAPSIS_ALTITUDE = 401.93
PERIAPSIS_ARGUMENT_ANGLE = 141.36
PERIAPSIS_TIME = 2024-10-25T00:13:30.000Z
SPACECRAFT_ORIENTATION = (0.0,-1.0,0.0)
^MEX_ORIENTATION_DESC = "MEX_ORIENTATION_DESC.TXT"
SPACECRAFT_POINTING_MODE = ACROSSTRACK
^MEX_POINTING_DESC = "MEX_POINTING_DESC.TXT"
RIGHT_ASCENSION = -1e+32
DECLINATION = -1e+32
OFFSET_ANGLE = -1.832
SPACECRAFT_SOLAR_DISTANCE = 2.29494e+08
TARGET_NAME = MARS
/* CAMERA DATA ELEMENTS */
DETECTOR_TEMPERATURE = 16.9432
FOCAL_PLANE_TEMPERATURE = 8.5833
INST_CMPRS_NAME = "DISCRETE COSINE TRANSFORMATION (DCT)"
INST_CMPRS_RATIO = 9.16767
INST_CMPRS_QUALITY = 0
INST_CMPRS_QUANTZ_TBL_ID = 0
INSTRUMENT_TEMPERATURE = 11.0301
LENS_TEMPERATURE = 9.6028
MACROPIXEL_SIZE = 4
MISSING_FRAMES = 0
PIXEL_SUBSAMPLING_FLAG = N
SIGNAL_CHAIN_ID = 2
/* RADIOMETRIC DATA ELEMENTS */
BANDWIDTH = 81.0
CENTER_FILTER_WAVELENGTH = 955.5
RADIANCE_OFFSET = 0.733106
RADIANCE_SCALING_FACTOR = 0.00668973
REFLECTANCE_SCALING_FACTOR = 0.000760112
MEX:REFLECTANCE_OFFSET = 0.0832983
/* IMAGE OBJECT DEFINITIONS */
OBJECT = IMAGE
  INTERCHANGE_FORMAT = BINARY
  LINES = 13321
  LINE_SAMPLES = 2501
  SAMPLE_TYPE = UNSIGNED_INTEGER
  SAMPLE_BITS = 8
  BANDS = 1
  BAND_STORAGE_TYPE = BAND_SEQUENTIAL
  MAXIMUM = 255
  MEAN = 112.174
  MINIMUM = 1
  STANDARD_DEVIATION = 30.8709
END_OBJECT = IMAGE
/* MAP OBJECT DEFINITIONS */
OBJECT = IMAGE_MAP_PROJECTION
  ^DATA_SET_MAP_PROJECTION_CATALOG= "DSMAP.CAT"
  A_AXIS_RADIUS = 3396.0
  B_AXIS_RADIUS = 3396.0
  C_AXIS_RADIUS = 3396.0
  CENTER_LATITUDE = 0.0
  CENTER_LONGITUDE = 13.0
  COORDINATE_SYSTEM_NAME = PLANETOGRAPHIC
  COORDINATE_SYSTEM_TYPE = "BODY-FIXED ROTATING"
  EASTERNMOST_LONGITUDE = 14.5714
  FIRST_STANDARD_PARALLEL = "N/A"
  LINE_FIRST_PIXEL = 1
  LINE_LAST_PIXEL = 13321
  LINE_PROJECTION_OFFSET = 49844.375
  MAP_PROJECTION_ROTATION = 0.0
  MAP_PROJECTION_TYPE = SINUSOIDAL
  MAP_RESOLUTION = 1185.42760773333
  MAP_SCALE = 0.05
  MAXIMUM_LATITUDE = 42.1468
  MINIMUM_LATITUDE = 30.7324
  POSITIVE_LONGITUDE_DIRECTION = EAST
  REFERENCE_LATITUDE = "N/A"
  REFERENCE_LONGITUDE = "N/A"
  SAMPLE_FIRST_PIXEL = 1
  SAMPLE_LAST_PIXEL = 2501
  SAMPLE_PROJECTION_OFFSET = 865.125
  SECOND_STANDARD_PARALLEL = "N/A"
  WESTERNMOST_LONGITUDE = 12.0742
END_OBJECT = IMAGE_MAP_PROJECTION
END
