PDS_VERSION_ID = PDS3
/* FILE DATA ELEMENTS */
RECORD_TYPE = UNDEFINED
/* POINTERS TO DATA OBJECTS */
^IMAGE = ("HQ268_0000_P24.TIF")
/* IDENTIFICATION DATA ELEMENTS */
DATA_SET_ID = "MEX-M-HRSC-4-REFDR-MAPPROJECT-EXT9-V4.0"
DATA_SET_NAME = "MARS EXPRESS HRSC MAP PROJECTED REFDR EXTENSION9 V4.0"
DETECTOR_ID = MEX_HRSC_P2
EVENT_TYPE = "MARS-REGIONAL-MAPPING-Im-Fl-Gl"
INSTRUMENT_HOST_ID = MEX
INSTRUMENT_HOST_NAME = "MARS EXPRESS"
INSTRUMENT_ID = HRSC
INSTRUMENT_NAME = "HIGH RESOLUTION STEREO CAMERA"
MISSION_NAME = "MARS EXPRESS"
MISSION_PHASE_NAME = ME_Phase_50
PROCESSING_LEVEL_ID = 4
PRODUCT_CREATION_TIME = 2025-01-29T08:28:47.000Z
PRODUCT_ID = "HQ268_0000_P24.TIF"
RELEASE_ID = 0020
REVISION_ID = 0000
/* QUALITY DATA ELEMENTS */
DATA_QUALITY_ID = 1
DATA_QUALITY_DESC = "Data calculated based on original SPICE kernels"
/* TIME DATA ELEMENTS */
SPACECRAFT_CLOCK_START_COUNT = "1/0677719039.64163"
SPACECRAFT_CLOCK_STOP_COUNT = "1/0677719290.56645"
START_TIME = 2024-10-22T23:19:14.318Z
STOP_TIME = 2024-10-22T23:22:06.796Z
/* ORBITAL DATA ELEMENTS */
ASCENDING_NODE_LONGITUDE = 87.88
MAXIMUM_RESOLUTION = 0.0333
FOOTPRINT_POINT_LATITUDE = (41.7626,41.7524,41.7444,41.736,41.7272 ,41.7082,41.7076,41.7567,41.5364, 41.2069,40.877,40.657,40.4373,40.1078, 39.8882,39.6685,39.3391,39.1197,38.7908 ,38.572,38.2436,38.0247,37.6962,37.4772 ,37.1497,36.8222,36.4953,36.2771, 36.0591,35.8417,35.6237,35.4058,35.1882 ,34.8623,34.6449,34.3193,34.1023, 33.7774,33.5608,33.2369,33.0205,32.5902 ,32.3745,32.1586,31.9435,31.6209, 31.4032,31.1825,30.9624,30.8523,30.8453 ,30.8527,30.8624,30.8731,30.8827, 30.8829,30.8836,31.2143,31.4353,31.6537 ,31.8691,32.1924,32.4077,32.624,32.9491 ,33.1682,33.3864,33.6023,34.0306,34.248 ,34.4648,34.6828,34.903,35.1215,35.337, 35.5572,35.8878,36.1058,36.5366,36.8652 ,37.0869,37.5199,37.7386,38.0671, 38.2861,38.6153,38.8346,39.0544,39.2741 ,39.6043,39.8242,40.1538,40.4839,40.704 ,41.0339,41.2539,41.4742,41.6985, 41.8082,41.7626)
FOOTPRINT_POINT_LONGITUDE = (12.9419,12.5255,12.2269,11.9314, 11.6391,11.0631,11.0453,11.0475,11.0527 ,11.0602,11.0673,11.0718,11.0762, 11.0824,11.0864,11.0902,11.0956,11.099, 11.1038,11.1069,11.1113,11.114,11.1177, 11.12,11.1233,11.1263,11.1291,11.1307, 11.1322,11.1336,11.1348,11.1359,11.1369 ,11.1382,11.1389,11.1397,11.1401, 11.1405,11.1407,11.1407,11.1406,11.1402 ,11.1397,11.1391,11.1385,11.1374, 11.1364,11.1354,11.1343,11.1337,11.1336 ,11.4118,11.8098,12.282,12.8474,12.8647 ,12.871,12.8741,12.8766,12.8793,12.8817 ,12.885,12.8868,12.8897,12.8944,12.9003 ,12.9048,12.9065,12.9048,12.9079,12.91, 12.9133,12.9195,12.9233,12.9232,12.9289 ,12.9376,12.9402,12.9383,12.9436, 12.9504,12.9501,12.9527,12.957,12.9597, 12.9643,12.9672,12.9706,12.9737,12.979, 12.9823,12.9866,12.9914,12.9946,12.9987 ,13.0016,13.0046,13.0133,13.0141, 12.9419)
ORBIT_NUMBER = 26268
ORBITAL_ECCENTRICITY = 0.57
ORBITAL_INCLINATION = 87.1
ORBITAL_SEMIMAJOR_AXIS = 8814.58
PERIAPSIS_ALTITUDE = 401.24
PERIAPSIS_ARGUMENT_ANGLE = 142.55
PERIAPSIS_TIME = 2024-10-22T23:19:57.000Z
SPACECRAFT_ORIENTATION = (0.0,-1.0,0.0)
^MEX_ORIENTATION_DESC = "MEX_ORIENTATION_DESC.TXT"
SPACECRAFT_POINTING_MODE = ACROSSTRACK
^MEX_POINTING_DESC = "MEX_POINTING_DESC.TXT"
RIGHT_ASCENSION = -1e+32
DECLINATION = -1e+32
OFFSET_ANGLE = 0.9
SPACECRAFT_SOLAR_DISTANCE = 2.291e+08
TARGET_NAME = MARS
/* CAMERA DATA ELEMENTS */
DETECTOR_TEMPERATURE = 18.1666
FOCAL_PLANE_TEMPERATURE = 8.3794
INST_CMPRS_NAME = "DISCRETE COSINE TRANSFORMATION (DCT)"
INST_CMPRS_RATIO = 7.93049
INST_CMPRS_QUALITY = 0
INST_CMPRS_QUANTZ_TBL_ID = 0
INSTRUMENT_TEMPERATURE = 10.4184
LENS_TEMPERATURE = 8.7872
MACROPIXEL_SIZE = 2
MISSING_FRAMES = 0
PIXEL_SUBSAMPLING_FLAG = N
SIGNAL_CHAIN_ID = 3
/* RADIOMETRIC DATA ELEMENTS */
BANDWIDTH = 177.0
CENTER_FILTER_WAVELENGTH = 676.5
RADIANCE_OFFSET = 2.96515
RADIANCE_SCALING_FACTOR = 0.0158068
REFLECTANCE_SCALING_FACTOR = 0.000439899
MEX:REFLECTANCE_OFFSET = 0.082519
/* IMAGE OBJECT DEFINITIONS */
OBJECT = IMAGE
  INTERCHANGE_FORMAT = BINARY
  LINES = 25930
  LINE_SAMPLES = 3621
  SAMPLE_TYPE = UNSIGNED_INTEGER
  SAMPLE_BITS = 8
  BANDS = 1
  BAND_STORAGE_TYPE = BAND_SEQUENTIAL
  MAXIMUM = 255
  MEAN = 124.551
  MINIMUM = 1
  STANDARD_DEVIATION = 26.5999
END_OBJECT = IMAGE
/* MAP OBJECT DEFINITIONS */
OBJECT = IMAGE_MAP_PROJECTION
  ^DATA_SET_MAP_PROJECTION_CATALOG= "DSMAP.CAT"
  A_AXIS_RADIUS = 3396.0
  B_AXIS_RADIUS = 3396.0
  C_AXIS_RADIUS = 3396.0
  CENTER_LATITUDE = 0.0
  CENTER_LONGITUDE = 12.0
  COORDINATE_SYSTEM_NAME = PLANETOGRAPHIC
  COORDINATE_SYSTEM_TYPE = "BODY-FIXED ROTATING"
  EASTERNMOST_LONGITUDE = 13.0141
  FIRST_STANDARD_PARALLEL = "N/A"
  LINE_FIRST_PIXEL = 1
  LINE_LAST_PIXEL = 25930
  LINE_PROJECTION_OFFSET = 99031.75
  MAP_PROJECTION_ROTATION = 0.0
  MAP_PROJECTION_TYPE = SINUSOIDAL
  MAP_RESOLUTION = 2370.85521546667
  MAP_SCALE = 0.025
  MAXIMUM_LATITUDE = 41.8082
  MINIMUM_LATITUDE = 30.8453
  POSITIVE_LONGITUDE_DIRECTION = EAST
  REFERENCE_LATITUDE = "N/A"
  REFERENCE_LONGITUDE = "N/A"
  SAMPLE_FIRST_PIXEL = 1
  SAMPLE_LAST_PIXEL = 3621
  SAMPLE_PROJECTION_OFFSET = 1752.75
  SECOND_STANDARD_PARALLEL = "N/A"
  WESTERNMOST_LONGITUDE = 11.0453
END_OBJECT = IMAGE_MAP_PROJECTION
END
