PDS_VERSION_ID = PDS3
/* FILE DATA ELEMENTS */
RECORD_TYPE = UNDEFINED
/* POINTERS TO DATA OBJECTS */
^IMAGE = ("HQ266_0000_IR4.TIF")
/* IDENTIFICATION DATA ELEMENTS */
DATA_SET_ID = "MEX-M-HRSC-4-REFDR-MAPPROJECT-EXT9-V4.0"
DATA_SET_NAME = "MARS EXPRESS HRSC MAP PROJECTED REFDR EXTENSION9 V4.0"
DETECTOR_ID = MEX_HRSC_IR
EVENT_TYPE = "MARS-LOCAL-CARTOGRAPHY-Vo-Te-Mw"
INSTRUMENT_HOST_ID = MEX
INSTRUMENT_HOST_NAME = "MARS EXPRESS"
INSTRUMENT_ID = HRSC
INSTRUMENT_NAME = "HIGH RESOLUTION STEREO CAMERA"
MISSION_NAME = "MARS EXPRESS"
MISSION_PHASE_NAME = ME_Phase_50
PROCESSING_LEVEL_ID = 4
PRODUCT_CREATION_TIME = 2025-01-29T08:28:47.000Z
PRODUCT_ID = "HQ266_0000_IR4.TIF"
RELEASE_ID = 0020
REVISION_ID = 0000
/* QUALITY DATA ELEMENTS */
DATA_QUALITY_ID = 1
DATA_QUALITY_DESC = "Data calculated based on original SPICE kernels"
/* TIME DATA ELEMENTS */
SPACECRAFT_CLOCK_START_COUNT = "1/0677668755.64194"
SPACECRAFT_CLOCK_STOP_COUNT = "1/0677669150.22527"
START_TIME = 2024-10-22T09:20:14.129Z
STOP_TIME = 2024-10-22T09:25:21.355Z
/* ORBITAL DATA ELEMENTS */
ASCENDING_NODE_LONGITUDE = 87.92
MAXIMUM_RESOLUTION = 0.0674
FOOTPRINT_POINT_LATITUDE = (40.9016,40.914,40.9193,40.9209,40.9209 ,40.8593,39.9106,39.1493,38.3868, 38.0053,37.623,37.2403,36.8571,36.4737, 36.0898,35.7055,35.3211,34.9362,34.3586 ,33.7804,33.3946,33.0094,32.6254, 32.2398,31.8533,31.4663,31.0791,30.6946 ,30.3074,29.9202,29.533,29.1457,28.7594 ,28.3696,27.7895,27.2077,26.8175, 26.4247,26.0256,25.6289,25.2272,24.8295 ,24.433,24.0354,23.6276,23.2192,22.6055 ,22.1956,21.5771,21.3681,21.3178, 21.2911,21.2689,21.2673,21.2695,21.6844 ,22.3022,22.9168,23.3278,23.7366, 24.1393,24.7384,25.3365,25.7357,26.1351 ,26.536,27.1196,27.5069,27.8952,28.4781 ,28.8698,29.2576,29.8385,30.2263, 30.6128,31.0008,31.3857,31.7729,32.354, 32.9343,33.3199,33.7029,34.0885,34.4742 ,34.86,35.2454,35.6305,36.0154,36.3998, 36.784,37.1678,37.5513,37.934,38.3167, 38.6992,39.0813,39.844,40.6047,40.7947, 40.9016)
FOOTPRINT_POINT_LONGITUDE = (216.768,216.029,215.474,214.925, 214.908,214.899,214.928,214.948,214.967 ,214.976,214.984,214.991,214.999, 215.005,215.012,215.017,215.023,215.028 ,215.035,215.04,215.044,215.047,215.05, 215.052,215.054,215.055,215.057,215.058 ,215.058,215.058,215.058,215.057, 215.057,215.055,215.053,215.05,215.047, 215.044,215.041,215.038,215.034,215.03, 215.025,215.021,215.016,215.01,215.002, 214.995,214.986,214.982,214.981,215.866 ,216.61,216.626,216.631,216.637,216.641 ,216.646,216.648,216.652,216.656, 216.661,216.667,216.671,216.674,216.677 ,216.682,216.686,216.69,216.695,216.697 ,216.701,216.708,216.711,216.716,216.72 ,216.726,216.73,216.735,216.741,216.746 ,216.752,216.756,216.76,216.764,216.768 ,216.772,216.775,216.779,216.783, 216.787,216.79,216.794,216.798,216.801, 216.805,216.812,216.819,216.821, 216.768)
ORBIT_NUMBER = 26266
ORBITAL_ECCENTRICITY = 0.57
ORBITAL_INCLINATION = 87.12
ORBITAL_SEMIMAJOR_AXIS = 8814.68
PERIAPSIS_ALTITUDE = 400.44
PERIAPSIS_ARGUMENT_ANGLE = 142.89
PERIAPSIS_TIME = 2024-10-22T09:21:44.000Z
SPACECRAFT_ORIENTATION = (0.0,-1.0,0.0)
^MEX_ORIENTATION_DESC = "MEX_ORIENTATION_DESC.TXT"
SPACECRAFT_POINTING_MODE = ACROSSTRACK
^MEX_POINTING_DESC = "MEX_POINTING_DESC.TXT"
RIGHT_ASCENSION = -1e+32
DECLINATION = -1e+32
OFFSET_ANGLE = 0.539
SPACECRAFT_SOLAR_DISTANCE = 2.28988e+08
TARGET_NAME = MARS
/* CAMERA DATA ELEMENTS */
DETECTOR_TEMPERATURE = 17.1471
FOCAL_PLANE_TEMPERATURE = 8.7872
INST_CMPRS_NAME = "DISCRETE COSINE TRANSFORMATION (DCT)"
INST_CMPRS_RATIO = 8.4748
INST_CMPRS_QUALITY = 0
INST_CMPRS_QUANTZ_TBL_ID = 0
INSTRUMENT_TEMPERATURE = 11.234
LENS_TEMPERATURE = 8.5833
MACROPIXEL_SIZE = 4
MISSING_FRAMES = 0
PIXEL_SUBSAMPLING_FLAG = N
SIGNAL_CHAIN_ID = 2
/* RADIOMETRIC DATA ELEMENTS */
BANDWIDTH = 81.0
CENTER_FILTER_WAVELENGTH = 955.5
RADIANCE_OFFSET = 1.09966
RADIANCE_SCALING_FACTOR = 0.00501314
REFLECTANCE_SCALING_FACTOR = 0.000567103
MEX:REFLECTANCE_OFFSET = 0.124397
/* IMAGE OBJECT DEFINITIONS */
OBJECT = IMAGE
  INTERCHANGE_FORMAT = BINARY
  LINES = 23217
  LINE_SAMPLES = 1945
  SAMPLE_TYPE = UNSIGNED_INTEGER
  SAMPLE_BITS = 8
  BANDS = 1
  BAND_STORAGE_TYPE = BAND_SEQUENTIAL
  MAXIMUM = 255
  MEAN = 102.548
  MINIMUM = 1
  STANDARD_DEVIATION = 36.8883
END_OBJECT = IMAGE
/* MAP OBJECT DEFINITIONS */
OBJECT = IMAGE_MAP_PROJECTION
  ^DATA_SET_MAP_PROJECTION_CATALOG= "DSMAP.CAT"
  A_AXIS_RADIUS = 3396.0
  B_AXIS_RADIUS = 3396.0
  C_AXIS_RADIUS = 3396.0
  CENTER_LATITUDE = 0.0
  CENTER_LONGITUDE = 216.0
  COORDINATE_SYSTEM_NAME = PLANETOGRAPHIC
  COORDINATE_SYSTEM_TYPE = "BODY-FIXED ROTATING"
  EASTERNMOST_LONGITUDE = 216.821
  FIRST_STANDARD_PARALLEL = "N/A"
  LINE_FIRST_PIXEL = 1
  LINE_LAST_PIXEL = 23217
  LINE_PROJECTION_OFFSET = 48458.125
  MAP_PROJECTION_ROTATION = 0.0
  MAP_PROJECTION_TYPE = SINUSOIDAL
  MAP_RESOLUTION = 1185.42760773333
  MAP_SCALE = 0.05
  MAXIMUM_LATITUDE = 40.9209
  MINIMUM_LATITUDE = 21.2673
  POSITIVE_LONGITUDE_DIRECTION = EAST
  REFERENCE_LATITUDE = "N/A"
  REFERENCE_LONGITUDE = "N/A"
  SAMPLE_FIRST_PIXEL = 1
  SAMPLE_LAST_PIXEL = 1945
  SAMPLE_PROJECTION_OFFSET = 1169.625
  SECOND_STANDARD_PARALLEL = "N/A"
  WESTERNMOST_LONGITUDE = 214.899
END_OBJECT = IMAGE_MAP_PROJECTION
END
