PDS_VERSION_ID = PDS3
/* FILE DATA ELEMENTS */
RECORD_TYPE = UNDEFINED
/* POINTERS TO DATA OBJECTS */
^IMAGE = ("HQ266_0000_BL4.TIF")
/* IDENTIFICATION DATA ELEMENTS */
DATA_SET_ID = "MEX-M-HRSC-4-REFDR-MAPPROJECT-EXT9-V4.0"
DATA_SET_NAME = "MARS EXPRESS HRSC MAP PROJECTED REFDR EXTENSION9 V4.0"
DETECTOR_ID = MEX_HRSC_BLUE
EVENT_TYPE = "MARS-LOCAL-CARTOGRAPHY-Vo-Te-Mw"
INSTRUMENT_HOST_ID = MEX
INSTRUMENT_HOST_NAME = "MARS EXPRESS"
INSTRUMENT_ID = HRSC
INSTRUMENT_NAME = "HIGH RESOLUTION STEREO CAMERA"
MISSION_NAME = "MARS EXPRESS"
MISSION_PHASE_NAME = ME_Phase_50
PROCESSING_LEVEL_ID = 4
PRODUCT_CREATION_TIME = 2025-01-29T08:28:47.000Z
PRODUCT_ID = "HQ266_0000_BL4.TIF"
RELEASE_ID = 0020
REVISION_ID = 0000
/* QUALITY DATA ELEMENTS */
DATA_QUALITY_ID = 1
DATA_QUALITY_DESC = "Data calculated based on original SPICE kernels"
/* TIME DATA ELEMENTS */
SPACECRAFT_CLOCK_START_COUNT = "1/0677668755.64194"
SPACECRAFT_CLOCK_STOP_COUNT = "1/0677669150.22527"
START_TIME = 2024-10-22T09:20:51.640Z
STOP_TIME = 2024-10-22T09:26:02.565Z
/* ORBITAL DATA ELEMENTS */
ASCENDING_NODE_LONGITUDE = 87.92
MAXIMUM_RESOLUTION = 0.0647
FOOTPRINT_POINT_LATITUDE = (40.8713,40.8648,40.8517,40.8514, 40.8646,40.2864,39.7082,39.3228,38.9373 ,38.5517,38.1662,37.5879,37.2024, 36.8171,36.4319,36.0467,35.6617,35.2767 ,34.8919,34.5072,34.1226,33.7383, 33.1619,32.7776,32.01,31.0525,30.2869, 29.714,28.9503,28.5592,28.1689,27.5832, 27.1934,26.8045,26.4152,26.0178,25.6189 ,25.2221,24.8243,24.4271,24.0228, 23.6172,23.2122,22.8079,22.1917,21.5722 ,21.3662,21.3083,21.3061,21.3028, 21.2978,21.2973,21.2984,21.7124,22.1254 ,22.7435,23.1488,23.5543,23.9606, 24.3667,24.9629,25.3608,25.7593,26.1581 ,26.7479,27.1374,27.528,27.9185,28.3097 ,28.7006,29.0894,29.8537,30.6191, 31.1946,31.5782,31.9618,32.3458,32.7301 ,33.1146,33.5,33.8853,34.2704,34.6556, 35.0409,35.4264,35.8121,36.1978,36.5837 ,36.9697,37.3557,37.7418,38.128,38.7073 ,39.0935,39.4797,39.866,40.2522,40.6384 ,40.8315,40.8713)
FOOTPRINT_POINT_LONGITUDE = (216.749,215.834,214.938,214.921, 214.911,214.927,214.942,214.952,214.961 ,214.97,214.978,214.989,214.996,215.002 ,215.008,215.013,215.018,215.023, 215.027,215.031,215.034,215.037,215.041 ,215.043,215.046,215.048,215.048, 215.046,215.044,215.042,215.04,215.036, 215.033,215.03,215.026,215.022,215.018, 215.013,215.009,215.004,214.998,214.992 ,214.986,214.979,214.969,214.958, 214.954,214.953,215.627,216.055,216.633 ,216.649,216.654,216.66,216.661,216.664 ,216.667,216.67,216.672,216.675,216.679 ,216.682,216.685,216.687,216.692, 216.693,216.697,216.7,216.703,216.704, 216.707,216.714,216.72,216.727,216.73, 216.733,216.736,216.739,216.742,216.747 ,216.752,216.755,216.758,216.761, 216.764,216.767,216.77,216.772,216.775, 216.778,216.781,216.784,216.788,216.79, 216.793,216.796,216.798,216.801,216.802 ,216.749)
ORBIT_NUMBER = 26266
ORBITAL_ECCENTRICITY = 0.57
ORBITAL_INCLINATION = 87.12
ORBITAL_SEMIMAJOR_AXIS = 8814.68
PERIAPSIS_ALTITUDE = 400.44
PERIAPSIS_ARGUMENT_ANGLE = 142.89
PERIAPSIS_TIME = 2024-10-22T09:21:44.000Z
SPACECRAFT_ORIENTATION = (0.0,-1.0,0.0)
^MEX_ORIENTATION_DESC = "MEX_ORIENTATION_DESC.TXT"
SPACECRAFT_POINTING_MODE = ACROSSTRACK
^MEX_POINTING_DESC = "MEX_POINTING_DESC.TXT"
RIGHT_ASCENSION = -1e+32
DECLINATION = -1e+32
OFFSET_ANGLE = 0.539
SPACECRAFT_SOLAR_DISTANCE = 2.28988e+08
TARGET_NAME = MARS
/* CAMERA DATA ELEMENTS */
DETECTOR_TEMPERATURE = 17.9627
FOCAL_PLANE_TEMPERATURE = 8.7872
INST_CMPRS_NAME = "DISCRETE COSINE TRANSFORMATION (DCT)"
INST_CMPRS_RATIO = 7.41142
INST_CMPRS_QUALITY = 0
INST_CMPRS_QUANTZ_TBL_ID = 0
INSTRUMENT_TEMPERATURE = 11.234
LENS_TEMPERATURE = 8.5833
MACROPIXEL_SIZE = 4
MISSING_FRAMES = 0
PIXEL_SUBSAMPLING_FLAG = N
SIGNAL_CHAIN_ID = 2
/* RADIOMETRIC DATA ELEMENTS */
BANDWIDTH = 76.0
CENTER_FILTER_WAVELENGTH = 444.0
RADIANCE_OFFSET = 0.512608
RADIANCE_SCALING_FACTOR = 0.00147975
REFLECTANCE_SCALING_FACTOR = 7.97203e-05
MEX:REFLECTANCE_OFFSET = 0.0276163
/* IMAGE OBJECT DEFINITIONS */
OBJECT = IMAGE
  INTERCHANGE_FORMAT = BINARY
  LINES = 23217
  LINE_SAMPLES = 1945
  SAMPLE_TYPE = UNSIGNED_INTEGER
  SAMPLE_BITS = 8
  BANDS = 1
  BAND_STORAGE_TYPE = BAND_SEQUENTIAL
  MAXIMUM = 255
  MEAN = 125.914
  MINIMUM = 1
  STANDARD_DEVIATION = 37.7688
END_OBJECT = IMAGE
/* MAP OBJECT DEFINITIONS */
OBJECT = IMAGE_MAP_PROJECTION
  ^DATA_SET_MAP_PROJECTION_CATALOG= "DSMAP.CAT"
  A_AXIS_RADIUS = 3396.0
  B_AXIS_RADIUS = 3396.0
  C_AXIS_RADIUS = 3396.0
  CENTER_LATITUDE = 0.0
  CENTER_LONGITUDE = 216.0
  COORDINATE_SYSTEM_NAME = PLANETOGRAPHIC
  COORDINATE_SYSTEM_TYPE = "BODY-FIXED ROTATING"
  EASTERNMOST_LONGITUDE = 216.802
  FIRST_STANDARD_PARALLEL = "N/A"
  LINE_FIRST_PIXEL = 1
  LINE_LAST_PIXEL = 23217
  LINE_PROJECTION_OFFSET = 48458.125
  MAP_PROJECTION_ROTATION = 0.0
  MAP_PROJECTION_TYPE = SINUSOIDAL
  MAP_RESOLUTION = 1185.42760773333
  MAP_SCALE = 0.05
  MAXIMUM_LATITUDE = 40.8713
  MINIMUM_LATITUDE = 21.2973
  POSITIVE_LONGITUDE_DIRECTION = EAST
  REFERENCE_LATITUDE = "N/A"
  REFERENCE_LONGITUDE = "N/A"
  SAMPLE_FIRST_PIXEL = 1
  SAMPLE_LAST_PIXEL = 1945
  SAMPLE_PROJECTION_OFFSET = 1169.625
  SECOND_STANDARD_PARALLEL = "N/A"
  WESTERNMOST_LONGITUDE = 214.911
END_OBJECT = IMAGE_MAP_PROJECTION
END
