PDS_VERSION_ID = PDS3
/* FILE DATA ELEMENTS */
RECORD_TYPE = UNDEFINED
/* POINTERS TO DATA OBJECTS */
^IMAGE = ("HQ265_0000_RE4.TIF")
/* IDENTIFICATION DATA ELEMENTS */
DATA_SET_ID = "MEX-M-HRSC-4-REFDR-MAPPROJECT-EXT9-V4.0"
DATA_SET_NAME = "MARS EXPRESS HRSC MAP PROJECTED REFDR EXTENSION9 V4.0"
DETECTOR_ID = MEX_HRSC_RED
EVENT_TYPE = "MARS-REGIONAL-COLOR-Eb-La-Ts"
INSTRUMENT_HOST_ID = MEX
INSTRUMENT_HOST_NAME = "MARS EXPRESS"
INSTRUMENT_ID = HRSC
INSTRUMENT_NAME = "HIGH RESOLUTION STEREO CAMERA"
MISSION_NAME = "MARS EXPRESS"
MISSION_PHASE_NAME = ME_Phase_50
PROCESSING_LEVEL_ID = 4
PRODUCT_CREATION_TIME = 2025-01-29T08:28:47.000Z
PRODUCT_ID = "HQ265_0000_RE4.TIF"
RELEASE_ID = 0020
REVISION_ID = 0000
/* QUALITY DATA ELEMENTS */
DATA_QUALITY_ID = 1
DATA_QUALITY_DESC = "Data calculated based on original SPICE kernels"
/* TIME DATA ELEMENTS */
SPACECRAFT_CLOCK_START_COUNT = "1/0677644026.65117"
SPACECRAFT_CLOCK_STOP_COUNT = "1/0677644289.19686"
START_TIME = 2024-10-22T02:29:27.152Z
STOP_TIME = 2024-10-22T02:32:05.771Z
/* ORBITAL DATA ELEMENTS */
ASCENDING_NODE_LONGITUDE = 87.93
MAXIMUM_RESOLUTION = 0.0447
FOOTPRINT_POINT_LATITUDE = (14.5148,14.5186,14.5241,14.5313, 14.5346,14.5395,14.5444,14.5447,14.572, 14.3347,14.0134,13.6121,13.2885,12.9627 ,12.6376,12.4725,12.3075,11.9784, 11.8116,11.5616,11.3944,11.2283,10.9749 ,10.7215,10.5523,10.3817,10.2106, 10.0397,9.86912,9.69663,9.52352,9.35001 ,9.17668,8.9185,8.65419,8.47457,8.29803 ,8.12154,7.94468,7.76592,7.59211, 7.41056,7.14507,6.96567,6.69049,6.50269 ,6.32139,6.13831,6.04634,6.01765, 6.01073,6.00442,5.99945,6.00129,5.98896 ,5.98219,5.97753,5.97387,5.9674,5.967, 5.96754,6.24447,6.42695,6.60962,6.88268 ,7.07137,7.34372,7.5251,7.70568,7.88477 ,8.06137,8.23644,8.49572,8.6707,8.84391 ,9.0188,9.19375,9.36725,9.54038,9.71426 ,9.97269,10.1443,10.3183,10.5731, 10.7431,10.9987,11.1649,11.3325,11.5014 ,11.8333,12.0816,12.4948,12.6601, 12.9867,13.4763,13.7979,14.0397,14.439, 14.5189,14.5148)
FOOTPRINT_POINT_LONGITUDE = (318.213,317.952,317.581,317.117, 316.913,316.616,316.318,316.299,316.283 ,316.276,316.266,316.253,316.243, 316.232,316.221,316.215,316.21,316.198, 316.192,316.183,316.177,316.171,316.161 ,316.152,316.146,316.139,316.133, 316.126,316.119,316.112,316.105,316.099 ,316.092,316.079,316.069,316.063, 316.055,316.048,316.04,316.032,316.023, 316.016,316.002,315.993,315.982,315.975 ,315.967,315.958,315.953,315.952,316.22 ,316.465,316.666,317.022,317.245, 317.445,317.713,317.892,318.227,318.249 ,318.257,318.255,318.254,318.253, 318.251,318.253,318.252,318.252,318.251 ,318.25,318.249,318.248,318.244,318.243 ,318.241,318.24,318.239,318.239,318.238 ,318.237,318.236,318.236,318.236, 318.235,318.235,318.234,318.232,318.232 ,318.232,318.23,318.229,318.228,318.228 ,318.227,318.226,318.225,318.225, 318.224,318.224,318.213)
ORBIT_NUMBER = 26265
ORBITAL_ECCENTRICITY = 0.57
ORBITAL_INCLINATION = 87.12
ORBITAL_SEMIMAJOR_AXIS = 8811.74
PERIAPSIS_ALTITUDE = 400.76
PERIAPSIS_ARGUMENT_ANGLE = 143.09
PERIAPSIS_TIME = 2024-10-22T02:22:45.000Z
SPACECRAFT_ORIENTATION = (0.0,-1.0,0.0)
^MEX_ORIENTATION_DESC = "MEX_ORIENTATION_DESC.TXT"
SPACECRAFT_POINTING_MODE = NADIR
^MEX_POINTING_DESC = "MEX_POINTING_DESC.TXT"
RIGHT_ASCENSION = -1e+32
DECLINATION = -1e+32
OFFSET_ANGLE = -1e+32
SPACECRAFT_SOLAR_DISTANCE = 2.28931e+08
TARGET_NAME = MARS
/* CAMERA DATA ELEMENTS */
DETECTOR_TEMPERATURE = 18.3705
FOCAL_PLANE_TEMPERATURE = 8.1755
INST_CMPRS_NAME = "DISCRETE COSINE TRANSFORMATION (DCT)"
INST_CMPRS_RATIO = 7.82366
INST_CMPRS_QUALITY = 0
INST_CMPRS_QUANTZ_TBL_ID = 0
INSTRUMENT_TEMPERATURE = 11.0301
LENS_TEMPERATURE = 8.7872
MACROPIXEL_SIZE = 2
MISSING_FRAMES = 0
PIXEL_SUBSAMPLING_FLAG = N
SIGNAL_CHAIN_ID = 3
/* RADIOMETRIC DATA ELEMENTS */
BANDWIDTH = 48.0
CENTER_FILTER_WAVELENGTH = 748.0
RADIANCE_OFFSET = 1.04992
RADIANCE_SCALING_FACTOR = 0.00370966
REFLECTANCE_SCALING_FACTOR = 0.000443684
MEX:REFLECTANCE_OFFSET = 0.125572
/* IMAGE OBJECT DEFINITIONS */
OBJECT = IMAGE
  INTERCHANGE_FORMAT = BINARY
  LINES = 10189
  LINE_SAMPLES = 2563
  SAMPLE_TYPE = UNSIGNED_INTEGER
  SAMPLE_BITS = 8
  BANDS = 1
  BAND_STORAGE_TYPE = BAND_SEQUENTIAL
  MAXIMUM = 255
  MEAN = 148.581
  MINIMUM = 1
  STANDARD_DEVIATION = 24.8026
END_OBJECT = IMAGE
/* MAP OBJECT DEFINITIONS */
OBJECT = IMAGE_MAP_PROJECTION
  ^DATA_SET_MAP_PROJECTION_CATALOG= "DSMAP.CAT"
  A_AXIS_RADIUS = 3396.0
  B_AXIS_RADIUS = 3396.0
  C_AXIS_RADIUS = 3396.0
  CENTER_LATITUDE = 0.0
  CENTER_LONGITUDE = 317.0
  COORDINATE_SYSTEM_NAME = PLANETOGRAPHIC
  COORDINATE_SYSTEM_TYPE = "BODY-FIXED ROTATING"
  EASTERNMOST_LONGITUDE = 318.257
  FIRST_STANDARD_PARALLEL = "N/A"
  LINE_FIRST_PIXEL = 1
  LINE_LAST_PIXEL = 10189
  LINE_PROJECTION_OFFSET = 17235.25
  MAP_PROJECTION_ROTATION = 0.0
  MAP_PROJECTION_TYPE = SINUSOIDAL
  MAP_RESOLUTION = 1185.42760773333
  MAP_SCALE = 0.05
  MAXIMUM_LATITUDE = 14.572
  MINIMUM_LATITUDE = 5.967
  POSITIVE_LONGITUDE_DIRECTION = EAST
  REFERENCE_LATITUDE = "N/A"
  REFERENCE_LONGITUDE = "N/A"
  SAMPLE_FIRST_PIXEL = 1
  SAMPLE_LAST_PIXEL = 2563
  SAMPLE_PROJECTION_OFFSET = 1158.75
  SECOND_STANDARD_PARALLEL = "N/A"
  WESTERNMOST_LONGITUDE = 315.952
END_OBJECT = IMAGE_MAP_PROJECTION
END
