PDS_VERSION_ID = PDS3
/* FILE DATA ELEMENTS */
RECORD_TYPE = UNDEFINED
/* POINTERS TO DATA OBJECTS */
^IMAGE = ("HQ265_0000_IR4.TIF")
/* IDENTIFICATION DATA ELEMENTS */
DATA_SET_ID = "MEX-M-HRSC-4-REFDR-MAPPROJECT-EXT9-V4.0"
DATA_SET_NAME = "MARS EXPRESS HRSC MAP PROJECTED REFDR EXTENSION9 V4.0"
DETECTOR_ID = MEX_HRSC_IR
EVENT_TYPE = "MARS-REGIONAL-COLOR-Eb-La-Ts"
INSTRUMENT_HOST_ID = MEX
INSTRUMENT_HOST_NAME = "MARS EXPRESS"
INSTRUMENT_ID = HRSC
INSTRUMENT_NAME = "HIGH RESOLUTION STEREO CAMERA"
MISSION_NAME = "MARS EXPRESS"
MISSION_PHASE_NAME = ME_Phase_50
PROCESSING_LEVEL_ID = 4
PRODUCT_CREATION_TIME = 2025-01-29T08:28:47.000Z
PRODUCT_ID = "HQ265_0000_IR4.TIF"
RELEASE_ID = 0020
REVISION_ID = 0000
/* QUALITY DATA ELEMENTS */
DATA_QUALITY_ID = 1
DATA_QUALITY_DESC = "Data calculated based on original SPICE kernels"
/* TIME DATA ELEMENTS */
SPACECRAFT_CLOCK_START_COUNT = "1/0677644026.65117"
SPACECRAFT_CLOCK_STOP_COUNT = "1/0677644289.19686"
START_TIME = 2024-10-22T02:28:06.088Z
STOP_TIME = 2024-10-22T02:30:22.895Z
/* ORBITAL DATA ELEMENTS */
ASCENDING_NODE_LONGITUDE = 87.93
MAXIMUM_RESOLUTION = 0.0405
FOOTPRINT_POINT_LATITUDE = (14.5125,14.5171,14.5231,14.5272, 14.5296,14.5316,14.5325,14.5326,14.5063 ,14.112,13.8721,13.4724,13.153,12.7474, 12.5843,12.3403,12.0145,11.8482,11.6822 ,11.516,11.3507,11.1849,11.0187,10.85, 10.5969,10.3435,10.1749,10.0063,9.8342, 9.57612,9.40451,9.23421,9.06077,8.88201 ,8.7068,8.53272,8.36321,8.18809,8.01033 ,7.83292,7.65252,7.38904,7.11359, 6.93066,6.75204,6.57695,6.3022,6.11804, 6.02598,5.97139,5.96777,5.96326,5.95117 ,5.95034,5.94722,5.9405,5.93353,5.93303 ,5.93363,6.20999,6.48568,6.66665, 6.84647,7.01853,7.28833,7.55572,7.73408 ,7.91288,8.09207,8.27291,8.45151, 8.62753,8.80228,9.06402,9.23747,9.40908 ,9.5825,9.75486,9.92704,10.0946,10.2632 ,10.4346,10.6039,10.8578,11.0235,11.272 ,11.4358,11.6067,11.8583,12.0237, 12.1866,12.3496,12.513,12.8391,13.2435, 13.563,13.8833,14.3611,14.4394,14.5125)
FOOTPRINT_POINT_LONGITUDE = (318.124,317.872,317.485,317.149, 316.897,316.611,316.409,316.392,316.376 ,316.366,316.36,316.35,316.341,316.33, 316.325,316.319,316.309,316.304,316.299 ,316.294,316.289,316.284,316.279, 316.274,316.266,316.258,316.253,316.248 ,316.242,316.234,316.228,316.223, 316.216,316.209,316.203,316.197,316.193 ,316.187,316.181,316.174,316.167, 316.159,316.146,316.139,316.133,316.128 ,316.117,316.11,316.106,316.104,316.395 ,316.705,316.957,317.268,317.52,317.791 ,318.083,318.102,318.109,318.109,318.11 ,318.11,318.111,318.115,318.116,318.117 ,318.117,318.117,318.117,318.116, 318.115,318.115,318.116,318.117,318.117 ,318.118,318.118,318.118,318.119,318.12 ,318.121,318.121,318.121,318.122, 318.124,318.125,318.126,318.125,318.125 ,318.126,318.126,318.127,318.127, 318.128,318.13,318.131,318.132,318.134, 318.134,318.124)
ORBIT_NUMBER = 26265
ORBITAL_ECCENTRICITY = 0.57
ORBITAL_INCLINATION = 87.12
ORBITAL_SEMIMAJOR_AXIS = 8811.74
PERIAPSIS_ALTITUDE = 400.76
PERIAPSIS_ARGUMENT_ANGLE = 143.09
PERIAPSIS_TIME = 2024-10-22T02:22:45.000Z
SPACECRAFT_ORIENTATION = (0.0,-1.0,0.0)
^MEX_ORIENTATION_DESC = "MEX_ORIENTATION_DESC.TXT"
SPACECRAFT_POINTING_MODE = NADIR
^MEX_POINTING_DESC = "MEX_POINTING_DESC.TXT"
RIGHT_ASCENSION = -1e+32
DECLINATION = -1e+32
OFFSET_ANGLE = -1e+32
SPACECRAFT_SOLAR_DISTANCE = 2.28931e+08
TARGET_NAME = MARS
/* CAMERA DATA ELEMENTS */
DETECTOR_TEMPERATURE = 16.9432
FOCAL_PLANE_TEMPERATURE = 8.1755
INST_CMPRS_NAME = "DISCRETE COSINE TRANSFORMATION (DCT)"
INST_CMPRS_RATIO = 7.04914
INST_CMPRS_QUALITY = 0
INST_CMPRS_QUANTZ_TBL_ID = 0
INSTRUMENT_TEMPERATURE = 11.0301
LENS_TEMPERATURE = 8.7872
MACROPIXEL_SIZE = 2
MISSING_FRAMES = 0
PIXEL_SUBSAMPLING_FLAG = N
SIGNAL_CHAIN_ID = 3
/* RADIOMETRIC DATA ELEMENTS */
BANDWIDTH = 81.0
CENTER_FILTER_WAVELENGTH = 955.5
RADIANCE_OFFSET = 0.919937
RADIANCE_SCALING_FACTOR = 0.00382297
REFLECTANCE_SCALING_FACTOR = 0.000432259
MEX:REFLECTANCE_OFFSET = 0.104016
/* IMAGE OBJECT DEFINITIONS */
OBJECT = IMAGE
  INTERCHANGE_FORMAT = BINARY
  LINES = 10189
  LINE_SAMPLES = 2563
  SAMPLE_TYPE = UNSIGNED_INTEGER
  SAMPLE_BITS = 8
  BANDS = 1
  BAND_STORAGE_TYPE = BAND_SEQUENTIAL
  MAXIMUM = 255
  MEAN = 150.757
  MINIMUM = 1
  STANDARD_DEVIATION = 24.2501
END_OBJECT = IMAGE
/* MAP OBJECT DEFINITIONS */
OBJECT = IMAGE_MAP_PROJECTION
  ^DATA_SET_MAP_PROJECTION_CATALOG= "DSMAP.CAT"
  A_AXIS_RADIUS = 3396.0
  B_AXIS_RADIUS = 3396.0
  C_AXIS_RADIUS = 3396.0
  CENTER_LATITUDE = 0.0
  CENTER_LONGITUDE = 317.0
  COORDINATE_SYSTEM_NAME = PLANETOGRAPHIC
  COORDINATE_SYSTEM_TYPE = "BODY-FIXED ROTATING"
  EASTERNMOST_LONGITUDE = 318.134
  FIRST_STANDARD_PARALLEL = "N/A"
  LINE_FIRST_PIXEL = 1
  LINE_LAST_PIXEL = 10189
  LINE_PROJECTION_OFFSET = 17235.25
  MAP_PROJECTION_ROTATION = 0.0
  MAP_PROJECTION_TYPE = SINUSOIDAL
  MAP_RESOLUTION = 1185.42760773333
  MAP_SCALE = 0.05
  MAXIMUM_LATITUDE = 14.5326
  MINIMUM_LATITUDE = 5.93303
  POSITIVE_LONGITUDE_DIRECTION = EAST
  REFERENCE_LATITUDE = "N/A"
  REFERENCE_LONGITUDE = "N/A"
  SAMPLE_FIRST_PIXEL = 1
  SAMPLE_LAST_PIXEL = 2563
  SAMPLE_PROJECTION_OFFSET = 1158.75
  SECOND_STANDARD_PARALLEL = "N/A"
  WESTERNMOST_LONGITUDE = 316.104
END_OBJECT = IMAGE_MAP_PROJECTION
END
