PDS_VERSION_ID = PDS3
/* FILE DATA ELEMENTS */
RECORD_TYPE = UNDEFINED
/* POINTERS TO DATA OBJECTS */
^IMAGE = ("HQ258_0000_S24.TIF")
/* IDENTIFICATION DATA ELEMENTS */
DATA_SET_ID = "MEX-M-HRSC-4-REFDR-MAPPROJECT-EXT9-V4.0"
DATA_SET_NAME = "MARS EXPRESS HRSC MAP PROJECTED REFDR EXTENSION9 V4.0"
DETECTOR_ID = MEX_HRSC_S2
EVENT_TYPE = "MARS-LOCAL-CARTOGRAPHY-Fl-Tc-Ot"
INSTRUMENT_HOST_ID = MEX
INSTRUMENT_HOST_NAME = "MARS EXPRESS"
INSTRUMENT_ID = HRSC
INSTRUMENT_NAME = "HIGH RESOLUTION STEREO CAMERA"
MISSION_NAME = "MARS EXPRESS"
MISSION_PHASE_NAME = ME_Phase_50
PROCESSING_LEVEL_ID = 4
PRODUCT_CREATION_TIME = 2025-01-29T08:28:47.000Z
PRODUCT_ID = "HQ258_0000_S24.TIF"
RELEASE_ID = 0020
REVISION_ID = 0000
/* QUALITY DATA ELEMENTS */
DATA_QUALITY_ID = 1
DATA_QUALITY_DESC = "Data calculated based on original SPICE kernels"
/* TIME DATA ELEMENTS */
SPACECRAFT_CLOCK_START_COUNT = "1/0677467815.64185"
SPACECRAFT_CLOCK_STOP_COUNT = "1/0677468030.62982"
START_TIME = 2024-10-20T01:32:25.026Z
STOP_TIME = 2024-10-20T01:34:40.523Z
/* ORBITAL DATA ELEMENTS */
ASCENDING_NODE_LONGITUDE = 88.05
MAXIMUM_RESOLUTION = 0.0185
FOOTPRINT_POINT_LATITUDE = (26.1344,26.1388,26.1431,26.1473, 26.1516,26.1558,26.1609,26.1611,26.2134 ,25.749,25.4401,25.1315,24.9004,24.6645 ,24.5071,24.3495,24.1136,23.8778, 23.7206,23.5638,23.2512,23.0915,22.9315 ,22.7717,22.5329,22.3736,22.2146, 21.9765,21.8177,21.6559,21.4129,21.2508 ,21.0892,20.9279,20.7664,20.5245, 20.2788,20.1142,19.9499,19.7851,19.6198 ,19.4557,19.2926,19.1263,18.9595, 18.7927,18.5427,18.293,18.2097,18.1919, 18.1803,18.1716,18.1638,18.1576,18.1506 ,18.1502,18.1502,18.3167,18.4836, 18.7344,18.9015,19.0686,19.2357,19.4017 ,19.5641,19.7283,19.8927,20.0572, 20.2221,20.3871,20.5498,20.7115,20.8732 ,21.0352,21.2784,21.4407,21.6033, 21.7656,21.9246,22.0838,22.243,22.4825, 22.6423,22.8824,23.0424,23.2026,23.5159 ,23.6728,23.8299,24.0659,24.2233, 24.3808,24.6178,24.932,25.2407,25.55, 25.8598,26.0922,26.1697,26.1344)
FOOTPRINT_POINT_LONGITUDE = (312.91,312.648,312.386,312.123,311.859 ,311.595,311.262,311.246,311.214, 311.213,311.212,311.211,311.209,311.208 ,311.207,311.206,311.205,311.203, 311.202,311.201,311.198,311.197,311.195 ,311.194,311.191,311.189,311.187, 311.184,311.182,311.18,311.177,311.175, 311.173,311.17,311.168,311.164,311.16, 311.158,311.155,311.153,311.15,311.148, 311.145,311.141,311.138,311.135,311.131 ,311.126,311.124,311.124,311.647, 312.024,312.382,312.615,312.918,312.935 ,312.944,312.944,312.943,312.943, 312.942,312.942,312.941,312.941,312.94, 312.94,312.939,312.939,312.938,312.938, 312.938,312.937,312.937,312.936,312.936 ,312.935,312.935,312.934,312.934, 312.933,312.933,312.932,312.932,312.931 ,312.931,312.93,312.929,312.929,312.929 ,312.928,312.927,312.927,312.926, 312.925,312.925,312.924,312.923,312.922 ,312.922,312.91)
ORBIT_NUMBER = 26258
ORBITAL_ECCENTRICITY = 0.57
ORBITAL_INCLINATION = 87.12
ORBITAL_SEMIMAJOR_AXIS = 8814.33
PERIAPSIS_ALTITUDE = 400.05
PERIAPSIS_ARGUMENT_ANGLE = 144.3
PERIAPSIS_TIME = 2024-10-20T01:29:14.000Z
SPACECRAFT_ORIENTATION = (0.0,-1.0,0.0)
^MEX_ORIENTATION_DESC = "MEX_ORIENTATION_DESC.TXT"
SPACECRAFT_POINTING_MODE = ACROSSTRACK
^MEX_POINTING_DESC = "MEX_POINTING_DESC.TXT"
RIGHT_ASCENSION = -1e+32
DECLINATION = -1e+32
OFFSET_ANGLE = -0.265
SPACECRAFT_SOLAR_DISTANCE = 2.28537e+08
TARGET_NAME = MARS
/* CAMERA DATA ELEMENTS */
DETECTOR_TEMPERATURE = 18.3705
FOCAL_PLANE_TEMPERATURE = 9.195
INST_CMPRS_NAME = "DISCRETE COSINE TRANSFORMATION (DCT)"
INST_CMPRS_RATIO = 7.60322
INST_CMPRS_QUALITY = 0
INST_CMPRS_QUANTZ_TBL_ID = 0
INSTRUMENT_TEMPERATURE = 12.2535
LENS_TEMPERATURE = 9.6028
MACROPIXEL_SIZE = 1
MISSING_FRAMES = 0
PIXEL_SUBSAMPLING_FLAG = N
SIGNAL_CHAIN_ID = 1
/* RADIOMETRIC DATA ELEMENTS */
BANDWIDTH = 178.0
CENTER_FILTER_WAVELENGTH = 679.0
RADIANCE_OFFSET = 4.28394
RADIANCE_SCALING_FACTOR = 0.00792797
REFLECTANCE_SCALING_FACTOR = 0.000219283
MEX:REFLECTANCE_OFFSET = 0.118491
/* IMAGE OBJECT DEFINITIONS */
OBJECT = IMAGE
  INTERCHANGE_FORMAT = BINARY
  LINES = 38099
  LINE_SAMPLES = 7930
  SAMPLE_TYPE = UNSIGNED_INTEGER
  SAMPLE_BITS = 8
  BANDS = 1
  BAND_STORAGE_TYPE = BAND_SEQUENTIAL
  MAXIMUM = 255
  MEAN = 139.032
  MINIMUM = 1
  STANDARD_DEVIATION = 35.5023
END_OBJECT = IMAGE
/* MAP OBJECT DEFINITIONS */
OBJECT = IMAGE_MAP_PROJECTION
  ^DATA_SET_MAP_PROJECTION_CATALOG= "DSMAP.CAT"
  A_AXIS_RADIUS = 3396.0
  B_AXIS_RADIUS = 3396.0
  C_AXIS_RADIUS = 3396.0
  CENTER_LATITUDE = 0.0
  CENTER_LONGITUDE = 312.0
  COORDINATE_SYSTEM_NAME = PLANETOGRAPHIC
  COORDINATE_SYSTEM_TYPE = "BODY-FIXED ROTATING"
  EASTERNMOST_LONGITUDE = 312.944
  FIRST_STANDARD_PARALLEL = "N/A"
  LINE_FIRST_PIXEL = 1
  LINE_LAST_PIXEL = 38099
  LINE_PROJECTION_OFFSET = 124066.0
  MAP_PROJECTION_ROTATION = 0.0
  MAP_PROJECTION_TYPE = SINUSOIDAL
  MAP_RESOLUTION = 4741.71043093333
  MAP_SCALE = 0.0125
  MAXIMUM_LATITUDE = 26.2134
  MINIMUM_LATITUDE = 18.1502
  POSITIVE_LONGITUDE_DIRECTION = EAST
  REFERENCE_LATITUDE = "N/A"
  REFERENCE_LONGITUDE = "N/A"
  SAMPLE_FIRST_PIXEL = 1
  SAMPLE_LAST_PIXEL = 7930
  SAMPLE_PROJECTION_OFFSET = 3843.0
  SECOND_STANDARD_PARALLEL = "N/A"
  WESTERNMOST_LONGITUDE = 311.124
END_OBJECT = IMAGE_MAP_PROJECTION
END
