PDS_VERSION_ID = PDS3
/* FILE DATA ELEMENTS */
RECORD_TYPE = UNDEFINED
/* POINTERS TO DATA OBJECTS */
^IMAGE = ("HQ257_0000_S24.TIF")
/* IDENTIFICATION DATA ELEMENTS */
DATA_SET_ID = "MEX-M-HRSC-4-REFDR-MAPPROJECT-EXT9-V4.0"
DATA_SET_NAME = "MARS EXPRESS HRSC MAP PROJECTED REFDR EXTENSION9 V4.0"
DETECTOR_ID = MEX_HRSC_S2
EVENT_TYPE = "MARS-REGIONAL-MAPPING-Im-Fl-Gl"
INSTRUMENT_HOST_ID = MEX
INSTRUMENT_HOST_NAME = "MARS EXPRESS"
INSTRUMENT_ID = HRSC
INSTRUMENT_NAME = "HIGH RESOLUTION STEREO CAMERA"
MISSION_NAME = "MARS EXPRESS"
MISSION_PHASE_NAME = ME_Phase_50
PROCESSING_LEVEL_ID = 4
PRODUCT_CREATION_TIME = 2025-01-29T08:28:47.000Z
PRODUCT_ID = "HQ257_0000_S24.TIF"
RELEASE_ID = 0020
REVISION_ID = 0000
/* QUALITY DATA ELEMENTS */
DATA_QUALITY_ID = 1
DATA_QUALITY_DESC = "Data calculated based on original SPICE kernels"
/* TIME DATA ELEMENTS */
SPACECRAFT_CLOCK_START_COUNT = "1/0677442429.00332"
SPACECRAFT_CLOCK_STOP_COUNT = "1/0677442691.08173"
START_TIME = 2024-10-19T18:29:16.040Z
STOP_TIME = 2024-10-19T18:32:20.679Z
/* ORBITAL DATA ELEMENTS */
ASCENDING_NODE_LONGITUDE = 88.07
MAXIMUM_RESOLUTION = 0.0341
FOOTPRINT_POINT_LATITUDE = (41.2797,41.2751,41.2713,41.2642, 41.2592,41.2589,41.3281,40.9749,40.7372 ,40.4986,40.2522,40.017,39.6639,39.4288 ,39.0778,38.8409,38.377,38.1384,37.9012 ,37.6669,37.3152,36.966,36.6168,36.3821 ,36.1491,35.917,35.6848,35.452,35.2198, 34.8722,34.6393,34.4083,34.1764,33.9471 ,33.7135,33.4828,33.2516,32.9061, 32.6757,32.4448,32.215,31.9855,31.7556, 31.3049,31.0734,30.837,30.3813,29.8123, 29.6982,29.6543,29.6539,29.6512,29.6508 ,29.6491,29.6489,29.6494,29.9925, 30.2218,30.6791,30.9084,31.1374,31.4815 ,31.8267,32.0567,32.2922,32.6425, 33.0973,33.3285,33.676,34.0238,34.2558, 34.4874,34.7188,34.9514,35.1834,35.416, 35.6486,35.8809,36.3463,36.5848,36.8206 ,37.1724,37.403,37.6377,37.873,38.1094, 38.3436,38.5778,38.8126,39.0483,39.2842 ,39.6358,39.8699,40.1086,40.4677, 40.7089,40.9404,41.1769,41.2958, 41.2797)
FOOTPRINT_POINT_LONGITUDE = (55.3073,54.7508,54.3918,53.8179, 53.4765,53.4585,53.4226,53.4377,53.4483 ,53.4592,53.4731,53.4821,53.4954, 53.5039,53.5156,53.5244,53.5374,53.5463 ,53.5545,53.5614,53.5716,53.5804,53.589 ,53.5952,53.6007,53.6056,53.6105, 53.6155,53.6202,53.6267,53.6313,53.6352 ,53.6392,53.6422,53.6466,53.6499, 53.6533,53.6578,53.6606,53.6636,53.666, 53.6684,53.6707,53.6719,53.6746,53.679, 53.6815,53.684,53.6846,53.6847,54.1708, 54.6239,54.98,55.3358,55.352,55.3578, 55.3579,55.358,55.3576,55.3575,55.3572, 55.3568,55.3565,55.3562,55.3577,55.3589 ,55.3557,55.3553,55.3548,55.3543, 55.3538,55.3532,55.3524,55.3519,55.3511 ,55.3505,55.3497,55.3488,55.347,55.3481 ,55.3481,55.3473,55.3452,55.3445,55.344 ,55.3438,55.3427,55.3415,55.3405, 55.3397,55.3389,55.3367,55.335,55.335, 55.3353,55.336,55.333,55.3318,55.3314, 55.3073)
ORBIT_NUMBER = 26257
ORBITAL_ECCENTRICITY = 0.57
ORBITAL_INCLINATION = 87.12
ORBITAL_SEMIMAJOR_AXIS = 8821.65
PERIAPSIS_ALTITUDE = 399.57
PERIAPSIS_ARGUMENT_ANGLE = 144.47
PERIAPSIS_TIME = 2024-10-19T18:30:10.000Z
SPACECRAFT_ORIENTATION = (0.0,-1.0,0.0)
^MEX_ORIENTATION_DESC = "MEX_ORIENTATION_DESC.TXT"
SPACECRAFT_POINTING_MODE = NADIR
^MEX_POINTING_DESC = "MEX_POINTING_DESC.TXT"
RIGHT_ASCENSION = -1e+32
DECLINATION = -1e+32
OFFSET_ANGLE = -1e+32
SPACECRAFT_SOLAR_DISTANCE = 2.2848e+08
TARGET_NAME = MARS
/* CAMERA DATA ELEMENTS */
DETECTOR_TEMPERATURE = 18.1666
FOCAL_PLANE_TEMPERATURE = 8.5833
INST_CMPRS_NAME = "DISCRETE COSINE TRANSFORMATION (DCT)"
INST_CMPRS_RATIO = 10.0994
INST_CMPRS_QUALITY = 0
INST_CMPRS_QUANTZ_TBL_ID = 0
INSTRUMENT_TEMPERATURE = 11.0301
LENS_TEMPERATURE = 8.7872
MACROPIXEL_SIZE = 2
MISSING_FRAMES = 0
PIXEL_SUBSAMPLING_FLAG = N
SIGNAL_CHAIN_ID = 1
/* RADIOMETRIC DATA ELEMENTS */
BANDWIDTH = 178.0
CENTER_FILTER_WAVELENGTH = 679.0
RADIANCE_OFFSET = 2.93718
RADIANCE_SCALING_FACTOR = 0.0189714
REFLECTANCE_SCALING_FACTOR = 0.000524476
MEX:REFLECTANCE_OFFSET = 0.0812002
/* IMAGE OBJECT DEFINITIONS */
OBJECT = IMAGE
  INTERCHANGE_FORMAT = BINARY
  LINES = 27740
  LINE_SAMPLES = 3885
  SAMPLE_TYPE = UNSIGNED_INTEGER
  SAMPLE_BITS = 8
  BANDS = 1
  BAND_STORAGE_TYPE = BAND_SEQUENTIAL
  MAXIMUM = 255
  MEAN = 125.152
  MINIMUM = 1
  STANDARD_DEVIATION = 23.9491
END_OBJECT = IMAGE
/* MAP OBJECT DEFINITIONS */
OBJECT = IMAGE_MAP_PROJECTION
  ^DATA_SET_MAP_PROJECTION_CATALOG= "DSMAP.CAT"
  A_AXIS_RADIUS = 3396.0
  B_AXIS_RADIUS = 3396.0
  C_AXIS_RADIUS = 3396.0
  CENTER_LATITUDE = 0.0
  CENTER_LONGITUDE = 54.0
  COORDINATE_SYSTEM_NAME = PLANETOGRAPHIC
  COORDINATE_SYSTEM_TYPE = "BODY-FIXED ROTATING"
  EASTERNMOST_LONGITUDE = 55.3589
  FIRST_STANDARD_PARALLEL = "N/A"
  LINE_FIRST_PIXEL = 1
  LINE_LAST_PIXEL = 27740
  LINE_PROJECTION_OFFSET = 97993.75
  MAP_PROJECTION_ROTATION = 0.0
  MAP_PROJECTION_TYPE = SINUSOIDAL
  MAP_RESOLUTION = 2370.85521546667
  MAP_SCALE = 0.025
  MAXIMUM_LATITUDE = 41.3281
  MINIMUM_LATITUDE = 29.6489
  POSITIVE_LONGITUDE_DIRECTION = EAST
  REFERENCE_LATITUDE = "N/A"
  REFERENCE_LONGITUDE = "N/A"
  SAMPLE_FIRST_PIXEL = 1
  SAMPLE_LAST_PIXEL = 3885
  SAMPLE_PROJECTION_OFFSET = 1076.25
  SECOND_STANDARD_PARALLEL = "N/A"
  WESTERNMOST_LONGITUDE = 53.4226
END_OBJECT = IMAGE_MAP_PROJECTION
END
